BEGIN:VCALENDAR
VERSION:2.0
PRODID:-//wp-events-plugin.com//7.0.4//EN
TZID:Europe/Vienna
X-WR-TIMEZONE:Europe/Vienna
BEGIN:VEVENT
UID:2270@roswithaschoen.com
DTSTART;TZID=Europe/Vienna;VALUE=DATE:20260925
DTEND;TZID=Europe/Vienna;VALUE=DATE:20260928
DTSTAMP:20251004T030557Z
URL:https://www.roswithaschoen.com/termine/yoga-mehr-dolce-vita-in-bella-i
 talia-casa-bea-grado/
SUMMARY:Yoga & Mehr - Dolce Vita in Bella Italia\, Casa Bea Grado
DESCRIPTION:Yoga &amp\; Mehr - Dolce Vita in Bella Italia\nCasa Bea Grado\n
 Ein Wochenende zum Aufatmen\, Auftanken und Aufblühen.\nIn der idyllische
 n Lagunenlandschaft von Grado erwartet dich eine wohltuende Auszeit:\nYoga
 \, Dolce Vita\, inspirierende Impulse und mediterraner Genuss.\nGönn dir 
 drei Tage voller Leichtigkeit\, Lebendigkeit und neuer Energie.Erlebe\, wi
 e dich die stimmige Kombination aus Yoga\, Dolce Vita und Bewusstseinsarbe
 it sanft in deine Mitte zurückführt  und dir Klarheit\, Kraft und Leben
 sfreude schenkt. Lerne dabei auch Land &amp\; Leute kennen und mach vielle
 icht die eine oder andere neue Erfahrung.\nDas erwartet dich:\n     Bel
 ebendes Morgen-Yoga – küsst die Lebensgeister wach\, stärkt Körper &a
 mp\; Geist\n     Sanftes Nachmittags-Yoga – löst Spannungen\, schenk
 t Ruhe und nährt dein Wesen\n     Impuls-Abend – entdecke was dich e
 inzigartig macht - Human Design erleben\n     Meditative Momente &amp\;
  Coaching-Impulse – für innere Balance\, Tiefe und Verbundenheit\n   
   Zeit für dich &amp\; fröhliche Gemeinschaft – getragen von unbändi
 ger Lebensfreude\nZwischen den Einheiten bleibt viel Raum\, um die traumha
 fte Umgebung und das mediterrane Flair zu genießen. Verweile im traumhaft
  schönen Garten der Casa Bea\, verbringe Zeit am Strand\, erkunde die Umg
 ebung und genieße italienische Köstlichkeiten.\nDieses Wochenende ist f
 ür Yoga Lovers und Yoga Beginners geeignet. Die intuitive Verbindung aus 
 Bewegung\, Ruhe\, Inspiration und Dolce Vita schenkt dir spürbar neue Lei
 chtigkeit und Lebensenergie.\n„einfach SCHÖN“ Seminare stehen für pe
 rsönliche Begleitung\, Tiefe und besondere Erlebnisse. Damit echte Verbin
 dung entstehen kann\, ist die Teilnehmerzahl bewusst auf maximal 16 Person
 en begrenzt.\nProgramm:\nFreitag:\n\n 	individuelle Anreise &amp\; Check i
 n  (14:00 - 17:00 Uhr)\n 	17:30 Uhr: Begrüßungs-Aperitif &amp\; Kennenl
 ernen\n 	18:00 Uhr: Bootsfahrt zum Sonnenuntergang - Yoga am Meer\ndanach 
 köstliches Fingerfood\, gesellige gemeinsame Zeit und Rückfahrt unterm S
 ternenhimmel\n\nSamstag:\n\n\n 	08:00 Uhr: Morgen-Yoga in der Casa Bea\n 	
 09:30 Uhr:  gemeinsames gemütliches Frühstück\n 	Zeit für dich: Seele
  baumeln lassen\, Meereswellen lauschen\, Gegend erkunden\, Dolce Vita ode
 r süßen Nichtstun genießen\n 	17:00 Uhr: Human Design Impuls-Abend - en
 tdecke deinen einzigartigen energetischen Fingerabdruck\n 	19:00 Uhr: Cuci
 na Italiana pur ... köstliches italienisches Abendessen in der Casa Bea v
 on unserem Privatkoch Andrea (Meeresfrüchte &amp\; vegetarisch)\n\nSonnta
 g:\n\n 	08:00 Uhr:  Dragon Dance Yoga in der Casa Bea\n 	09:30 Uhr: gemei
 nsames gemütliches Frühstück\n 	Individuelle Abreise oder Möglichkeit 
 der Verlängerung\n\nEin Wochenende für Herz\, Seele und Lebensfreude.\n\
 n********\nDeine Investition:\n\n 	Seminargebühr: \nEUR  190\,00  (exk
 l. Unterkunft und Dolce Vita Rahmenprogramm)\n 	Dolce Vita Rahmenprogramm\
 nEUR 170\,00 pro Person (EUR 150\,00 für Vegetarier)\nIm Preis enthalten:
 \n\n 	Bootsausfahrt am Freitag zu einer Insel vor Grado und Fingerfood unt
 er dem Sternenhimmel\n 	gemeinsames Italienisches Abendessen inkl. Geträn
 ke am Samstag in der Casa Bea\n\n\n\nBitte bezahle den Betrag für das Dol
 ce Vita Rahmenprogramm direkt vor Ort bei Beatrix in der Casa Bea.\n\n 	De
 ine Unterkunft in der Casa Bea\, Grado\nDein  Zimmer buche bitte direkt i
 n der Casa Bea bei Beatrix Eichhorn (gebürtige Österreicherin) unter dem
  Kennwort "einfach SCHÖN":  unter booking@casabeagrado.it   oder tele
 fonisch +39 371 45 26 937\n 	Preis für 2 Nächte im DZ inkl. Frühstück\
 , Steuern &amp\; Kurtaxe\nEUR 123\,20 pro Person\n 	\n\n&nbsp\;\n\nVeranst
 altungsort:\nCasa Bea Grado\nBeatrix Eichhorn\nLocalitá Zemole 1\nIT-3407
 3 Fossalon di Grado\nwww.casabeagrado.it
ATTACH;FMTTYPE=image/jpeg:https://www.roswithaschoen.com/wp-content/upload
 s/2025/10/Kopie-von-Kopie-von-Kopie-von-Kopie-von-Kopie-von-Adventures-in-
 America-2-e1759494222421.png
CATEGORIES:Inner Work,Specials,Yoga,Yoga Auszeit Reisen
LOCATION:Casa Bea Grado\, Localitá Zemole 1\, Fossalon di Grado\, 34073\, 
 Italien
X-APPLE-STRUCTURED-LOCATION;VALUE=URI;X-ADDRESS=Localitá Zemole 1\, Fossal
 on di Grado\, 34073\, Italien;X-APPLE-RADIUS=100;X-TITLE=Casa Bea Grado:ge
 o:0,0
END:VEVENT
BEGIN:VTIMEZONE
TZID:Europe/Vienna
X-LIC-LOCATION:Europe/Vienna
BEGIN:DAYLIGHT
DTSTART:20260329T030000
TZOFFSETFROM:+0100
TZOFFSETTO:+0200
TZNAME:CEST
END:DAYLIGHT
END:VTIMEZONE
END:VCALENDAR