BEGIN:VCALENDAR
VERSION:2.0
PRODID:-//wp-events-plugin.com//7.0.4//EN
TZID:Europe/Vienna
X-WR-TIMEZONE:Europe/Vienna
BEGIN:VEVENT
UID:2132@roswithaschoen.com
DTSTART;TZID=Europe/Vienna:20251009T184500
DTEND;TZID=Europe/Vienna:20251009T194500
DTSTAMP:20250920T182017Z
URL:https://www.roswithaschoen.com/termine/yoga-fuer-mehr-lebensfreude-gab
 ersdorf-2025-10-09/
SUMMARY:Yoga für mehr Lebensfreude\, Gabersdorf
DESCRIPTION:
ATTACH;FMTTYPE=image/jpeg:https://www.roswithaschoen.com/wp-content/upload
 s/2025/09/Yoga-Gabersdorf-1-e1758392409727.jpg
CATEGORIES:Yoga
LOCATION:Sportkulturhaus Gabersdorf\, Gabersdorf 121 \, Gabersdorf \, 8424 
 \, Österreich
X-APPLE-STRUCTURED-LOCATION;VALUE=URI;X-ADDRESS=Gabersdorf 121 \, Gabersdor
 f \, 8424 \, Österreich;X-APPLE-RADIUS=100;X-TITLE=Sportkulturhaus Gabers
 dorf:geo:0,0
END:VEVENT
BEGIN:VTIMEZONE
TZID:Europe/Vienna
X-LIC-LOCATION:Europe/Vienna
BEGIN:DAYLIGHT
DTSTART:20250330T030000
TZOFFSETFROM:+0100
TZOFFSETTO:+0200
TZNAME:CEST
END:DAYLIGHT
END:VTIMEZONE
END:VCALENDAR