BEGIN:VCALENDAR
VERSION:2.0
PRODID:-//wp-events-plugin.com//7.0.4//EN
TZID:Europe/Vienna
X-WR-TIMEZONE:Europe/Vienna
BEGIN:VEVENT
UID:2473@roswithaschoen.com
DTSTART;TZID=Europe/Vienna:20260212T184500
DTEND;TZID=Europe/Vienna:20260212T194500
DTSTAMP:20260130T074624Z
URL:https://www.roswithaschoen.com/termine/yoga-fuer-mehr-balance-lebensfr
 eude-gabersdorf-2026-02-12/
SUMMARY:Yoga für mehr Balance & Lebensfreude\, Gabersdorf
DESCRIPTION:
ATTACH;FMTTYPE=image/jpeg:https://www.roswithaschoen.com/wp-content/upload
 s/2026/01/IMG_7844-e1769759165693.jpg
CATEGORIES:Yoga
LOCATION:Sportkulturhaus Gabersdorf\, Gabersdorf 121 \, Gabersdorf \, 8424 
 \, Österreich
X-APPLE-STRUCTURED-LOCATION;VALUE=URI;X-ADDRESS=Gabersdorf 121 \, Gabersdor
 f \, 8424 \, Österreich;X-APPLE-RADIUS=100;X-TITLE=Sportkulturhaus Gabers
 dorf:geo:0,0
END:VEVENT
BEGIN:VTIMEZONE
TZID:Europe/Vienna
X-LIC-LOCATION:Europe/Vienna
BEGIN:STANDARD
DTSTART:20251026T020000
TZOFFSETFROM:+0200
TZOFFSETTO:+0100
TZNAME:CET
END:STANDARD
END:VTIMEZONE
END:VCALENDAR