BEGIN:VCALENDAR
VERSION:2.0
PRODID:-//wp-events-plugin.com//7.0.4//EN
TZID:Europe/Vienna
X-WR-TIMEZONE:Europe/Vienna
BEGIN:VEVENT
UID:2529@roswithaschoen.com
DTSTART;TZID=Europe/Vienna:20260528T184500
DTEND;TZID=Europe/Vienna:20260528T194500
DTSTAMP:20260407T141957Z
URL:https://www.roswithaschoen.com/termine/yoga-fuer-mehr-balance-lebensfr
 eude-gabersdorf-2-2026-04-09-2026-04-16-2026-04-23-2026-04-30-2026-05-07-2
 026-05-14-2026-05-21-2026-05-28/
SUMMARY:Yoga für mehr Balance & Lebensfreude\, Gabersdorf
DESCRIPTION:
ATTACH;FMTTYPE=image/jpeg:https://www.roswithaschoen.com/wp-content/upload
 s/2026/04/IMG_8236-2.jpg
CATEGORIES:Yoga
LOCATION:Sportkulturhaus Gabersdorf\, Gabersdorf 121 \, Gabersdorf \, 8424 
 \, Österreich
X-APPLE-STRUCTURED-LOCATION;VALUE=URI;X-ADDRESS=Gabersdorf 121 \, Gabersdor
 f \, 8424 \, Österreich;X-APPLE-RADIUS=100;X-TITLE=Sportkulturhaus Gabers
 dorf:geo:0,0
END:VEVENT
BEGIN:VTIMEZONE
TZID:Europe/Vienna
X-LIC-LOCATION:Europe/Vienna
BEGIN:DAYLIGHT
DTSTART:20260329T030000
TZOFFSETFROM:+0100
TZOFFSETTO:+0200
TZNAME:CEST
END:DAYLIGHT
END:VTIMEZONE
END:VCALENDAR