BEGIN:VCALENDAR
VERSION:2.0
PRODID:-//wp-events-plugin.com//7.2.3.1//EN
TZID:Europe/Vienna
X-WR-TIMEZONE:Europe/Vienna
BEGIN:VEVENT
UID:1322@roswithaschoen.com
DTSTART;TZID=Europe/Vienna:20240715T080000
DTEND;TZID=Europe/Vienna:20240715T090000
DTSTAMP:20240619T110803Z
URL:https://www.roswithaschoen.com/termine/yoga-am-morgen-vertreibt-kummer
 -und-sorgen-heimschuh-3-2024-07-15/
SUMMARY:YOGA am Morgen vertreibt Kummer und Sorgen\, Heimschuh
DESCRIPTION:
ATTACH;FMTTYPE=image/jpeg:https://www.roswithaschoen.com/wp-content/upload
 s/2024/06/Yoga-Heimschuh-Juli-Aug.png
CATEGORIES:Yoga
LOCATION:body - face & soul\, Sonnenweg 1\, Heimschuh\, 8451\, Österreich
X-APPLE-STRUCTURED-LOCATION;VALUE=URI;X-ADDRESS=Sonnenweg 1\, Heimschuh\, 8
 451\, Österreich;X-APPLE-RADIUS=100;X-TITLE=body - face & soul:geo:0,0
END:VEVENT
BEGIN:VTIMEZONE
TZID:Europe/Vienna
X-LIC-LOCATION:Europe/Vienna
BEGIN:DAYLIGHT
DTSTART:20240331T030000
TZOFFSETFROM:+0100
TZOFFSETTO:+0200
TZNAME:CEST
END:DAYLIGHT
END:VTIMEZONE
END:VCALENDAR