BEGIN:VCALENDAR
VERSION:2.0
PRODID:-//wp-events-plugin.com//7.2.3.1//EN
TZID:Europe/Vienna
X-WR-TIMEZONE:Europe/Vienna
BEGIN:VEVENT
UID:1886@roswithaschoen.com
DTSTART;TZID=Europe/Vienna:20250525T093000
DTEND;TZID=Europe/Vienna:20250525T103000
DTSTAMP:20250512T081805Z
URL:https://www.roswithaschoen.com/termine/yin-yoga-pure-entspannung-und-r
 egeneration-lani-leibnitz/
SUMMARY:Yin Yoga - für emotinale Balance\,  LANI Leibnitz
DESCRIPTION:Pure Entspannung und Regeneration \nSanfte\, lang gehaltene De
 hnungen ohne Muskelanspannung helfen dir\, zur Ruhe zu kommen\, dein Nerve
 nsystem zu entspannen und deinen Körper flexibel zu halten.\n\nMit Unters
 tützung von Hilfsmitteln sinkst du in die Haltungen\, tiefe Entspannung u
 nd ein Gefühl von innerer Balance und Gelassenheit breiten sich aus.\n\nE
 ine ideale Einheit zum Loslassen und Kraft schöpfen und eine optimale Erg
 änzung zu kraftvollem Vorkaut.\n\nDie Einheit ist für Yoga-Beginners und
  Yoga-Lovers geeignet.\n\nAnmeldung direkt bei LANI Leibnitz 
ATTACH;FMTTYPE=image/jpeg:https://www.roswithaschoen.com/wp-content/upload
 s/2025/03/Yoga-Lani-e1741692708448.jpg
CATEGORIES:Yoga
LOCATION:LANI PilatesClub\, Leibnitz\, Am Kögel 1\, 3. OG\, Leibnitz \, St
 eiermark \, 8430 \, Österreich
X-APPLE-STRUCTURED-LOCATION;VALUE=URI;X-ADDRESS=Am Kögel 1\, 3. OG\, Leibn
 itz \, Steiermark \, 8430 \, Österreich;X-APPLE-RADIUS=100;X-TITLE=LANI P
 ilatesClub\, Leibnitz:geo:0,0
END:VEVENT
BEGIN:VTIMEZONE
TZID:Europe/Vienna
X-LIC-LOCATION:Europe/Vienna
BEGIN:DAYLIGHT
DTSTART:20250330T030000
TZOFFSETFROM:+0100
TZOFFSETTO:+0200
TZNAME:CEST
END:DAYLIGHT
END:VTIMEZONE
END:VCALENDAR