BEGIN:VCALENDAR
VERSION:2.0
PRODID:-//wp-events-plugin.com//7.0.4//EN
TZID:Europe/Vienna
X-WR-TIMEZONE:Europe/Vienna
BEGIN:VEVENT
UID:2449@roswithaschoen.com
DTSTART;TZID=Europe/Vienna:20260818T190000
DTEND;TZID=Europe/Vienna:20260818T201500
DTSTAMP:20251228T204553Z
URL:https://www.roswithaschoen.com/termine/yin-yoga-lani-leibnitz-2-2026-0
 8-18/
SUMMARY:Yin Yoga\, LANI Leibnitz
DESCRIPTION:Pure Entspannung und Regeneration\n\nSanfte\, lang gehaltene De
 hnungen ohne Muskelanspannung helfen dir\, zur Ruhe zu kommen\, dein Nerve
 nsystem zu entspannen und dein Körper flexibel zu halten. Mit Unterstütz
 ung von Hilfsmitteln sinkst du in die Haltung\, tiefe Entspannung und ein 
 Gefühl von innerer Balance und Gelassenheit breiten sich aus. Eine ideale
  Einheit zum Loslassen und Kraft schöpfen und eine optionale Ergänzung z
 u kraftvollen Workout.\n\nDie Einheit findet ab 4 TeilnehmerInnen statt\, 
 Anmeldung direkt bei LANI. 
ATTACH;FMTTYPE=image/jpeg:https://www.roswithaschoen.com/wp-content/upload
 s/2025/12/Kopie-von-Kopie-von-Kopie-von-Kopie-von-www.roswithaschoen.com_.
 png
CATEGORIES:Yoga
LOCATION:LANI PilatesClub\, Leibnitz\, Am Kögel 1\, 3. OG\, Leibnitz \, St
 eiermark \, 8430 \, Österreich
X-APPLE-STRUCTURED-LOCATION;VALUE=URI;X-ADDRESS=Am Kögel 1\, 3. OG\, Leibn
 itz \, Steiermark \, 8430 \, Österreich;X-APPLE-RADIUS=100;X-TITLE=LANI P
 ilatesClub\, Leibnitz:geo:0,0
END:VEVENT
BEGIN:VTIMEZONE
TZID:Europe/Vienna
X-LIC-LOCATION:Europe/Vienna
BEGIN:DAYLIGHT
DTSTART:20260329T030000
TZOFFSETFROM:+0100
TZOFFSETTO:+0200
TZNAME:CEST
END:DAYLIGHT
END:VTIMEZONE
END:VCALENDAR