BEGIN:VCALENDAR
VERSION:2.0
PRODID:-//wp-events-plugin.com//7.2.3.1//EN
TZID:Europe/Vienna
X-WR-TIMEZONE:Europe/Vienna
BEGIN:VEVENT
UID:1280@roswithaschoen.com
DTSTART;TZID=Europe/Vienna:20240613T190000
DTEND;TZID=Europe/Vienna:20240613T203000
DTSTAMP:20240328T064711Z
URL:https://www.roswithaschoen.com/termine/yin-yoga-fuer-dich-im-body-face
 -soul-heimschuh-2024-06-13/
SUMMARY:YIN-YOGA für DICH im Body - Face & Soul\, Heimschuh
DESCRIPTION:
ATTACH;FMTTYPE=image/jpeg:https://www.roswithaschoen.com/wp-content/upload
 s/2024/03/Yin-Yoga-Heimschuh-2.png
CATEGORIES:Yoga
LOCATION:body - face & soul\, Sonnenweg 1\, Heimschuh\, 8451\, Österreich
X-APPLE-STRUCTURED-LOCATION;VALUE=URI;X-ADDRESS=Sonnenweg 1\, Heimschuh\, 8
 451\, Österreich;X-APPLE-RADIUS=100;X-TITLE=body - face & soul:geo:0,0
END:VEVENT
BEGIN:VTIMEZONE
TZID:Europe/Vienna
X-LIC-LOCATION:Europe/Vienna
BEGIN:DAYLIGHT
DTSTART:20240331T030000
TZOFFSETFROM:+0100
TZOFFSETTO:+0200
TZNAME:CEST
END:DAYLIGHT
END:VTIMEZONE
END:VCALENDAR