BEGIN:VCALENDAR
VERSION:2.0
PRODID:-//wp-events-plugin.com//7.2.3.1//EN
TZID:Europe/Vienna
X-WR-TIMEZONE:Europe/Vienna
BEGIN:VEVENT
UID:1342@roswithaschoen.com
DTSTART;TZID=Europe/Vienna:20240925T183000
DTEND;TZID=Europe/Vienna:20240925T200000
DTSTAMP:20240930T094115Z
URL:https://www.roswithaschoen.com/termine/yin-yang-yoga-fuer-dich-kraft-e
 ntspannung-wohlbefinden-heimschuh-2024-09-25/
SUMMARY:Yin & Yang Yoga für DICH - Kraft\, Entspannung\, Wohlbefinden\, He
 imschuh
DESCRIPTION:
ATTACH;FMTTYPE=image/jpeg:https://www.roswithaschoen.com/wp-content/upload
 s/2024/08/Yin-u.-Yang-Heimschuh.png
CATEGORIES:Yoga
LOCATION:body - face & soul\, Sonnenweg 1\, Heimschuh\, 8451\, Österreich
X-APPLE-STRUCTURED-LOCATION;VALUE=URI;X-ADDRESS=Sonnenweg 1\, Heimschuh\, 8
 451\, Österreich;X-APPLE-RADIUS=100;X-TITLE=body - face & soul:geo:0,0
END:VEVENT
BEGIN:VTIMEZONE
TZID:Europe/Vienna
X-LIC-LOCATION:Europe/Vienna
BEGIN:DAYLIGHT
DTSTART:20240331T030000
TZOFFSETFROM:+0100
TZOFFSETTO:+0200
TZNAME:CEST
END:DAYLIGHT
END:VTIMEZONE
END:VCALENDAR