BEGIN:VCALENDAR
VERSION:2.0
PRODID:-//wp-events-plugin.com//7.2.3.1//EN
TZID:Europe/Vienna
X-WR-TIMEZONE:Europe/Vienna
BEGIN:VEVENT
UID:1773@roswithaschoen.com
DTSTART;TZID=Europe/Vienna:20250315T100000
DTEND;TZID=Europe/Vienna:20250315T120000
DTSTAMP:20250225T093746Z
URL:https://www.roswithaschoen.com/termine/workshop-dragon-dance-yin-yoga-
 mit-kristallklangschalen-trattenhof-hengsberg/
SUMMARY:Workshop: Dragon Dance & Yin Yoga mit Kristallklangschalen\, Tratte
 nhof\, Hengsberg
DESCRIPTION:Workshop: Dragon Dance &amp\; Yin Yoga mit Kristallklangschalen
 \nFließende Kraft &amp\; tiefe Entspannung\nmit Roswitha Schön &amp\; Ka
 rin Deutschmann im Trattenhof\, Hengsberg\n\n\nTauche ein in einen besonde
 ren 2-stündigen Workshop\, der dynamische Bewegung und meditative Stille 
 vereint.\nDragon Dance\, der yangige Part von Yin Yoga\, bringt deinen Ene
 rgiefluss in Bewegung\, während Yin Yoga mit Kristallklangschalen dich in
  tiefe Entspannung führt.\n\n\n\nWas erwartet dich?\n\n\nDragon Dance - d
 ie Kraft des Flows\nDragon Dance ist eine rhythmische\, wellenartige Beweg
 ungssequenz\, inspiriert von Daoismus und Vinyansa-Yoga.\nDie fließenden\
 , sich wiederholenden Bewegungen:\n\n\n 	fördern deine Geschmeidigkeit un
 d Beweglichkeit\n 	aktivieren deinen Energiefluss und die Faszien\n 	stär
 ken und mobilisieren deinen gesamten Körper\n\n\nYin Yoga mit Kristallkla
 ngschalen - tiefe Regeneration\nNach dem herzerfrischenden Dragon Dance gl
 eitest du in sanfte Yin-Yoga-Positionen\, begleitet von den harmonisierend
 en Klänge der Kristallklangschalen.\nDiese Kombination:\n\n\n 	beruhigt d
 ein Nervensystem und baut Stress ab\n 	löst Verspannungen und emotionale 
 Blockaden\n 	fördert deine innere Ruhe und Regeneration\n\n\n\nDieser Wor
 kshop ist für alle\, die Dynamik und Entspannung miteinander verbinden m
 öchten.\n\n\nDatum &amp\; Ort:\n15. März 2025\, Trattenhof\, Matzelsdorf
  12a\, 8411Hengsberg\nDauer:\n2 Stunden\, 10:00 - 12:00 Uhr\nBeitrag:\n\n\
 n€ 34\,00\n\n\nLeitung: \n\nRoswithaführt dich achtsam durch die Yoga-
 Sequenzen\n\n\nKarin begleitet dich mit den harmonisierenden Klängen der 
 Kristallklangschalen\n\n\n\n\n\n\nAnmelden kannst du dich direkt bei Roswi
 tha unter info@roswithaschoen.comSei dabei und erlebe die kraftvolle Verb
 indung von Bewegung und Stille.\nWir freuen uns auf dich\,\nRoswitha und K
 arin \n\n\n\n\n\n
ATTACH;FMTTYPE=image/jpeg:https://www.roswithaschoen.com/wp-content/upload
 s/2025/02/Kopie-von-Kopie-von-Kopie-von-Kopie-von-Kopie-von-Kopie-von-Kopi
 e-von-Adventures-in-America-3-1-e1739295185243.png
CATEGORIES:Specials,Yoga
LOCATION:Trattenhof\, Hengsberg\, Matzelsdorf 12a\, Hengsberg\, Steiermark\
 , 8411\, Südsteiermark\, Österreich
X-APPLE-STRUCTURED-LOCATION;VALUE=URI;X-ADDRESS=Matzelsdorf 12a\, Hengsberg
 \, Steiermark\, 8411\, Südsteiermark\, Österreich;X-APPLE-RADIUS=100;X-T
 ITLE=Trattenhof\, Hengsberg:geo:0,0
END:VEVENT
BEGIN:VTIMEZONE
TZID:Europe/Vienna
X-LIC-LOCATION:Europe/Vienna
BEGIN:STANDARD
DTSTART:20241027T020000
TZOFFSETFROM:+0200
TZOFFSETTO:+0100
TZNAME:CET
END:STANDARD
END:VTIMEZONE
END:VCALENDAR