BEGIN:VCALENDAR
VERSION:2.0
PRODID:-//wp-events-plugin.com//7.2.3.1//EN
TZID:Europe/Vienna
X-WR-TIMEZONE:Europe/Vienna
BEGIN:VEVENT
UID:2015@roswithaschoen.com
DTSTART;TZID=Europe/Vienna:20250726T100000
DTEND;TZID=Europe/Vienna:20250726T160000
DTSTAMP:20250512T135420Z
URL:https://www.roswithaschoen.com/termine/weniger-stress-mehr-leben-erleb
 nis-workshop-st-nikolai-o-dr/
SUMMARY:Weniger Stress - mehr Leben\, Erlebnis-Workshop\, St. Nikolai o. Dr
 .
DESCRIPTION:Weniger Stress  - mehr Leben\nEin Erlebnis-Workshop zum achtsa
 men Entschleunigen\n&nbsp\;\n\nSehnst du dich nach mehr innerer Ruhe\, Lei
 chtigkeit und Balance?\nDann ist der Erlebnis-Workshop mit Isabella und Ro
 switha genau das richtige für dich.\n\nIn einer Welt\, die oft hektisch u
 nd überwältigend ist\, möchten wir dir einfache Werkzeuge an die Hand g
 eben\, um achtsam zu entschleunigen und deine innere Balance zu finden.\n\
 nIn diesem Workshop findest du Raum zum Durchatmen\, Loslassen und Auftank
 en. Du erfährst\, wie du Stress effektiv und nachhaltig reduzieren kannst
  und wieder mit dir selbst mehr in Verbindung bist.\n\nWas erwartet dich b
 eim Erlebnis-Workshop:\n\nRoswitha leitet dich durch\n\n 	eine geführte A
 tem-Reise für tiefe Entspannung und innere Gelassenheit\n 	energetische R
 unenübungen zum Lösen von Muskelverspannungen im Nacken- und Schulterber
 eich und zum Harmonisieren deiner Lebensenergie\n 	eine wohltuende Heilanw
 endung\, die deine Gelenke unterstützt und dir ein Gefühl von Leichtigke
 it und Balance schenkt\n\nIsabella nimmt dich mit auf eine sinnliche Reise
  in die Welt der ätherischen Öle von Young Living. In diesem Workshop be
 gleiten dich folgende Öle in Anwendung\, Wirkung und Bedeutung:\n\n 	\nWe
 ihrauch – zentrierend\, klärend\, tiefenentspannend\n\n 	\nPeace &amp\
 ; Calming – beruhigend\, ausgleichend\, fördert inneren Frieden\n\n 	\
 nStress Away – stresslösend\, entlastend\, bringt Leichtigkeit ins Her
 z\n\n 	\nPalo Santo – reinigend\, stärkend\, unterstützt Loslassproze
 sse\n\n 	\nHighest Potential – inspirierend\, erhebend\, aktiviert dein
  inneres Potenzial\n\n\nDiese Öle werden gezielt in die Übungen integrie
 rt und unterstützen dich auf körperlicher\, emotionaler und energetische
 r Ebene.\nDu erhältst begleitende Handouts mit Anwendungstipps\, Wirkung
 sweisen und Möglichkeiten\, die Öle und gelernten energetischen Übungen
  auch im Alltag gezielt einzusetzen.\n&nbsp\;\n\nWann:\nSamstag\, 26. Juli
  2025\, 10:00 - ca. 16:00 Uhr\n\nWo:\nBellas Balance &amp\; Aromawelten\,\
 n8422 St. Nikolai ob Draßling 152\n\nAnmeldung:\nbei Isabella unter: bell
 a.luttenberger@gmail.com \n\nDeine Investition:\nFrühbucherpreis bis 22.
  Juni 2025:  € 130\,00/Person\ndanach regulär: € 150\,00 / Person\n\
 n&nbsp\;\n\nWir freuen uns auf dich\,\nRoswitha &amp\; Isabella\n\n&nbsp\;
ATTACH;FMTTYPE=image/jpeg:https://www.roswithaschoen.com/wp-content/upload
 s/2025/05/1-e1747058054547.png
CATEGORIES:Inner Work,Specials,Yoga
LOCATION:Belllas Balance- und Aromawelten\, St. Nikolai o. Draßling 152\, 
 St. Veit i. d. Südsteiermark \, 8422\, Österreich
X-APPLE-STRUCTURED-LOCATION;VALUE=URI;X-ADDRESS=St. Nikolai o. Draßling 15
 2\, St. Veit i. d. Südsteiermark \, 8422\, Österreich;X-APPLE-RADIUS=100
 ;X-TITLE=Belllas Balance- und Aromawelten:geo:0,0
END:VEVENT
BEGIN:VTIMEZONE
TZID:Europe/Vienna
X-LIC-LOCATION:Europe/Vienna
BEGIN:DAYLIGHT
DTSTART:20250330T030000
TZOFFSETFROM:+0100
TZOFFSETTO:+0200
TZNAME:CEST
END:DAYLIGHT
END:VTIMEZONE
END:VCALENDAR