BEGIN:VCALENDAR
VERSION:2.0
PRODID:-//wp-events-plugin.com//7.2.3.1//EN
TZID:Europe/Vienna
X-WR-TIMEZONE:Europe/Vienna
BEGIN:VEVENT
UID:1845@roswithaschoen.com
DTSTART;TZID=Europe/Vienna:20250429T090000
DTEND;TZID=Europe/Vienna:20250429T100000
DTSTAMP:20250311T181920Z
URL:https://www.roswithaschoen.com/termine/sun-flow-yoga-lani-leibnitz-202
 5-04-29/
SUMMARY:Sun Flow Yoga\, LANI Leibnitz
DESCRIPTION:Sonnengrüße für neue Energie \nFließende Bewegungen und sa
 nfte Dehnungen wecken deinen Körper auf und bringen deine Energie in Schw
 ung.\nDie Abfolge unterschiedlicher Sonnengruß-Varianten aktiveren sanft 
 deine Muskeln\, vertiefen deinen Atem und\nschenken dir Kraft und Leichtig
 keit für den Tag.\nDie Einheit ist für Yoga-Neulinge und Yoga-Lovers gee
 ignet.\nAnmeldung direkt im LANI Leibnitz 
ATTACH;FMTTYPE=image/jpeg:https://www.roswithaschoen.com/wp-content/upload
 s/2025/03/3.png
CATEGORIES:Yoga
LOCATION:LANI PilatesClub\, Leibnitz\, Am Kögel 1\, 3. OG\, Leibnitz \, St
 eiermark \, 8430 \, Österreich
X-APPLE-STRUCTURED-LOCATION;VALUE=URI;X-ADDRESS=Am Kögel 1\, 3. OG\, Leibn
 itz \, Steiermark \, 8430 \, Österreich;X-APPLE-RADIUS=100;X-TITLE=LANI P
 ilatesClub\, Leibnitz:geo:0,0
END:VEVENT
BEGIN:VTIMEZONE
TZID:Europe/Vienna
X-LIC-LOCATION:Europe/Vienna
BEGIN:DAYLIGHT
DTSTART:20250330T030000
TZOFFSETFROM:+0100
TZOFFSETTO:+0200
TZNAME:CEST
END:DAYLIGHT
END:VTIMEZONE
END:VCALENDAR