BEGIN:VCALENDAR
VERSION:2.0
PRODID:-//wp-events-plugin.com//7.0.4//EN
TZID:Europe/Vienna
X-WR-TIMEZONE:Europe/Vienna
BEGIN:VEVENT
UID:2467@roswithaschoen.com
DTSTART;TZID=Europe/Vienna:20260314T100000
DTEND;TZID=Europe/Vienna:20260314T130000
DTSTAMP:20260221T123711Z
URL:https://www.roswithaschoen.com/termine/strahlende-lebensfreude-seminar
 ium-leibnitz/
SUMMARY:Strahlende Lebensfreude\, Seminarium Leibnitz
DESCRIPTION:Strahlende Lebensfreude\nzurück in deine natürliche Lebendigk
 eit\n\nManchmal ist nicht zu viel los.\nSondern wir sind zu weit weg von u
 ns selbst.\nIn diesem 3-stündigen Workshop verbinde ich Yin Yoga &amp\; H
 uman Design –\nfür mehr innere Balance\, Klarheit und echte Lebensfreud
 e.\n\n\n 	Du löst Spannungen\,\n 	beruhigst dein inneres System\n 	und ge
 winnst ein tieferes Verständnis für deine natürliche Energie.\n\nEs geh
 t nicht um Perfektion. Sondern um Echtheit.\nUm deine innere Ausrichtung u
 nd ein stabiles Vertrauen in dich selbst.\nAlles\, was du suchst\, liegt b
 ereits in dir.\n\n************\nOrt: Seminarium Leibnitz\, 8430 Rettenbach
 straße 13\nDatum: 14. März 2026\nZeit: 10:00 - 13:00 Uhr\nBeitrag: € 7
 9\,00\nBegrenzte Teilnehmerzahl \nAnmeldung unter: info@roswithaschoen.co
 m\nMatten\, Decken und Kissen sind vorhanden.Bitte bring deine Geburtsdate
 n (Ort\, Datum\, Zeit) mit.\n\n&nbsp\;
ATTACH;FMTTYPE=image/jpeg:https://www.roswithaschoen.com/wp-content/upload
 s/2026/01/Design-e1767529885571.png
CATEGORIES:Inner Work,Specials,Yoga
LOCATION:Seminarium. Zentrum für Begegnung und Herzlichkeit\, Rettenbachst
 raße 13\, Leibnitz \, 8430 \, Österreich
X-APPLE-STRUCTURED-LOCATION;VALUE=URI;X-ADDRESS=Rettenbachstraße 13\, Leib
 nitz \, 8430 \, Österreich;X-APPLE-RADIUS=100;X-TITLE=Seminarium. Zentrum
  für Begegnung und Herzlichkeit:geo:0,0
END:VEVENT
BEGIN:VTIMEZONE
TZID:Europe/Vienna
X-LIC-LOCATION:Europe/Vienna
BEGIN:STANDARD
DTSTART:20251026T020000
TZOFFSETFROM:+0200
TZOFFSETTO:+0100
TZNAME:CET
END:STANDARD
END:VTIMEZONE
END:VCALENDAR