BEGIN:VCALENDAR
VERSION:2.0
PRODID:-//wp-events-plugin.com//7.2.3.1//EN
TZID:Europe/Vienna
X-WR-TIMEZONE:Europe/Vienna
BEGIN:VEVENT
UID:1297@roswithaschoen.com
DTSTART;TZID=Europe/Vienna:20240808T183000
DTEND;TZID=Europe/Vienna:20240808T193000
DTSTAMP:20240410T061056Z
URL:https://www.roswithaschoen.com/termine/sommeryoga-fuer-dich-in-mama-sc
 hoens-garten-ragnitz-2-2024-08-08/
SUMMARY:Sommeryoga für DICH in Mama Schön's Garten\, Ragnitz
DESCRIPTION:
ATTACH;FMTTYPE=image/jpeg:https://www.roswithaschoen.com/wp-content/upload
 s/2024/04/Kopie-von-Kopie-von-Kopie-von-Blue-Light-And-Black-Modern-Travel
 -Agent-Flyer-5.png
CATEGORIES:Yoga
LOCATION:Mama Schön's Garten\, Ragnitz 52\, Ragnitz \, Steiermark \, 8413 
 \, Österreich
X-APPLE-STRUCTURED-LOCATION;VALUE=URI;X-ADDRESS=Ragnitz 52\, Ragnitz \, Ste
 iermark \, 8413 \, Österreich;X-APPLE-RADIUS=100;X-TITLE=Mama Schön's Ga
 rten:geo:0,0
END:VEVENT
BEGIN:VTIMEZONE
TZID:Europe/Vienna
X-LIC-LOCATION:Europe/Vienna
BEGIN:DAYLIGHT
DTSTART:20240331T030000
TZOFFSETFROM:+0100
TZOFFSETTO:+0200
TZNAME:CEST
END:DAYLIGHT
END:VTIMEZONE
END:VCALENDAR