BEGIN:VCALENDAR
VERSION:2.0
PRODID:-//wp-events-plugin.com//7.2.3.1//EN
TZID:Europe/Vienna
X-WR-TIMEZONE:Europe/Vienna
BEGIN:VEVENT
UID:2054@roswithaschoen.com
DTSTART;TZID=Europe/Vienna:20250807T184500
DTEND;TZID=Europe/Vienna:20250807T194500
DTSTAMP:20250709T110037Z
URL:https://www.roswithaschoen.com/termine/sommer-yoga-fuer-dich-in-mama-s
 choens-garten-ragnitz-2025-08-07/
SUMMARY:Sommer-Yoga für DICH in Mama Schöns Garten\, Ragnitz
DESCRIPTION:Sommer-Yoga für DICH Atmen – Bewegen – Lächeln – Losla
 ssen\nEs ist nicht notwendig\, schlank\, sportlich\, gelenkig oder biegsam
  zu sein\,\num dein Yoga zu praktizieren.\nWenn du atmen kannst – kannst
  du Yoga.\nYoga passt sich immer an dich an\, niemals umgekehrt.\nGenau so
  wie du gerade bist\, beginnst du mit dem Üben.\nEs ist wirklich so einfa
 ch\, macht Spass und fördert deine Gesundheit 🧡\nZeit:18:45 - 19:45 Uh
 r „Sanftes Balance-Yoga für Dich"  Termine: Donnerstag-Abends10. Juli 
 - 28. Aug. 2025Ort: Mama Schön’s Garten8413 Ragnitz 52Die Einheiten fin
 den nur bei Schönwetter ☀️ statt.\nWertschätzungsbeitrag:\nDu gibst 
 das\, was sich für dich gut und stimmig anfühlt. 🤗Matte mitbringen\, 
 oder gerne bei mir kostenfrei ausborgen - dein Lächeln aktivieren und ein
 fach kommen\, so wie du bist.Wir freuen uns auf dich 😃
ATTACH;FMTTYPE=image/jpeg:https://www.roswithaschoen.com/wp-content/upload
 s/2025/07/Bildschirmfoto-2025-07-08-um-12.49.52-e1751971955330.png
CATEGORIES:Yoga
LOCATION:Mama Schön's Garten\, Ragnitz 52\, Ragnitz \, Steiermark \, 8413 
 \, Österreich
X-APPLE-STRUCTURED-LOCATION;VALUE=URI;X-ADDRESS=Ragnitz 52\, Ragnitz \, Ste
 iermark \, 8413 \, Österreich;X-APPLE-RADIUS=100;X-TITLE=Mama Schön's Ga
 rten:geo:0,0
END:VEVENT
BEGIN:VTIMEZONE
TZID:Europe/Vienna
X-LIC-LOCATION:Europe/Vienna
BEGIN:DAYLIGHT
DTSTART:20250330T030000
TZOFFSETFROM:+0100
TZOFFSETTO:+0200
TZNAME:CEST
END:DAYLIGHT
END:VTIMEZONE
END:VCALENDAR