BEGIN:VCALENDAR
VERSION:2.0
PRODID:-//wp-events-plugin.com//7.2.3.1//EN
TZID:Europe/Vienna
X-WR-TIMEZONE:Europe/Vienna
BEGIN:VEVENT
UID:1696@roswithaschoen.com
DTSTART;TZID=Europe/Vienna:20250116T190000
DTEND;TZID=Europe/Vienna:20250116T200000
DTSTAMP:20250107T112614Z
URL:https://www.roswithaschoen.com/termine/seelenzauber-rise-shine-online-
 via-zoom/
SUMMARY:Seelenzauber: Rise & Shine\, online via Zoom
DESCRIPTION:Seelenzauber - dein Weg zu dir selbst\nklar . transformierend .
  befreiend \n&nbsp\;\n\nLass los\, was dich zurückhält\, und öffne dic
 h für mehr Leichtigkeit\, Kraft und inneren Frieden.\n\nIn diesem besonde
 ren Online-Workshop lade ich dich ein\, alte Blockaden loszulassen und dei
 n Wohlbefinden und deine Gesundheit auf allen Ebenen zu stärken.  Mit ei
 ner speziellen Anwendung aus dem alten Heilwissen führe ich dich sanft un
 d achtsam durch einen Prozess der Transformation.\n\nWas dich erwartet?\n\
 n 	eine kraftvolle Methode zur Lösung innerer Blockaden\n 	sanfte Impulse
  zur Stärkung deiner Selbstheilungskräfte\n 	ein Gefühl von Leichtigkei
 t\, emotionaler Stabilität und innerem Frieden\n 	ein kraftvolles Feld\, 
 das Transformation ermöglicht\n 	neue Energie und Klarheit für deinen Al
 ltag\n\nDetails:\nDatum &amp\; Uhrzeit: 16. Jan. 2025\, 19:00 - 20:00 Uhr
  \nOrt: Online via Zoom (du kannst von überall daran teilnehmen)\nWerts
 chätzungsbeitrag: € 55\,00\nAnmeldung unter: info@roswithaschoen.com \
 n\nErlebe die Weisheit des Altes Heilwissen und wie es dich dabei unterst
 ützen kann\, in deine Kraft zu kommen.\n\nRise &amp\; Shine\nRoswitha\n\n
 &nbsp\;
ATTACH;FMTTYPE=image/jpeg:https://www.roswithaschoen.com/wp-content/upload
 s/2025/01/Seelenzauber-NEU-Instagram-Post-e1736238955843.jpg
CATEGORIES:Specials
LOCATION:Bei dir Zuhause\, online per Zoom\, Online \, per Zoom \, Österre
 ich
X-APPLE-STRUCTURED-LOCATION;VALUE=URI;X-ADDRESS=Online \, per Zoom \, Öste
 rreich;X-APPLE-RADIUS=100;X-TITLE=Bei dir Zuhause\, online per Zoom:geo:0,
 0
END:VEVENT
BEGIN:VTIMEZONE
TZID:Europe/Vienna
X-LIC-LOCATION:Europe/Vienna
BEGIN:STANDARD
DTSTART:20241027T020000
TZOFFSETFROM:+0200
TZOFFSETTO:+0100
TZNAME:CET
END:STANDARD
END:VTIMEZONE
END:VCALENDAR