BEGIN:VCALENDAR
VERSION:2.0
PRODID:-//wp-events-plugin.com//7.2.3.1//EN
TZID:Europe/Vienna
X-WR-TIMEZONE:Europe/Vienna
BEGIN:VEVENT
UID:1766@roswithaschoen.com
DTSTART;TZID=Europe/Vienna:20250221T193000
DTEND;TZID=Europe/Vienna:20250221T201500
DTSTAMP:20250308T140921Z
URL:https://www.roswithaschoen.com/termine/seelenzauber-rise-and-shine-onl
 ine-2025-02-21/
SUMMARY:Seelenzauber: Rise and Shine\, online
DESCRIPTION:Seelenzauber: Rise and Shine – Dein Weg zu dir selbst\nTauche
  ein in einen Raum der Stille und Transformation.\nEntdecke die Kraft der 
 Meditation und lass dich von altem Heilwissen inspirieren\,\num Stress los
 zulassen und das innere Gleichgewicht wieder herzustellen.\nNimm dir Zeit 
 für dich\, lausche deiner Seele und finde innere Ruhe und Kraft.\n*******
 *\nSeelenzauber für Dich 🧡\nfindet als Zoom-Meeting live online statt\
 nMeeting-ID: 843 9942 2712\nKenncode: Rise&amp\;Shine\nDauer: ca. 40 Minut
 en\nWertschätzungsbeitrag: € 33\,00\nTeilnahme einfach ohne Anmeldung.\
 n********\nDeinen Wertschätzungsbeitrag kannst du ganz einfach entweder\n
 per PayPal\, mit der Option "Geld an Freunde senden" (so fallen keine Geb
 ühren an)\noder per Überweisung bezahlen.\nDanke 🫶\n&nbsp\;\n\n&nbsp\
 ;\n\n&nbsp\;
ATTACH;FMTTYPE=image/jpeg:https://www.roswithaschoen.com/wp-content/upload
 s/2025/01/Seelenzauber-NEU-Instagram-Post-e1736238955843.jpg
CATEGORIES:Specials,Yoga
LOCATION:Bei dir Zuhause\, online per Zoom\, Online \, per Zoom \, Österre
 ich
X-APPLE-STRUCTURED-LOCATION;VALUE=URI;X-ADDRESS=Online \, per Zoom \, Öste
 rreich;X-APPLE-RADIUS=100;X-TITLE=Bei dir Zuhause\, online per Zoom:geo:0,
 0
END:VEVENT
BEGIN:VTIMEZONE
TZID:Europe/Vienna
X-LIC-LOCATION:Europe/Vienna
BEGIN:STANDARD
DTSTART:20241027T020000
TZOFFSETFROM:+0200
TZOFFSETTO:+0100
TZNAME:CET
END:STANDARD
END:VTIMEZONE
END:VCALENDAR