BEGIN:VCALENDAR
VERSION:2.0
PRODID:-//wp-events-plugin.com//7.2.3.1//EN
TZID:Europe/Vienna
X-WR-TIMEZONE:Europe/Vienna
BEGIN:VEVENT
UID:1912@roswithaschoen.com
DTSTART;TZID=Europe/Vienna:20250221T210000
DTEND;TZID=Europe/Vienna:20250221T214500
DTSTAMP:20250417T141426Z
URL:https://www.roswithaschoen.com/termine/seelenzauber-rise-and-shine-onl
 ine-2-2025-02-21/
SUMMARY:Seelenzauber: Rise and Shine\, online
DESCRIPTION:Seelenzauber: Rise and Shine – Dein Weg zu dir selbst\nEin Gr
 uppen-Healing für dein inneres Leuchten\nManchmal tragen wir mehr\, als u
 ns guttut.\nAlte Gedanken\, innere Spannung\, Dinge\, die nicht mehr zu un
 s gehören.\nIn diesem "Seelenzauber" lade ich dich ein\, loszulassen was 
 du nicht mehr brauchst\nund Raum zu schaffen für das\, was in dir strahle
 n will.\nSeelenzauber ist ein sanftes\, kraftvolles Heilraum\nin dem dein 
 System sich neu sortieren\, entspannen und erinnern darf:\nDu bist Licht. 
 Du bist geführt. Du darfst leuchten.\n********\nSeelenzauber für Dich 
 🧡\nfindet als Zoom-Meeting live online statt\nMeeting-ID: 843 9942 2712
 \nKenncode: Rise&amp\;Shine\nWertschätzungsbeitrag: € 33\,00\nTeilnahme
  einfach ohne Anmeldung.\n********\nDeinen Wertschätzungsbeitrag kannst d
 u ganz einfach entweder\nper PayPal\, mit der Option "Geld an Freunde send
 en" (so fallen keine Gebühren an)\noder per Überweisung bezahlen.\nDanke
  🫶\nIch freu mich auf dich\,\nvon Herz zu Herz\,\nRoswitha \n&nbsp\;\n
 \n&nbsp\;\n\n&nbsp\;
ATTACH;FMTTYPE=image/jpeg:https://www.roswithaschoen.com/wp-content/upload
 s/2025/01/Seelenzauber-NEU-Instagram-Post-e1736238955843.jpg
CATEGORIES:Specials,Yoga
LOCATION:Bei dir Zuhause\, online per Zoom\, Online \, per Zoom \, Österre
 ich
X-APPLE-STRUCTURED-LOCATION;VALUE=URI;X-ADDRESS=Online \, per Zoom \, Öste
 rreich;X-APPLE-RADIUS=100;X-TITLE=Bei dir Zuhause\, online per Zoom:geo:0,
 0
END:VEVENT
BEGIN:VTIMEZONE
TZID:Europe/Vienna
X-LIC-LOCATION:Europe/Vienna
BEGIN:STANDARD
DTSTART:20241027T020000
TZOFFSETFROM:+0200
TZOFFSETTO:+0100
TZNAME:CET
END:STANDARD
END:VTIMEZONE
END:VCALENDAR