BEGIN:VCALENDAR
VERSION:2.0
PRODID:-//wp-events-plugin.com//7.0.4//EN
TZID:Europe/Vienna
X-WR-TIMEZONE:Europe/Vienna
BEGIN:VEVENT
UID:2267@roswithaschoen.com
DTSTART;TZID=Europe/Vienna:20251219T100000
DTEND;TZID=Europe/Vienna:20251219T111500
DTSTAMP:20250925T161154Z
URL:https://www.roswithaschoen.com/termine/sanftes-yoga-lani-leibnitz-3-20
 25-12-19/
SUMMARY:Sanftes Yoga\, LANI Leibnitz
DESCRIPTION:Wohlbefinden für Körper und Geist\n\nMit achtsamen Bewegungen
 \, sanften Dehnungen und bewusster Atmung kommst du ganz bei dir an. Diese
  Einheit stärkt dich auf liebevolle Weise\, löst Verspannungen und bring
 t dich in einen Zustand von Ruhe und Leichtigkeit. Perfekt für alle\, die
  sich sanft etwas Gutes tun möchten.\n\nDie Einheit ist für Yoga-Beginne
 rs und Yoga-Lovers geeignet und findet ab 4 TeilnehmerInnen statt.\n\nAnme
 ldung direkt bei LANI Leibnitz 
ATTACH;FMTTYPE=image/jpeg:https://www.roswithaschoen.com/wp-content/upload
 s/2025/03/2.png
CATEGORIES:Yoga
LOCATION:LANI PilatesClub\, Leibnitz\, Am Kögel 1\, 3. OG\, Leibnitz \, St
 eiermark \, 8430 \, Österreich
X-APPLE-STRUCTURED-LOCATION;VALUE=URI;X-ADDRESS=Am Kögel 1\, 3. OG\, Leibn
 itz \, Steiermark \, 8430 \, Österreich;X-APPLE-RADIUS=100;X-TITLE=LANI P
 ilatesClub\, Leibnitz:geo:0,0
END:VEVENT
BEGIN:VTIMEZONE
TZID:Europe/Vienna
X-LIC-LOCATION:Europe/Vienna
BEGIN:STANDARD
DTSTART:20251026T020000
TZOFFSETFROM:+0200
TZOFFSETTO:+0100
TZNAME:CET
END:STANDARD
END:VTIMEZONE
END:VCALENDAR