BEGIN:VCALENDAR
VERSION:2.0
PRODID:-//wp-events-plugin.com//7.2.3.1//EN
TZID:Europe/Vienna
X-WR-TIMEZONE:Europe/Vienna
BEGIN:VEVENT
UID:1864@roswithaschoen.com
DTSTART;TZID=Europe/Vienna:20250404T100000
DTEND;TZID=Europe/Vienna:20250404T110000
DTSTAMP:20250311T182521Z
URL:https://www.roswithaschoen.com/termine/sanftes-yoga-lani-leibnitz-2025
 -04-04/
SUMMARY:Sanftes Yoga\, LANI Leibnitz
DESCRIPTION:Wohlbefinden für Körper und Geist\nMit achtsamen Bewegungen\,
  sanften Dehnungen und bewusster Atmung kommst du ganz bei dir an.\n\nDies
 e Einheit stärkt dich auf liebevolle Weise\, löst Verspannungen und brin
 gt dich in einen Zustand von Ruhe und Leichtigkeit.\n\nPerfekt für alle\,
  die sich sanft etwas Gutes tun möchten.\n\nAnmeldung direkt bei LANI Lei
 bnitz
ATTACH;FMTTYPE=image/jpeg:https://www.roswithaschoen.com/wp-content/upload
 s/2025/03/Kopie-von-Kopie-von-Kopie-von-www.roswithaschoen.com-3.png
CATEGORIES:Yoga
LOCATION:LANI PilatesClub\, Leibnitz\, Am Kögel 1\, 3. OG\, Leibnitz \, St
 eiermark \, 8430 \, Österreich
X-APPLE-STRUCTURED-LOCATION;VALUE=URI;X-ADDRESS=Am Kögel 1\, 3. OG\, Leibn
 itz \, Steiermark \, 8430 \, Österreich;X-APPLE-RADIUS=100;X-TITLE=LANI P
 ilatesClub\, Leibnitz:geo:0,0
END:VEVENT
BEGIN:VTIMEZONE
TZID:Europe/Vienna
X-LIC-LOCATION:Europe/Vienna
BEGIN:DAYLIGHT
DTSTART:20250330T030000
TZOFFSETFROM:+0100
TZOFFSETTO:+0200
TZNAME:CEST
END:DAYLIGHT
END:VTIMEZONE
END:VCALENDAR