BEGIN:VCALENDAR
VERSION:2.0
PRODID:-//wp-events-plugin.com//7.2.3.1//EN
TZID:Europe/Vienna
X-WR-TIMEZONE:Europe/Vienna
BEGIN:VEVENT
UID:1825@roswithaschoen.com
DTSTART;TZID=Europe/Vienna:20250423T080000
DTEND;TZID=Europe/Vienna:20250423T091500
DTSTAMP:20250304T120640Z
URL:https://www.roswithaschoen.com/termine/sanftes-yoga-fuer-dich-st-nikol
 ai-2025-04-23/
SUMMARY:Sanftes Yoga für Dich\, St. Nikolai
DESCRIPTION:
ATTACH;FMTTYPE=image/jpeg:https://www.roswithaschoen.com/wp-content/upload
 s/2025/02/Yoga-St.-Nikolai.jpg
CATEGORIES:Yoga
LOCATION:altes Gemeindeamt St. Nikolai ob Draßling\, St. Nikolai \, St. Ni
 kolai \, Steiermark \, 8422\, Österreich
X-APPLE-STRUCTURED-LOCATION;VALUE=URI;X-ADDRESS=St. Nikolai \, St. Nikolai 
 \, Steiermark \, 8422\, Österreich;X-APPLE-RADIUS=100;X-TITLE=altes Gemei
 ndeamt St. Nikolai ob Draßling:geo:0,0
END:VEVENT
BEGIN:VTIMEZONE
TZID:Europe/Vienna
X-LIC-LOCATION:Europe/Vienna
BEGIN:DAYLIGHT
DTSTART:20250330T030000
TZOFFSETFROM:+0100
TZOFFSETTO:+0200
TZNAME:CEST
END:DAYLIGHT
END:VTIMEZONE
END:VCALENDAR