BEGIN:VCALENDAR
VERSION:2.0
PRODID:-//wp-events-plugin.com//7.0.4//EN
TZID:Europe/Vienna
X-WR-TIMEZONE:Europe/Vienna
BEGIN:VEVENT
UID:2118@roswithaschoen.com
DTSTART;TZID=Europe/Vienna:20251027T164500
DTEND;TZID=Europe/Vienna:20251027T174500
DTSTAMP:20250909T143344Z
URL:https://www.roswithaschoen.com/termine/relax-yoga-st-nikolai-2025-10-2
 7/
SUMMARY:Relax Yoga\, St. Nikolai
DESCRIPTION:
ATTACH;FMTTYPE=image/jpeg:https://www.roswithaschoen.com/wp-content/upload
 s/2025/09/Yoga-Nikolai-1-1.png
CATEGORIES:Yoga
LOCATION:altes Gemeindeamt St. Nikolai ob Draßling\, St. Nikolai \, St. Ni
 kolai \, Steiermark \, 8422\, Österreich
X-APPLE-STRUCTURED-LOCATION;VALUE=URI;X-ADDRESS=St. Nikolai \, St. Nikolai 
 \, Steiermark \, 8422\, Österreich;X-APPLE-RADIUS=100;X-TITLE=altes Gemei
 ndeamt St. Nikolai ob Draßling:geo:0,0
END:VEVENT
BEGIN:VTIMEZONE
TZID:Europe/Vienna
X-LIC-LOCATION:Europe/Vienna
BEGIN:STANDARD
DTSTART:20251026T020000
TZOFFSETFROM:+0200
TZOFFSETTO:+0100
TZNAME:CET
END:STANDARD
END:VTIMEZONE
END:VCALENDAR