BEGIN:VCALENDAR
VERSION:2.0
PRODID:-//wp-events-plugin.com//7.0.4//EN
TZID:Europe/Vienna
X-WR-TIMEZONE:Europe/Vienna
BEGIN:VEVENT
UID:2497@roswithaschoen.com
DTSTART;TZID=Europe/Vienna:20260316T173000
DTEND;TZID=Europe/Vienna:20260316T184500
DTSTAMP:20260211T144439Z
URL:https://www.roswithaschoen.com/termine/relax-yoga-lani-leibnitz-2026-0
 3-02-2026-03-09-2026-03-16/
SUMMARY:Relax Yoga\, LANI Leibnitz
DESCRIPTION:Relax Yoga\nfür mehr Entspannung &amp\; Beweglichkeit\nDiese E
 inheit schenkt dir bewusst Zeit zum Ankommen\, Loslassen und Regenerieren.
 \nSanfte\, fließende Bewegungen und eine ruhige\, bewusste Atmung unterst
 ützen dich dabei\, Spannungen auf körperlicher und mentaler Ebene loszul
 assen und stärken die Balance von Körper und Geist.\n\nDie Einheiten fin
 den ab 4 TeilnehmerInnen statt.\nAnmeldung direkt bei LANI.\n\n
ATTACH;FMTTYPE=image/jpeg:https://www.roswithaschoen.com/wp-content/upload
 s/2025/03/2.png
CATEGORIES:Yoga
LOCATION:LANI PilatesClub\, Leibnitz\, Am Kögel 1\, 3. OG\, Leibnitz \, St
 eiermark \, 8430 \, Österreich
X-APPLE-STRUCTURED-LOCATION;VALUE=URI;X-ADDRESS=Am Kögel 1\, 3. OG\, Leibn
 itz \, Steiermark \, 8430 \, Österreich;X-APPLE-RADIUS=100;X-TITLE=LANI P
 ilatesClub\, Leibnitz:geo:0,0
END:VEVENT
BEGIN:VTIMEZONE
TZID:Europe/Vienna
X-LIC-LOCATION:Europe/Vienna
BEGIN:STANDARD
DTSTART:20251026T020000
TZOFFSETFROM:+0200
TZOFFSETTO:+0100
TZNAME:CET
END:STANDARD
END:VTIMEZONE
END:VCALENDAR