BEGIN:VCALENDAR
VERSION:2.0
PRODID:-//wp-events-plugin.com//7.0.4//EN
TZID:Europe/Vienna
X-WR-TIMEZONE:Europe/Vienna
BEGIN:VEVENT
UID:2294@roswithaschoen.com
DTSTART;TZID=Europe/Vienna:20251222T164500
DTEND;TZID=Europe/Vienna:20251222T174500
DTSTAMP:20251110T091225Z
URL:https://www.roswithaschoen.com/termine/relax-yoga-entspannung-fuer-koe
 prer-geist-st-nikolai-ob-drassling-2025-11-17-2025-11-24-2025-12-01-2025-1
 2-08-2025-12-15-2025-12-22/
SUMMARY:Relax Yoga - Entspannung für Köprer & Geist\, St. Nikolai ob Dra
 ßling
DESCRIPTION:
ATTACH;FMTTYPE=image/jpeg:https://www.roswithaschoen.com/wp-content/upload
 s/2025/11/Yoga-Nikolai-Nov.--e1762765832828.jpg
CATEGORIES:Yoga
LOCATION:altes Gemeindeamt St. Nikolai ob Draßling\, St. Nikolai \, St. Ni
 kolai \, Steiermark \, 8422\, Österreich
X-APPLE-STRUCTURED-LOCATION;VALUE=URI;X-ADDRESS=St. Nikolai \, St. Nikolai 
 \, Steiermark \, 8422\, Österreich;X-APPLE-RADIUS=100;X-TITLE=altes Gemei
 ndeamt St. Nikolai ob Draßling:geo:0,0
END:VEVENT
BEGIN:VTIMEZONE
TZID:Europe/Vienna
X-LIC-LOCATION:Europe/Vienna
BEGIN:STANDARD
DTSTART:20251026T020000
TZOFFSETFROM:+0200
TZOFFSETTO:+0100
TZNAME:CET
END:STANDARD
END:VTIMEZONE
END:VCALENDAR