BEGIN:VCALENDAR
VERSION:2.0
PRODID:-//wp-events-plugin.com//7.2.3.1//EN
TZID:Europe/Vienna
X-WR-TIMEZONE:Europe/Vienna
BEGIN:VEVENT
UID:1414@roswithaschoen.com
DTSTART;TZID=Europe/Vienna:20241006T203000
DTEND;TZID=Europe/Vienna:20241006T211500
DTSTAMP:20241003T091409Z
URL:https://www.roswithaschoen.com/termine/raus-aus-der-erschoepfung-rein-
 in-die-entspannung-und-kraft-meridianarbeit-live-online-via-zoom/
SUMMARY:Raus aus der Erschöpfung - rein in die Entspannung und Kraft\, Mer
 idianarbeit\, live online via Zoom
DESCRIPTION:
ATTACH;FMTTYPE=image/jpeg:https://www.roswithaschoen.com/wp-content/upload
 s/2024/10/Meridiane.png
CATEGORIES:Specials
LOCATION:Bei dir Zuhause\, online per Zoom\, Online \, per Zoom \, Österre
 ich
X-APPLE-STRUCTURED-LOCATION;VALUE=URI;X-ADDRESS=Online \, per Zoom \, Öste
 rreich;X-APPLE-RADIUS=100;X-TITLE=Bei dir Zuhause\, online per Zoom:geo:0,
 0
END:VEVENT
BEGIN:VTIMEZONE
TZID:Europe/Vienna
X-LIC-LOCATION:Europe/Vienna
BEGIN:DAYLIGHT
DTSTART:20240331T030000
TZOFFSETFROM:+0100
TZOFFSETTO:+0200
TZNAME:CEST
END:DAYLIGHT
END:VTIMEZONE
END:VCALENDAR