BEGIN:VCALENDAR
VERSION:2.0
PRODID:-//wp-events-plugin.com//7.0.4//EN
TZID:Europe/Vienna
X-WR-TIMEZONE:Europe/Vienna
BEGIN:VEVENT
UID:2106@roswithaschoen.com
DTSTART;TZID=Europe/Vienna:20251019T180000
DTEND;TZID=Europe/Vienna:20251019T194000
DTSTAMP:20250920T181359Z
URL:https://www.roswithaschoen.com/termine/lazy-sunday-yin-yoga-soundheali
 ng-leibnitz/
SUMMARY:Lazy Sunday "Yin Yoga & Soundhealing"\, Leibnitz
DESCRIPTION:\nAnmeldung unter: info@roswithaschoen.com \n&nbsp\;\n\n&nbsp\
 ;
ATTACH;FMTTYPE=image/jpeg:https://www.roswithaschoen.com/wp-content/upload
 s/2025/08/Yin-u.-Klang-e1758391938972.jpg
CATEGORIES:Specials,Yoga
LOCATION:Raum für Yoga\, Bewegung & Mehr\, Grazerstraße 50 \, Leibnitz \,
  Steiermark \, 8430 \, Österreich
X-APPLE-STRUCTURED-LOCATION;VALUE=URI;X-ADDRESS=Grazerstraße 50 \, Leibnit
 z \, Steiermark \, 8430 \, Österreich;X-APPLE-RADIUS=100;X-TITLE=Raum fü
 r Yoga\, Bewegung & Mehr:geo:0,0
END:VEVENT
BEGIN:VTIMEZONE
TZID:Europe/Vienna
X-LIC-LOCATION:Europe/Vienna
BEGIN:DAYLIGHT
DTSTART:20250330T030000
TZOFFSETFROM:+0100
TZOFFSETTO:+0200
TZNAME:CEST
END:DAYLIGHT
END:VTIMEZONE
END:VCALENDAR