BEGIN:VCALENDAR
VERSION:2.0
PRODID:-//wp-events-plugin.com//7.0.4//EN
TZID:Europe/Vienna
X-WR-TIMEZONE:Europe/Vienna
BEGIN:VEVENT
UID:2108@roswithaschoen.com
DTSTART;TZID=Europe/Vienna:20251123T180000
DTEND;TZID=Europe/Vienna:20251123T194000
DTSTAMP:20251030T204942Z
URL:https://www.roswithaschoen.com/termine/lazy-sunday-yin-yoga-soundheali
 ng-leibnitz-3/
SUMMARY:Lazy Sunday "Yin Yoga & Soundhealing"\, Leibnitz
DESCRIPTION:Anmeldung unter: info@roswithaschoen.com \n&nbsp\;
ATTACH;FMTTYPE=image/jpeg:https://www.roswithaschoen.com/wp-content/upload
 s/2025/08/WhatsApp-Image-2025-10-30-at-09.21.14-e1761857366376.jpeg
CATEGORIES:Specials,Yoga
LOCATION:Raum für Yoga\, Bewegung & Mehr\, Grazerstraße 50 \, Leibnitz \,
  Steiermark \, 8430 \, Österreich
X-APPLE-STRUCTURED-LOCATION;VALUE=URI;X-ADDRESS=Grazerstraße 50 \, Leibnit
 z \, Steiermark \, 8430 \, Österreich;X-APPLE-RADIUS=100;X-TITLE=Raum fü
 r Yoga\, Bewegung & Mehr:geo:0,0
END:VEVENT
BEGIN:VTIMEZONE
TZID:Europe/Vienna
X-LIC-LOCATION:Europe/Vienna
BEGIN:STANDARD
DTSTART:20251026T020000
TZOFFSETFROM:+0200
TZOFFSETTO:+0100
TZNAME:CET
END:STANDARD
END:VTIMEZONE
END:VCALENDAR