BEGIN:VCALENDAR
VERSION:2.0
PRODID:-//wp-events-plugin.com//7.0.4//EN
TZID:Europe/Vienna
X-WR-TIMEZONE:Europe/Vienna
BEGIN:VEVENT
UID:2315@roswithaschoen.com
DTSTART;TZID=Europe/Vienna:20251228T180000
DTEND;TZID=Europe/Vienna:20251228T194500
DTSTAMP:20251215T101359Z
URL:https://www.roswithaschoen.com/termine/lazy-sunday-yin-yoga-klang-im-s
 eminarium-leibnitz/
SUMMARY:Lazy Sunday - Yin Yoga & Klang\, im Seminarium Leibnitz
DESCRIPTION:
ATTACH;FMTTYPE=image/jpeg:https://www.roswithaschoen.com/wp-content/upload
 s/2025/12/IMG_7576.jpg
CATEGORIES:Inner Work,Specials,Yoga
LOCATION:Seminarium. Zentrum für Begegnung und Herzlichkeit\, Rettenbachst
 raße 13\, Leibnitz \, 8430 \, Österreich
X-APPLE-STRUCTURED-LOCATION;VALUE=URI;X-ADDRESS=Rettenbachstraße 13\, Leib
 nitz \, 8430 \, Österreich;X-APPLE-RADIUS=100;X-TITLE=Seminarium. Zentrum
  für Begegnung und Herzlichkeit:geo:0,0
END:VEVENT
BEGIN:VTIMEZONE
TZID:Europe/Vienna
X-LIC-LOCATION:Europe/Vienna
BEGIN:STANDARD
DTSTART:20251026T020000
TZOFFSETFROM:+0200
TZOFFSETTO:+0100
TZNAME:CET
END:STANDARD
END:VTIMEZONE
END:VCALENDAR