BEGIN:VCALENDAR
VERSION:2.0
PRODID:-//wp-events-plugin.com//7.2.3.1//EN
TZID:Europe/Vienna
X-WR-TIMEZONE:Europe/Vienna
BEGIN:VEVENT
UID:1910@roswithaschoen.com
DTSTART;TZID=Europe/Vienna:20250506T183000
DTEND;TZID=Europe/Vienna:20250506T193000
DTSTAMP:20250506T122255Z
URL:https://www.roswithaschoen.com/termine/kraft-herz-eine-einheit-fuer-de
 in-energiefeld-seminarium-leibnitz/
SUMMARY:Kraft & Herz - eine Einheit für dein Energiefeld\, Seminarium Leib
 nitz
DESCRIPTION:Kraft &amp\; Herz - eine Einheit für dein Energiefeld\nEnerget
 ische Runenübungen treffen auf Metta-Meditation\n&nbsp\;\n\nErlebe die kr
 aftvolle Welt der Runen und die heilsame Wirkung von Meditation und erfahr
 e wie sie dich sanft und effektiv bei deiner Gesundheit unterstützen kön
 nen.\n\nIn dieser Einheit verbinden wir:\n\n 	Klarheit &amp\; Erdung\n 	En
 ergiefluss &amp\; Ausrichtung\n 	Herzöffnung &amp\; Mitgefühl\n 	innere 
 Ordnung &amp\; friedvolle Präsenz\n\nEs ist eine Einladung\, dich mit der
  Kraft uralter Symbole und der Weite deines Herzens zu verbinden.\n\nEnerg
 etische Runenübungen lösen nachweislich Muskelverspannungen und Muskelbl
 ockaden. Sie aktiveren die Drüsen\, wodurch wichtige Botenstoffe wie Horm
 one verstärkt ausgeschüttet werden und wirken als kraftvolles Gesamtpake
 t für deine Gesundheit. Die  Metta-Meditation verbindet dich liebevoll 
 mit deinem Herzen und entspannt dein Nervensystem.\nstill werden . Kraft s
 chöpfen . weich werden . stark sein \n&nbsp\;\n\nWertschätzungsbeitrag:
  € 22\,00\n\nEine Anmeldung unter info@roswithaschoen.com ist erforderli
 ch.\n\n&nbsp\;\n\n&nbsp\;\n\n&nbsp\;\n\n&nbsp\;
ATTACH;FMTTYPE=image/jpeg:https://www.roswithaschoen.com/wp-content/upload
 s/2025/04/Kopie-von-Kopie-von-Kopie-von-Dein-Abschnittstext-e1744619766923
 .png
CATEGORIES:Inner Work,Specials
LOCATION:Seminarium. Zentrum für Begegnung und Herzlichkeit\, Rettenbachst
 raße 13\, Leibnitz \, 8430 \, Österreich
X-APPLE-STRUCTURED-LOCATION;VALUE=URI;X-ADDRESS=Rettenbachstraße 13\, Leib
 nitz \, 8430 \, Österreich;X-APPLE-RADIUS=100;X-TITLE=Seminarium. Zentrum
  für Begegnung und Herzlichkeit:geo:0,0
END:VEVENT
BEGIN:VTIMEZONE
TZID:Europe/Vienna
X-LIC-LOCATION:Europe/Vienna
BEGIN:DAYLIGHT
DTSTART:20250330T030000
TZOFFSETFROM:+0100
TZOFFSETTO:+0200
TZNAME:CEST
END:DAYLIGHT
END:VTIMEZONE
END:VCALENDAR