BEGIN:VCALENDAR
VERSION:2.0
PRODID:-//wp-events-plugin.com//7.2.3.1//EN
TZID:Europe/Vienna
X-WR-TIMEZONE:Europe/Vienna
BEGIN:VEVENT
UID:1899@roswithaschoen.com
DTSTART;TZID=Europe/Vienna:20250422T190000
DTEND;TZID=Europe/Vienna:20250422T210000
DTSTAMP:20250320T151046Z
URL:https://www.roswithaschoen.com/termine/kahi-integrations-call-modul-6-
 online-via-zoom/
SUMMARY:KAHI Integrations-Call Modul 6\, online via Zoom
DESCRIPTION:\nKAHI Intergrations-Call Modul 6\nDer Informationskörper\, Ko
 nflikte\, Allergien \n\n\nKahi Integrations-Calls sind  praxisorientiert
 e Sessions\, die dir einen Raum bietet\, um die Anwendungen des jeweiligen
  Moduls gemeinsam mit anderen Kahi Life Coaches zu üben.\nHier kannst du:
 \n\n\n 	Praktisch anwenden: Du übst die spezifischen Anwendungen des jewe
 iligen Moduls\, tauscht dich aus und klärst Unsicherheiten.\n 	Sicherheit
  gewinnen: Durch den Austausch stärkst du dein Vertrauen in deine Heilarb
 eit und förderst dein persönliches Wachstum.\n 	Effizient arbeiten: Wir 
 konzentrieren uns immer nur auf die Anwendungen des jeweiligen Moduls\, um
  klar und strukturiert zu üben.\n\n\nWichtige Voraussetzungen:\n\n\n 	Du 
 hast das jeweilige Modul bei Tom Peter Rietdorf besucht.\n 	Du benötigst 
 einen Computer mit Zoom\, einem funktionierenden Mikrofon und einer Kamera
 .\n\n\nWarum solltest du mitmachen?\n\n\n 	Es geht nicht darum\, ein Exper
 te zu sein – sondern darum\, ins Tun zu kommen.\n 	Du findest ein sicher
 es Umfeld\, in dem du Fragen stellen und Unsicherheiten klären kannst.\n 
 	Vernetze dich mit anderen\, die denselben Weg gehen – lerne voneinander
  und lass dich inspirieren.\n 	Der Fokus liegt darauf\, das Gelernte prakt
 isch umzusetzen und gemeinsam zu wachsen.\n\n\nWichtig:\n\n\n 	Du musst ke
 in Experte sein – wichtig ist deine Bereitschaft dein Wissen einzubringe
 n und offen mit anderen zu kommunizieren.\n 	Die Kahi Integration Calls we
 rden nicht aufgezeichnet.\n 	Anmeldung unter info@roswithaschoen.com \n\n
 &nbsp\;\n********\nKahi Integrations-Call  🧡\nfindet als Zoom-Meeting 
 live online statt\nMeeting-ID: 898 7514 1602\nKenncode: Kahi\nDauer: ca. 2
  Stunden\nWertschätzungsbeitrag: € 49\,00\n********\n&nbsp\;\nDeinen We
 rtschätzungsbeitrag kannst du ganz einfach entweder\nper PayPal\, mit der
  Option „Geld an Freunde senden“ (so fallen keine Gebühren an)\noder 
 per Überweisung bezahlen.\nDanke 🫶\nIch freu mich auf dich und darauf\
 , gemeinsam zu wachsen.\nRoswitha\n(Kahi Head Coach) \n\n\n
ATTACH;FMTTYPE=image/jpeg:https://www.roswithaschoen.com/wp-content/upload
 s/2025/03/Kopie-von-Dein-Abschnittstext-3-e1742483313396.png
LOCATION:Bei dir Zuhause\, online per Zoom\, Online \, per Zoom \, Österre
 ich
X-APPLE-STRUCTURED-LOCATION;VALUE=URI;X-ADDRESS=Online \, per Zoom \, Öste
 rreich;X-APPLE-RADIUS=100;X-TITLE=Bei dir Zuhause\, online per Zoom:geo:0,
 0
END:VEVENT
BEGIN:VTIMEZONE
TZID:Europe/Vienna
X-LIC-LOCATION:Europe/Vienna
BEGIN:DAYLIGHT
DTSTART:20250330T030000
TZOFFSETFROM:+0100
TZOFFSETTO:+0200
TZNAME:CEST
END:DAYLIGHT
END:VTIMEZONE
END:VCALENDAR