BEGIN:VCALENDAR
VERSION:2.0
PRODID:-//wp-events-plugin.com//7.2.3.1//EN
TZID:Europe/Vienna
X-WR-TIMEZONE:Europe/Vienna
BEGIN:VEVENT
UID:2020@roswithaschoen.com
DTSTART;TZID=Europe/Vienna:20250617T190000
DTEND;TZID=Europe/Vienna:20250617T200000
DTSTAMP:20250614T080255Z
URL:https://www.roswithaschoen.com/termine/impulsreading-deine-bestimmung-
 online-via-zoom/
SUMMARY:Impulsreading - "Deine Bestimmung "\, online via Zoom
DESCRIPTION:Impulsreading - Deine Bestimmung\nkostenlos &amp\; live via Zoo
 m\n&nbsp\;\nIn dir liegt eine tiefe Wahrheit - deine Bestimmung\, die nich
 t gelernt\, sondern erinnert werden will.  Sie beschreibt\, was dich im K
 ern antreibt und warum du überhaupt tust\, was du tust.\nDieses kostenfre
 ie Impulsreading öffnet dir einen Raum\, dem bewusst ein Stück näher zu
  kommen.\nMit Hilfe von Human Design schauen wir gemeinsam auf deine Besti
 mmung - nicht als Konzept\, sondern als echten Ausdruck deines Wesens.\nWa
 s dich erwartet:\n\n\n 	Freiwillige Live Impuls-Readings ausgewählter Cha
 rts\n 	Klarheit über deine Bestimmung und dein innerstes Warum\n 	ein bew
 usster Blick auf Licht- und Schatten - ohne Bewertung\, sondern als Teil d
 eines Weges\n\nWann: Dienstag\, 17. Juni 2025 | 19:00 Uhr live via Zoom\n\
 nAnmeldung: unter: info@roswithaschoen.com\n\nIch freu mich auf dich 🧡\
 ,\nRoswitha
ATTACH;FMTTYPE=image/jpeg:https://www.roswithaschoen.com/wp-content/upload
 s/2025/06/Kopie-von-Seelenzauber-NEU-Instagram-Post-2-e1749887619963.jpg
CATEGORIES:Inner Work,Specials
LOCATION:Bei dir Zuhause\, online per Zoom\, Online \, per Zoom \, Österre
 ich
X-APPLE-STRUCTURED-LOCATION;VALUE=URI;X-ADDRESS=Online \, per Zoom \, Öste
 rreich;X-APPLE-RADIUS=100;X-TITLE=Bei dir Zuhause\, online per Zoom:geo:0,
 0
END:VEVENT
BEGIN:VTIMEZONE
TZID:Europe/Vienna
X-LIC-LOCATION:Europe/Vienna
BEGIN:DAYLIGHT
DTSTART:20250330T030000
TZOFFSETFROM:+0100
TZOFFSETTO:+0200
TZNAME:CEST
END:DAYLIGHT
END:VTIMEZONE
END:VCALENDAR