BEGIN:VCALENDAR
VERSION:2.0
PRODID:-//wp-events-plugin.com//7.2.3.1//EN
TZID:Europe/Vienna
X-WR-TIMEZONE:Europe/Vienna
BEGIN:VEVENT
UID:1888@roswithaschoen.com
DTSTART;TZID=Europe/Vienna:20250325T190000
DTEND;TZID=Europe/Vienna:20250325T203000
DTSTAMP:20250325T120415Z
URL:https://www.roswithaschoen.com/termine/human-design-basics-live-online
 -via-zoom/
SUMMARY:Entdecke deine einzigartige Energie - Impulsvortrag\, online via Zo
 om
DESCRIPTION:Entdecke deine einzigartige Energie \nVerstehe dich selbst &am
 p\; lebe authentisch \nHast du dich schon mal gefragt\, warum du auf manch
 e Dinge voller Energie und Freude reagierst\, während andere dich erschö
 pfen? Oder warum du in bestimmten Situationen unsicher bist\, obwohl du ti
 ef im Inneren die Antwort kennst?\n\nJeder Mensch bringt eine  einzigarti
 ge Energie mit - doch oft leben wir nicht in unserer vollen Kraft. Hier ko
 mmt Human Design ins Spiel. Es verbindet alte Weisheit mit moderner Wissen
 schaft und hilft dir\, deine individuelle Energie zu erkennen\, bessere En
 tscheidungen zu treffen und unbewusste äußere Einflüsse zu minimieren.\
 n\nIn meinem kostenfreien Impulsvortrag lade ich dich ein\, mehr über die
 se spannende Methode zu erfahren. Du wirst lernen:\n\n 	Was Human Design i
 st und wie es dir im Alltag helfen kann\n 	Die 5 Energietypen - und warum 
 es so wichtig ist\, deinen zu kennen\n 	Die 9 Energiezentren - und was sie
  über deine Stärken und Herausforderungen verraten\n 	Strategie &amp\; i
 nnere Autorität - deine Schlüssel für gute Entscheidungen und mehr Flow
  im Leben\n\n********\nWann:\n25. März 2025\, um 19:00 Uhr\nWo:\nonline v
 ia Zoom \n         Meeting-ID 881 3913 9033\n\nkostenfrei &amp\; ohne
  Anmeldung\n HIER kannst du  deine kostenlose Bodygrafik (dein Human Des
 ign Chart) berechnen und downloaden - was deine Körpergrafik über dich v
 errät\, erfährst du im Vortrag. ✨\n&nbsp\;\n\nHuman Design kenne ich s
 eit über 20 Jahre und ich hatte die Gelegenheit\, unter anderem auch dire
 kt bei Ra Uru Hu\, dem Begründer von Human Design\, zu lernen. Meine Hera
 ngehensweise ist zudem stark von Horst Krohne geprägt\, wodurch sich mein
  Verständnis mit Aspekten des geistigen Heilens verbindet.\n\n&nbsp\;\nIc
 h freu mich\, wenn du dabei bist. 🤗\nRoswitha \n&nbsp\;\n\n&nbsp\;\n
ATTACH;FMTTYPE=image/jpeg:https://www.roswithaschoen.com/wp-content/upload
 s/2025/03/Dein-Abschnittstext-e1742470672807.png
CATEGORIES:Specials
LOCATION:Bei dir Zuhause\, online per Zoom\, Online \, per Zoom \, Österre
 ich
X-APPLE-STRUCTURED-LOCATION;VALUE=URI;X-ADDRESS=Online \, per Zoom \, Öste
 rreich;X-APPLE-RADIUS=100;X-TITLE=Bei dir Zuhause\, online per Zoom:geo:0,
 0
END:VEVENT
BEGIN:VTIMEZONE
TZID:Europe/Vienna
X-LIC-LOCATION:Europe/Vienna
BEGIN:STANDARD
DTSTART:20241027T020000
TZOFFSETFROM:+0200
TZOFFSETTO:+0100
TZNAME:CET
END:STANDARD
END:VTIMEZONE
END:VCALENDAR