BEGIN:VCALENDAR
VERSION:2.0
PRODID:-//wp-events-plugin.com//7.2.3.1//EN
TZID:Europe/Vienna
X-WR-TIMEZONE:Europe/Vienna
BEGIN:VEVENT
UID:1774@roswithaschoen.com
DTSTART;TZID=Europe/Vienna:20250703T180000
DTEND;TZID=Europe/Vienna:20250703T190000
DTSTAMP:20250222T174014Z
URL:https://www.roswithaschoen.com/termine/frizzante-yoga-auf-der-herrgott
 hoe-stainz/
SUMMARY:Frizzante Yoga auf der HerrgottHÖ\, Stainz
DESCRIPTION:\n\n\n\n\nEin Hoch auf das gute Leben auf allen Ebenen\n\n\n\nG
 anz unter diesem Motto steht die einfach SCHÖN Frizzante-Yoga-Einheit i
 m wunderschönen Restaurant HerrgottHö.\nDich erwartet ein genussvoller A
 bend voller Yoga\, Lebensfreude\, Entspannung\,\nGeselligkeit und köstlic
 hen kulinarischen Speisen.\n\n\n\nDie einzigartige Dachterrasse vom Herrgo
 ttHÖ ist exklusiv für unsere Yogaeinheit reserviert.\nIn dieser ungestö
 rten\, privaten Atmosphäre praktizieren wir eine herzerfrischende Yogaein
 heit\, \nstärken Körper und Geist und tanken neue Energie.\nNach der Ei
 nheit fühlst du dich belebt und entspannt zugleich.\nDie Yogaeinheit ist 
 für Yoga Lovers und Yoga Beginners geeignet.\n\n\n\n\nEin gutes Glä
 schen Frizzante und die traumhafte Aussicht in die liebliche Weststeier
 mark runden die Einheit ab\nund bereiten dich sanft auf das genussvolle Es
 sen vor.\n\n\n\n\nDenn die Küche vom HerrgottHö verwöhnt dich mit e
 inem kulinarischen Traum\, dem „Winzertisch“\,\nder alle deine Sinne
  belebt und deinen Körper nährt.\n\n\n\n ********\n\n\n\n\nFür wen:\
 nFür alle Menschen\, die das gute Leben lieben\n\n\n\n\nWann:\nDonnerstag
 \, 03. Juli 2024\nab 17:00 Uhr come together im HerrgottHö\n18:00 – 19
 :00 Uhr einfach SCHÖN Yogaeinheit auf der Dachterrasse\ndanach kulinarisc
 hes Genießen vom HerrgottHö Winzertisch\n\n\n\nSollten uns die Wettergö
 tter mit flüssigem Sonnenschein ⛈️ überraschen\, findet die Yoga-Ein
 heit drinnen statt.\n\n\nHIER  findest du – zum Schmökern und Vorfreue
 n – einen kleinen Einblick vom einfach SCHÖN Frizzante-Yoga 2024\n\n\n
 Wo:\nHerrgottHö – Restaurant\nKirchberg 63a\n8511 St. Stefan ob Stainz\
 nwww.herrgott.at\n\n\n\nACHTUNG: Teilnehmerzahl ist begrenzt\ndaher gleich
  HIER online buchen\, damit dein Platz gesichert ist.\n********\n\n\n\nA
 ll inklusive: EUR 83\,00 pro Person\n(Yoga\,1 Glas Frizzante und 1 kulinar
 ischer Winzertisch)\nFür Begleitpersonen ohne Yoga: EUR 58\,00 pro Person
 \n(1 Glas Frizzante und 1 kulinarischer Winzertisch)\n\n\n\n\n\n\n
ATTACH;FMTTYPE=image/jpeg:https://www.roswithaschoen.com/wp-content/upload
 s/2025/02/1-e1739972335486.jpg
CATEGORIES:Specials,Yoga
LOCATION:HerrgottHÖ\, Kirchberg 63a\, St. Stefan ob Stainz\, 8511 \, Öste
 rreich
X-APPLE-STRUCTURED-LOCATION;VALUE=URI;X-ADDRESS=Kirchberg 63a\, St. Stefan 
 ob Stainz\, 8511 \, Österreich;X-APPLE-RADIUS=100;X-TITLE=HerrgottHÖ:geo
 :0,0
END:VEVENT
BEGIN:VTIMEZONE
TZID:Europe/Vienna
X-LIC-LOCATION:Europe/Vienna
BEGIN:DAYLIGHT
DTSTART:20250330T030000
TZOFFSETFROM:+0100
TZOFFSETTO:+0200
TZNAME:CEST
END:DAYLIGHT
END:VTIMEZONE
END:VCALENDAR