BEGIN:VCALENDAR
VERSION:2.0
PRODID:-//wp-events-plugin.com//7.2.3.1//EN
TZID:Europe/Vienna
X-WR-TIMEZONE:Europe/Vienna
BEGIN:VEVENT
UID:1830@roswithaschoen.com
DTSTART;TZID=Europe/Vienna:20250410T184500
DTEND;TZID=Europe/Vienna:20250410T200000
DTSTAMP:20250307T164501Z
URL:https://www.roswithaschoen.com/termine/fit-durch-den-winter-mit-yin-ya
 ng-yoga-gabersdorf-2025-04-10/
SUMMARY:Fit in den Frühling mit Yin & Yang Yoga\, Gabersdorf
DESCRIPTION:Anmeldung bei Angelika Klapsch unter vpfrauen-gabersdorf@gmx.at
  oder +43 664 14 444 06.\n\nEinzeleinheit um nur  € 20\,00 möglich. 
 🤗
ATTACH;FMTTYPE=image/jpeg:https://www.roswithaschoen.com/wp-content/upload
 s/2025/03/Kopie-von-Kopie-von-Kopie-von-Kopie-von-Kopie-von-Blue-Light-And
 -Black-Modern-Travel-Agent-Flyer-5-e1741365887787.png
CATEGORIES:Yoga
LOCATION:Sportkulturhaus Gabersdorf\, Gabersdorf 121 \, Gabersdorf \, 8424 
 \, Österreich
X-APPLE-STRUCTURED-LOCATION;VALUE=URI;X-ADDRESS=Gabersdorf 121 \, Gabersdor
 f \, 8424 \, Österreich;X-APPLE-RADIUS=100;X-TITLE=Sportkulturhaus Gabers
 dorf:geo:0,0
END:VEVENT
BEGIN:VTIMEZONE
TZID:Europe/Vienna
X-LIC-LOCATION:Europe/Vienna
BEGIN:DAYLIGHT
DTSTART:20250330T030000
TZOFFSETFROM:+0100
TZOFFSETTO:+0200
TZNAME:CEST
END:DAYLIGHT
END:VTIMEZONE
END:VCALENDAR