BEGIN:VCALENDAR
VERSION:2.0
PRODID:-//wp-events-plugin.com//7.2.3.1//EN
TZID:Europe/Vienna
X-WR-TIMEZONE:Europe/Vienna
BEGIN:VEVENT
UID:1753@roswithaschoen.com
DTSTART;TZID=Europe/Vienna:20250220T184500
DTEND;TZID=Europe/Vienna:20250220T200000
DTSTAMP:20250118T222624Z
URL:https://www.roswithaschoen.com/termine/fit-durch-den-winter-mit-yin-ya
 ng-yoga-gabersdorf-2-2025-02-20/
SUMMARY:Fit durch den Winter mit Yin & Yang Yoga\, Gabersdorf
DESCRIPTION:Anmeldung bei Angelika Klapsch unter vpfrauen-gabersdorf@gmx.at
  oder +43 664 14 444 06.\n\nEinzeleinheit um nur  € 20\,00 möglich. 
 🤗
ATTACH;FMTTYPE=image/jpeg:https://www.roswithaschoen.com/wp-content/upload
 s/2025/01/Yoga-Gabersdorf-Feb_Maerz-25-e1737116999312.png
CATEGORIES:Yoga
LOCATION:Sportkulturhaus Gabersdorf\, Gabersdorf 121 \, Gabersdorf \, 8424 
 \, Österreich
X-APPLE-STRUCTURED-LOCATION;VALUE=URI;X-ADDRESS=Gabersdorf 121 \, Gabersdor
 f \, 8424 \, Österreich;X-APPLE-RADIUS=100;X-TITLE=Sportkulturhaus Gabers
 dorf:geo:0,0
END:VEVENT
BEGIN:VTIMEZONE
TZID:Europe/Vienna
X-LIC-LOCATION:Europe/Vienna
BEGIN:STANDARD
DTSTART:20241027T020000
TZOFFSETFROM:+0200
TZOFFSETTO:+0100
TZNAME:CET
END:STANDARD
END:VTIMEZONE
END:VCALENDAR