BEGIN:VCALENDAR
VERSION:2.0
PRODID:-//wp-events-plugin.com//7.2.3.1//EN
TZID:Europe/Vienna
X-WR-TIMEZONE:Europe/Vienna
BEGIN:VEVENT
UID:1901@roswithaschoen.com
DTSTART;TZID=Europe/Vienna:20250425T190000
DTEND;TZID=Europe/Vienna:20250425T203000
DTSTAMP:20250422T202029Z
URL:https://www.roswithaschoen.com/termine/energie-trifft-potenzial-kosten
 freie-masterclass-online-via-zoom/
SUMMARY:Energie trifft Potenzial - Human Design Basics\, online via Zoom
DESCRIPTION:Human Design Basics\nein Blick auf deine innere Landkarte \n 
 \nHast du dich schon einmal gefragt\, warum du auf manche Dinge voller Ene
 rgie und Freude reagierst\, während andere dich auslaugen und erschöpfen
 ? Oder warum du in bestimmten Situationen unsicher bist\, obwohl du tief i
 m Inneren die Antwort kennst? Die Antwort ist viel einfacher als du vielle
 icht denkst\, sie liegt in dir\, in deinem "Energie-Profil".\n\nJeder Mens
 ch bringt eine einzigartige Energie mit - doch oft leben wir nicht in unse
 rer vollen Kraft. Hier kommt Human Design ins Spiel. Es hilft dir\, deine 
 individuelle Energie zu erkennen\, bessere Entscheidungen zu treffen und W
 iderstände zu minimieren.\n\nAm 25. April 2025 lade dich ein\, zu einem 
  Abend voller Impulse und Inspiration\, in dem du erfährst was Human Des
 ign ist und wie es dir dienlich sein kann. Du bekommst einen klaren Einbli
 ck:\n\n 	wie du Entscheidungen treffen kannst\, die wirklich zu dir passen
 \n 	warum du nicht wie "alle anderen" funktionierst\n 	wie du beginnst \, 
 dir selbst wieder mehr zu vertrauen\n\n&nbsp\;\n********\nFür wen:\nFür 
 alle\, die mehr über sich selbst erfahren möchten - jenseits von Schubla
 den.\n\nWann:\n25. April 2025\, um 19:00 Uhr\nDauer:\nca. 1\,5 Stunden\nWo
 :\nonline via Zoom\n(kein Replay) \n\nAnmeldung\nunter: info@roswithascho
 en.com \n&nbsp\;\n\nIch kenne Human Design seit über 20 Jahre und  hatt
 e die Gelegenheit\, unter anderem auch direkt bei Ra Uru Hu\, dem Begründ
 er von Human Design\, zu lernen. Meine Herangehensweise ist stark von mein
 en eigenen Erfahrungen und unterschiedlichen Heil-Methoden geprägt. Dadur
 ch verbinde ich Human Design mit ganzheitlichen Aspekten und einem tiefen 
 Verständnis für Energie und Transformation.\nLass dich inspirieren und e
 ntdecke\, wie du dein Leben stimmig und in Einklang mit deiner inneren Kra
 ft gestalten kannst.\nIch freu mich\, wenn du dabei bist. 🤗\nRoswitha\n
 &nbsp\;\n HIER kannst du  deine kostenlose Bodygrafik (dein Human Design
  Chart) berechnen und downloaden - was deine Körpergrafik über dich verr
 ät\, erfährst du im Vortrag. ✨\n&nbsp\;\n\nWas TeilnehmerInnen sagen:\
 n\n 	vielen Dank für dieses wertvolle Wissen\, liebe Roswitha\n 	so inter
 essant und enorm informativ und zugleich mega wertvoll\n 	wunderbar und an
 schaulich erklärt\n 	danke für diesen interessanten Abend und die großz
 ügige Vermittlung von so viel Wissen\, das du hast\n 	danke für die aufs
 chlussreiche Erklärung und den vielen wertvollen Informationen \n\n&nbsp
 \;\n
ATTACH;FMTTYPE=image/jpeg:https://www.roswithaschoen.com/wp-content/upload
 s/2025/03/Dein-Abschnittstext-4-e1744789102485.png
CATEGORIES:Specials
LOCATION:Bei dir Zuhause\, online per Zoom\, Online \, per Zoom \, Österre
 ich
X-APPLE-STRUCTURED-LOCATION;VALUE=URI;X-ADDRESS=Online \, per Zoom \, Öste
 rreich;X-APPLE-RADIUS=100;X-TITLE=Bei dir Zuhause\, online per Zoom:geo:0,
 0
END:VEVENT
BEGIN:VTIMEZONE
TZID:Europe/Vienna
X-LIC-LOCATION:Europe/Vienna
BEGIN:DAYLIGHT
DTSTART:20250330T030000
TZOFFSETFROM:+0100
TZOFFSETTO:+0200
TZNAME:CEST
END:DAYLIGHT
END:VTIMEZONE
END:VCALENDAR