BEGIN:VCALENDAR
VERSION:2.0
PRODID:-//wp-events-plugin.com//7.0.4//EN
TZID:Europe/Vienna
X-WR-TIMEZONE:Europe/Vienna
BEGIN:VEVENT
UID:2105@roswithaschoen.com
DTSTART;TZID=Europe/Vienna:20250920T090000
DTEND;TZID=Europe/Vienna:20250920T120000
DTSTAMP:20250804T170700Z
URL:https://www.roswithaschoen.com/termine/duft-yoga-brunch-bellas-balance
 -aromawelten-st-nikolai-ob-drassling/
SUMMARY:Duft & Yoga Brunch\, Bellas Balance- & Aromawelten\, St. Nikolai ob
  Draßling
DESCRIPTION:DUFT &amp\; YOGA BRUNCH\nein sinnlicher Morgen mit Isabella Lut
 tenberger &amp\; Roswitha Schön \nEinatmen. Ankommen. Aufblühen.Gönn d
 ir und deinen Liebsten eine kleine Auszeit vom Alltag – mit sanften Bewe
 gungen\, achtsamen Momenten und einer Prise Magie.\n🧘‍♂️ Sanftes
  Yoga unter freiem HimmelDie 60-minütige Yogaeinheit ist eine liebevolle 
 Einladung\, dir selbst achtsam zu begegnen. Du brauchst keine Vorkenntniss
 e – nur deinen Atem.\n🌸 Ätherische Düfte\, die dein Herz berühren
 Bella begleiten dich mit ausgewählten ätherischen Ölen\, die Körper\, 
 Geist und Seele in Balance bringen – intuitiv\, nährend und kraftvoll.\
 n🍁 Herbst-Ritual: Wünsche dir wasZum Herbstbeginn öffnen wir bewusst
  einen Raum für Neuausrichtung: Altes loslassen. Neues einladen. Deine In
 tention setzen – getragen vom Duft.\n🥐 Herzvoller Brunch von BellaIm
  Anschluss genießt du ein liebevoll zubereitetes Brunch Buffet mit gesund
 en\, feinen Köstlichkeiten und viel Zeit zum Plaudern.\n********\nFür we
 n ist der Duft &amp\; Yoga Brunch: Für alle\, die sich nach Verbindung\,
  innerer Balance und neuen Impulsen sehnen.Wann &amp\; Wo: Samstag\, 20. 
 September 2025\, 09:00 Uhr\, Bellas Balance- und Aromawelten\, 8422 St. Ni
 kolai ob Draßling\nBeitrag: € 35\,00 inkl. Brunch Buffet\nAnmeldung: b
 ella.luttenberger@gmail.com  \n
ATTACH;FMTTYPE=image/jpeg:https://www.roswithaschoen.com/wp-content/upload
 s/2025/08/Beige-Braun-Elegant-Aesthetisch-Restaurant-Neujahr-Brunch-Werbun
 g-Ankuendigung-Flyer--e1754327164278.png
CATEGORIES:Specials,Yoga
LOCATION:Belllas Balance- und Aromawelten\, St. Nikolai o. Draßling 152\, 
 St. Veit i. d. Südsteiermark \, 8422\, Österreich
X-APPLE-STRUCTURED-LOCATION;VALUE=URI;X-ADDRESS=St. Nikolai o. Draßling 15
 2\, St. Veit i. d. Südsteiermark \, 8422\, Österreich;X-APPLE-RADIUS=100
 ;X-TITLE=Belllas Balance- und Aromawelten:geo:0,0
END:VEVENT
BEGIN:VTIMEZONE
TZID:Europe/Vienna
X-LIC-LOCATION:Europe/Vienna
BEGIN:DAYLIGHT
DTSTART:20250330T030000
TZOFFSETFROM:+0100
TZOFFSETTO:+0200
TZNAME:CEST
END:DAYLIGHT
END:VTIMEZONE
END:VCALENDAR