BEGIN:VCALENDAR
VERSION:2.0
PRODID:-//wp-events-plugin.com//7.0.4//EN
TZID:Europe/Vienna
X-WR-TIMEZONE:Europe/Vienna
BEGIN:VEVENT
UID:2508@roswithaschoen.com
DTSTART;TZID=Europe/Vienna:20260613T090000
DTEND;TZID=Europe/Vienna:20260613T101500
DTSTAMP:20260220T123357Z
URL:https://www.roswithaschoen.com/termine/dragon-dance-yoga-lani-leibnitz
 -4/
SUMMARY:Dragon Dance Yoga\, LANI Leibnitz
DESCRIPTION:Yoga „Dragon Dance“\nEin kraftvoller Flow aus Yin und Yang.
 \nBewusster Atem\, klare Sequenzen und dynamische Bewegungen bringen deine
 n Energiefluss ins Gleichgewicht.\nDu stärkst deinen Körper\, klärst de
 inen Geist und bleibst in deiner Mitte.\nDu wirst schwitzen\, und dich kra
 ftvoll und lebendig fühlen.\nEin energievoller Start ins Wochenende.\nDie
  Einheit findet ab 4 TeilnehmerInnen statt.\nAnmeldung direkt bei LANI. 
ATTACH;FMTTYPE=image/jpeg:https://www.roswithaschoen.com/wp-content/upload
 s/2026/02/Bildschirmfoto-2026-02-20-um-13.30.09.png
CATEGORIES:Yoga
LOCATION:LANI PilatesClub\, Leibnitz\, Am Kögel 1\, 3. OG\, Leibnitz \, St
 eiermark \, 8430 \, Österreich
X-APPLE-STRUCTURED-LOCATION;VALUE=URI;X-ADDRESS=Am Kögel 1\, 3. OG\, Leibn
 itz \, Steiermark \, 8430 \, Österreich;X-APPLE-RADIUS=100;X-TITLE=LANI P
 ilatesClub\, Leibnitz:geo:0,0
END:VEVENT
BEGIN:VTIMEZONE
TZID:Europe/Vienna
X-LIC-LOCATION:Europe/Vienna
BEGIN:DAYLIGHT
DTSTART:20260329T030000
TZOFFSETFROM:+0100
TZOFFSETTO:+0200
TZNAME:CEST
END:DAYLIGHT
END:VTIMEZONE
END:VCALENDAR