BEGIN:VCALENDAR
VERSION:2.0
PRODID:-//wp-events-plugin.com//7.2.3.1//EN
TZID:Europe/Vienna
X-WR-TIMEZONE:Europe/Vienna
BEGIN:VEVENT
UID:1900@roswithaschoen.com
DTSTART;TZID=Europe/Vienna:20250426T093000
DTEND;TZID=Europe/Vienna:20250426T104500
DTSTAMP:20250323T072532Z
URL:https://www.roswithaschoen.com/termine/dragon-dance-die-kraftvolle-dyn
 amik-des-yin-yoga-raum-fuer-yoga-mehr-leibnitz/
SUMMARY:Dragon Dance - die kraftvolle Dynamik des Yin Yoga\, Leibnitz
DESCRIPTION:\nDragon Dance ist  eine Einladung zum Tanz mit dem Leben \n\
 n\n\n\n\n\n\nDragon Dance ist eine Mischung aus indischem und daoistischem
  Yoga\, die durch Paul &amp\; Suzee Grilly\, Bernie Clark und Sarah Powers
  entwickelt wurde.\n\nEs ist eine dynamische und schweißtreibende Praxis\
 , die den Energiefluss durch konzentrierte Aufmerksamkeit\, bewussten Atem
  und kraftvolle Bewegungen stimuliert und den gesamten Körper trainiert.\
 n\nEin herzerfrischender Flow\, der das Bewusstsein für den Energiefluss 
 in uns schult und uns erlaubt diesen zu erhöhen und gezielt zu lenken.\n\
 nDragon Dance\, der freurig-dynamsiche Yang-Zyklus des Yin Yoga … du wir
 st schwitzen und du wirst ihn lieben.\n\n\nBitte mitbringen:\n\n 	Yogamatt
 e\n 	bequeme Yogabekleidung\n 	warme Socken\, Pulli\n 	Decke für die Schl
 ussentspannung\n\n\n\n\n********\n\n\n 	Datum: 26. April 2025\n 	Dauer: 75
  Minuten\, 09:30 - 10:45 Uhr\n 	Ort: Raum für Yoga\, Bewegung &amp\; Mehr
 \, 8430 Leibnitz\, Grazergasse 50\n 	Investition: Dragon Dance kannst du m
 it deinem 8er-Block nutzen oder als Einzeleinheit für € 20\,00 buchen\n
  	Eine Anmeldung unter info@roswithaschoen.com ist erforderlich.\n\n\n\n\n
 \n\n\n
ATTACH;FMTTYPE=image/jpeg:https://www.roswithaschoen.com/wp-content/upload
 s/2025/03/2-1-e1742647752208.png
CATEGORIES:Specials,Yoga
LOCATION:Raum für Yoga\, Bewegung & Mehr\, Grazerstraße 50 \, Leibnitz \,
  Steiermark \, 8430 \, Österreich
X-APPLE-STRUCTURED-LOCATION;VALUE=URI;X-ADDRESS=Grazerstraße 50 \, Leibnit
 z \, Steiermark \, 8430 \, Österreich;X-APPLE-RADIUS=100;X-TITLE=Raum fü
 r Yoga\, Bewegung & Mehr:geo:0,0
END:VEVENT
BEGIN:VTIMEZONE
TZID:Europe/Vienna
X-LIC-LOCATION:Europe/Vienna
BEGIN:DAYLIGHT
DTSTART:20250330T030000
TZOFFSETFROM:+0100
TZOFFSETTO:+0200
TZNAME:CEST
END:DAYLIGHT
END:VTIMEZONE
END:VCALENDAR