BEGIN:VCALENDAR
VERSION:2.0
PRODID:-//wp-events-plugin.com//7.2.3.1//EN
TZID:Europe/Vienna
X-WR-TIMEZONE:Europe/Vienna
BEGIN:VEVENT
UID:1217@roswithaschoen.com
DTSTART;TZID=Europe/Vienna:20240322T190000
DTEND;TZID=Europe/Vienna:20240322T203000
DTSTAMP:20240210T180404Z
URL:https://www.roswithaschoen.com/termine/detox-your-life-impulsvortrag-u
 eber-ganzheitliches-entgiften-cafe-kathinkas-fresing/
SUMMARY:Detox your life - Impulsvortrag über ganzheitliches Entgiften\, Ca
 fe Kathinka's\, Fresing
DESCRIPTION:
ATTACH;FMTTYPE=image/jpeg:https://www.roswithaschoen.com/wp-content/upload
 s/2024/02/Sinnarium_Detoxen_Kathinkas-Start-19.jpg
CATEGORIES:Specials
LOCATION:Cafe Kathinka's\, Wippelsach 24\, Fresing \, Steiermark \, 8441\, 
 Österreich
X-APPLE-STRUCTURED-LOCATION;VALUE=URI;X-ADDRESS=Wippelsach 24\, Fresing \, 
 Steiermark \, 8441\, Österreich;X-APPLE-RADIUS=100;X-TITLE=Cafe Kathinka'
 s:geo:0,0
END:VEVENT
BEGIN:VTIMEZONE
TZID:Europe/Vienna
X-LIC-LOCATION:Europe/Vienna
BEGIN:STANDARD
DTSTART:20231029T020000
TZOFFSETFROM:+0200
TZOFFSETTO:+0100
TZNAME:CET
END:STANDARD
END:VTIMEZONE
END:VCALENDAR