BEGIN:VCALENDAR
VERSION:2.0
PRODID:-//wp-events-plugin.com//7.2.3.1//EN
TZID:Europe/Vienna
X-WR-TIMEZONE:Europe/Vienna
BEGIN:VEVENT
UID:1885@roswithaschoen.com
DTSTART;TZID=Europe/Vienna:20250412T093000
DTEND;TZID=Europe/Vienna:20250412T103000
DTSTAMP:20250311T120725Z
URL:https://www.roswithaschoen.com/termine/basic-yoga-lani-leibnitz/
SUMMARY:Basic Yoga\, LANI Leibnitz
DESCRIPTION:Dein Einstieg in die Welt des Yoga\nIn dieser Einheit lernst du
  die grundlegenden Yoga-Haltungen\, verbindest sie mit deinem Atem und sp
 ürst\, wie dein Körper sanft gekräftigt und dein Geist entspannt wird.\
 n\nDiese Einheit ist ideal für Yoga-Neulinge und alle\, die ihre Basis fe
 stigen möchten - für mehr Beweglichkeit\, Balance und Wohlbefinden.\n\nA
 nmeldung direkt bei LANI Leibnitz 
ATTACH;FMTTYPE=image/jpeg:https://www.roswithaschoen.com/wp-content/upload
 s/2025/03/Yoga-Lani-e1741692708448.jpg
CATEGORIES:Yoga
LOCATION:LANI PilatesClub\, Leibnitz\, Am Kögel 1\, 3. OG\, Leibnitz \, St
 eiermark \, 8430 \, Österreich
X-APPLE-STRUCTURED-LOCATION;VALUE=URI;X-ADDRESS=Am Kögel 1\, 3. OG\, Leibn
 itz \, Steiermark \, 8430 \, Österreich;X-APPLE-RADIUS=100;X-TITLE=LANI P
 ilatesClub\, Leibnitz:geo:0,0
END:VEVENT
BEGIN:VTIMEZONE
TZID:Europe/Vienna
X-LIC-LOCATION:Europe/Vienna
BEGIN:DAYLIGHT
DTSTART:20250330T030000
TZOFFSETFROM:+0100
TZOFFSETTO:+0200
TZNAME:CEST
END:DAYLIGHT
END:VTIMEZONE
END:VCALENDAR