BEGIN:VCALENDAR
VERSION:2.0
PRODID:-//wp-events-plugin.com//7.0.4//EN
TZID:Europe/Vienna
X-WR-TIMEZONE:Europe/Vienna
BEGIN:VEVENT
UID:2322@roswithaschoen.com
DTSTART;TZID=Europe/Vienna:20260217T173000
DTEND;TZID=Europe/Vienna:20260217T184500
DTSTAMP:20251228T202645Z
URL:https://www.roswithaschoen.com/termine/balanced-yoga-lani-leibnitz-5-2
 026-01-13-2026-01-20-2026-01-27-2026-02-03-2026-02-10-2026-02-17/
SUMMARY:Balanced Yoga\, LANI Leibnitz
DESCRIPTION:Finde deine innere und äußere Mitte.\n\nIn dieser Yoga-Einhei
 t stärkst du deine Balance - körperlich und mental. Durch fließende Bew
 egungen\, gezielte Haltung und bewusste Atmung findest du Stabilität\, Le
 ichtigkeit und innere Ruhe. Du kommst in die Mitte und spürst die Kraft.\
 n\nDie Einheit findet ab 4 TeilnehmerInnen statt\, Anmeldung direkt bei LA
 NI 
ATTACH;FMTTYPE=image/jpeg:https://www.roswithaschoen.com/wp-content/upload
 s/2020/09/Yoga_Bali_10x15-e1668103712377.jpg
CATEGORIES:Yoga
LOCATION:LANI PilatesClub\, Leibnitz\, Am Kögel 1\, 3. OG\, Leibnitz \, St
 eiermark \, 8430 \, Österreich
X-APPLE-STRUCTURED-LOCATION;VALUE=URI;X-ADDRESS=Am Kögel 1\, 3. OG\, Leibn
 itz \, Steiermark \, 8430 \, Österreich;X-APPLE-RADIUS=100;X-TITLE=LANI P
 ilatesClub\, Leibnitz:geo:0,0
END:VEVENT
BEGIN:VTIMEZONE
TZID:Europe/Vienna
X-LIC-LOCATION:Europe/Vienna
BEGIN:STANDARD
DTSTART:20251026T020000
TZOFFSETFROM:+0200
TZOFFSETTO:+0100
TZNAME:CET
END:STANDARD
END:VTIMEZONE
END:VCALENDAR