BEGIN:VCALENDAR
VERSION:2.0
PRODID:-//wp-events-plugin.com//7.0.4//EN
TZID:Europe/Vienna
X-WR-TIMEZONE:Europe/Vienna
BEGIN:VEVENT
UID:2334@roswithaschoen.com
DTSTART;TZID=Europe/Vienna:20260512T173000
DTEND;TZID=Europe/Vienna:20260512T184500
DTSTAMP:20251228T202645Z
URL:https://www.roswithaschoen.com/termine/balanced-yoga-lani-leibnitz-5-2
 026-01-13-2026-01-20-2026-01-27-2026-02-03-2026-02-10-2026-02-17-2026-02-2
 4-2026-03-03-2026-03-10-2026-03-17-2026-03-24-2026-03-31-2026-04-07-2026-0
 4-14-20-05-2026-05-12/
SUMMARY:Balanced Yoga\, LANI Leibnitz
DESCRIPTION:Finde deine innere und äußere Mitte.\n\nIn dieser Yoga-Einhei
 t stärkst du deine Balance - körperlich und mental. Durch fließende Bew
 egungen\, gezielte Haltung und bewusste Atmung findest du Stabilität\, Le
 ichtigkeit und innere Ruhe. Du kommst in die Mitte und spürst die Kraft.\
 n\nDie Einheit findet ab 4 TeilnehmerInnen statt\, Anmeldung direkt bei LA
 NI 
ATTACH;FMTTYPE=image/jpeg:https://www.roswithaschoen.com/wp-content/upload
 s/2020/09/Yoga_Bali_10x15-e1668103712377.jpg
CATEGORIES:Yoga
LOCATION:LANI PilatesClub\, Leibnitz\, Am Kögel 1\, 3. OG\, Leibnitz \, St
 eiermark \, 8430 \, Österreich
X-APPLE-STRUCTURED-LOCATION;VALUE=URI;X-ADDRESS=Am Kögel 1\, 3. OG\, Leibn
 itz \, Steiermark \, 8430 \, Österreich;X-APPLE-RADIUS=100;X-TITLE=LANI P
 ilatesClub\, Leibnitz:geo:0,0
END:VEVENT
BEGIN:VTIMEZONE
TZID:Europe/Vienna
X-LIC-LOCATION:Europe/Vienna
BEGIN:DAYLIGHT
DTSTART:20260329T030000
TZOFFSETFROM:+0100
TZOFFSETTO:+0200
TZNAME:CEST
END:DAYLIGHT
END:VTIMEZONE
END:VCALENDAR