BEGIN:VCALENDAR
VERSION:2.0
PRODID:-//wp-events-plugin.com//7.0.4//EN
TZID:Europe/Vienna
X-WR-TIMEZONE:Europe/Vienna
BEGIN:VEVENT
UID:2162@roswithaschoen.com
DTSTART;TZID=Europe/Vienna:20250812T173000
DTEND;TZID=Europe/Vienna:20250812T184500
DTSTAMP:20251002T084040Z
URL:https://www.roswithaschoen.com/termine/balanced-yoga-lani-leibnitz-2-2
 025-08-12/
SUMMARY:Balanced Yoga\, LANI Leibnitz
DESCRIPTION:Finde deine innere und äußere Mitte \nIn dieser Yoga-Einheit
  stärkst du deine Balance - körperlich und mental.\nDurch fließende Bew
 egungen\, gezielte Haltung und bewusste Atmung\nfindest du Stabilität\, L
 eichtigkeit und innere Ruhe.\nDu kommst in deine Mitte und spürst deine K
 raft.\nDie Einheit ist für Yoga-Beginners und Yoga-Lovers geeignet und fi
 ndet ab 4 TeilnehmerInnen statt.\nAnmeldung direkt bei LANI Leibnitz 
ATTACH;FMTTYPE=image/jpeg:https://www.roswithaschoen.com/wp-content/upload
 s/2025/03/2.png
CATEGORIES:Yoga
LOCATION:LANI PilatesClub\, Leibnitz\, Am Kögel 1\, 3. OG\, Leibnitz \, St
 eiermark \, 8430 \, Österreich
X-APPLE-STRUCTURED-LOCATION;VALUE=URI;X-ADDRESS=Am Kögel 1\, 3. OG\, Leibn
 itz \, Steiermark \, 8430 \, Österreich;X-APPLE-RADIUS=100;X-TITLE=LANI P
 ilatesClub\, Leibnitz:geo:0,0
END:VEVENT
BEGIN:VTIMEZONE
TZID:Europe/Vienna
X-LIC-LOCATION:Europe/Vienna
BEGIN:DAYLIGHT
DTSTART:20250330T030000
TZOFFSETFROM:+0100
TZOFFSETTO:+0200
TZNAME:CEST
END:DAYLIGHT
END:VTIMEZONE
END:VCALENDAR